BEGIN:VCALENDAR
VERSION:2.0
PRODID:-//Unser Seligenstadt - ECPv6.15.20//NONSGML v1.0//EN
CALSCALE:GREGORIAN
METHOD:PUBLISH
X-WR-CALNAME:Unser Seligenstadt
X-ORIGINAL-URL:https://www.unser-seligenstadt.de
X-WR-CALDESC:Veranstaltungen für Unser Seligenstadt
REFRESH-INTERVAL;VALUE=DURATION:PT1H
X-Robots-Tag:noindex
X-PUBLISHED-TTL:PT1H
BEGIN:VTIMEZONE
TZID:Europe/Paris
BEGIN:DAYLIGHT
TZOFFSETFROM:+0100
TZOFFSETTO:+0200
TZNAME:CEST
DTSTART:20250330T010000
END:DAYLIGHT
BEGIN:STANDARD
TZOFFSETFROM:+0200
TZOFFSETTO:+0100
TZNAME:CET
DTSTART:20251026T010000
END:STANDARD
BEGIN:DAYLIGHT
TZOFFSETFROM:+0100
TZOFFSETTO:+0200
TZNAME:CEST
DTSTART:20260329T010000
END:DAYLIGHT
BEGIN:STANDARD
TZOFFSETFROM:+0200
TZOFFSETTO:+0100
TZNAME:CET
DTSTART:20261025T010000
END:STANDARD
BEGIN:DAYLIGHT
TZOFFSETFROM:+0100
TZOFFSETTO:+0200
TZNAME:CEST
DTSTART:20270328T010000
END:DAYLIGHT
BEGIN:STANDARD
TZOFFSETFROM:+0200
TZOFFSETTO:+0100
TZNAME:CET
DTSTART:20271031T010000
END:STANDARD
END:VTIMEZONE
BEGIN:VEVENT
DTSTART;TZID=Europe/Paris:20260417T150000
DTEND;TZID=Europe/Paris:20260417T183000
DTSTAMP:20260422T002405
CREATED:20260318T142917Z
LAST-MODIFIED:20260318T142917Z
UID:10000599-1776438000-1776450600@www.unser-seligenstadt.de
SUMMARY:Bücherflohmarkt
DESCRIPTION:Bücherflohmarkt in der Stadtbücherei Seligenstadt\nWo?\nKlosterhof 5-6 im 1. Stock \nWann? \nMontag\, 13.04.      15:00 bis 18:30 Uhr\nDienstag\, 14.04.    15:00 bis 18:30 Uhr\nMittwoch\, 15.04.   09:30 bis 11:30 Uhr\nFreitag\, 17.04.        15:00 bis 18:30 Uhr \nWas?\n* Antiquarische Bücher\n* Lexika Reihen\n* Erwachsenen Hörbücher
URL:https://www.unser-seligenstadt.de/event/buecherflohmarkt/2026-04-17
LOCATION:Stadtbücherei Seligenstadt\, Klostergarten 5-6\, Seligenstadt\, Hessen\, 63500\, Germany
CATEGORIES:Kunst, Kultur & Ausstellungen
ATTACH;FMTTYPE=image/jpeg:https://www.unser-seligenstadt.de/wp-content/uploads/2026/03/2._Bild_Buecherei_Maiklein_Ausschnitt-scaled.jpg
ORGANIZER;CN="Stadt Seligenstadt":MAILTO:info@seligenstadt.de
END:VEVENT
BEGIN:VEVENT
DTSTART;TZID=Europe/Paris:20260415T093000
DTEND;TZID=Europe/Paris:20260415T113000
DTSTAMP:20260422T002405
CREATED:20260318T142917Z
LAST-MODIFIED:20260318T142917Z
UID:10000598-1776245400-1776252600@www.unser-seligenstadt.de
SUMMARY:Bücherflohmarkt
DESCRIPTION:Bücherflohmarkt in der Stadtbücherei Seligenstadt\nWo?\nKlosterhof 5-6 im 1. Stock \nWann? \nMontag\, 13.04.      15:00 bis 18:30 Uhr\nDienstag\, 14.04.    15:00 bis 18:30 Uhr\nMittwoch\, 15.04.   09:30 bis 11:30 Uhr\nFreitag\, 17.04.        15:00 bis 18:30 Uhr \nWas?\n* Antiquarische Bücher\n* Lexika Reihen\n* Erwachsenen Hörbücher
URL:https://www.unser-seligenstadt.de/event/buecherflohmarkt/2026-04-15
LOCATION:Stadtbücherei Seligenstadt\, Klostergarten 5-6\, Seligenstadt\, Hessen\, 63500\, Germany
CATEGORIES:Kunst, Kultur & Ausstellungen
ATTACH;FMTTYPE=image/jpeg:https://www.unser-seligenstadt.de/wp-content/uploads/2026/03/2._Bild_Buecherei_Maiklein_Ausschnitt-scaled.jpg
ORGANIZER;CN="Stadt Seligenstadt":MAILTO:info@seligenstadt.de
END:VEVENT
BEGIN:VEVENT
DTSTART;TZID=Europe/Paris:20260414T150000
DTEND;TZID=Europe/Paris:20260414T183000
DTSTAMP:20260422T002405
CREATED:20260318T142917Z
LAST-MODIFIED:20260318T142917Z
UID:10000597-1776178800-1776191400@www.unser-seligenstadt.de
SUMMARY:Bücherflohmarkt
DESCRIPTION:Bücherflohmarkt in der Stadtbücherei Seligenstadt\nWo?\nKlosterhof 5-6 im 1. Stock \nWann? \nMontag\, 13.04.      15:00 bis 18:30 Uhr\nDienstag\, 14.04.    15:00 bis 18:30 Uhr\nMittwoch\, 15.04.   09:30 bis 11:30 Uhr\nFreitag\, 17.04.        15:00 bis 18:30 Uhr \nWas?\n* Antiquarische Bücher\n* Lexika Reihen\n* Erwachsenen Hörbücher
URL:https://www.unser-seligenstadt.de/event/buecherflohmarkt/2026-04-14
LOCATION:Stadtbücherei Seligenstadt\, Klostergarten 5-6\, Seligenstadt\, Hessen\, 63500\, Germany
CATEGORIES:Kunst, Kultur & Ausstellungen
ATTACH;FMTTYPE=image/jpeg:https://www.unser-seligenstadt.de/wp-content/uploads/2026/03/2._Bild_Buecherei_Maiklein_Ausschnitt-scaled.jpg
ORGANIZER;CN="Stadt Seligenstadt":MAILTO:info@seligenstadt.de
END:VEVENT
BEGIN:VEVENT
DTSTART;TZID=Europe/Paris:20260413T150000
DTEND;TZID=Europe/Paris:20260413T183000
DTSTAMP:20260422T002405
CREATED:20260318T142917Z
LAST-MODIFIED:20260318T142917Z
UID:10000596-1776092400-1776105000@www.unser-seligenstadt.de
SUMMARY:Bücherflohmarkt
DESCRIPTION:Bücherflohmarkt in der Stadtbücherei Seligenstadt\nWo?\nKlosterhof 5-6 im 1. Stock \nWann? \nMontag\, 13.04.      15:00 bis 18:30 Uhr\nDienstag\, 14.04.    15:00 bis 18:30 Uhr\nMittwoch\, 15.04.   09:30 bis 11:30 Uhr\nFreitag\, 17.04.        15:00 bis 18:30 Uhr \nWas?\n* Antiquarische Bücher\n* Lexika Reihen\n* Erwachsenen Hörbücher
URL:https://www.unser-seligenstadt.de/event/buecherflohmarkt/2026-04-13
LOCATION:Stadtbücherei Seligenstadt\, Klostergarten 5-6\, Seligenstadt\, Hessen\, 63500\, Germany
CATEGORIES:Kunst, Kultur & Ausstellungen
ATTACH;FMTTYPE=image/jpeg:https://www.unser-seligenstadt.de/wp-content/uploads/2026/03/2._Bild_Buecherei_Maiklein_Ausschnitt-scaled.jpg
ORGANIZER;CN="Stadt Seligenstadt":MAILTO:info@seligenstadt.de
END:VEVENT
BEGIN:VEVENT
DTSTART;TZID=Europe/Paris:20260226T150000
DTEND;TZID=Europe/Paris:20260226T160000
DTSTAMP:20260422T002405
CREATED:20260206T075328Z
LAST-MODIFIED:20260211T091434Z
UID:10000327-1772118000-1772121600@www.unser-seligenstadt.de
SUMMARY:Ich denke an dich
DESCRIPTION:In „Ich denke an dich“ führt eine sanfte Stimme in einer heimlichen Choreografie über einen Kopfhörer durch eine Bibliothek. Allein und doch gemeinsam mit anderen. Mit einem Hauch von magischem Realismus erhalten wir einen Einblick in die jahrtausendealte Geschichte der Bücher\, streifen die Zeiten der Zensur und dürfen selbst kleine Akte des Widerstands probieren. Die partizipative Performance lädt junge Menschen ein\, Büchereien als Verteidigerinnen demokratischer Werte neu zu entdecken und zu ihrem eigenen Raum zu machen.
URL:https://www.unser-seligenstadt.de/event/ich-denke-an-dich/2026-02-26/3
LOCATION:Stadtbücherei Seligenstadt\, Klostergarten 5-6\, Seligenstadt\, Hessen\, 63500\, Germany
CATEGORIES:Sonstiges
ATTACH;FMTTYPE=image/jpeg:https://www.unser-seligenstadt.de/wp-content/uploads/2026/02/StSt-2026-Im-thinking-of-you-F-Jose-Figueroa-7-scaled.jpg
ORGANIZER;CN="Magistrat der Einhardstadt Seligenstadt":MAILTO:sport-kultur@seligenstadt.de
END:VEVENT
BEGIN:VEVENT
DTSTART;TZID=Europe/Paris:20260226T150000
DTEND;TZID=Europe/Paris:20260226T160000
DTSTAMP:20260422T002405
CREATED:20260116T121248Z
LAST-MODIFIED:20260211T091549Z
UID:10000202-1772118000-1772121600@www.unser-seligenstadt.de
SUMMARY:Ich denke an Dich (Theateraufführung im Rahmen des Starke Stücke Festivals 2026)
DESCRIPTION:Am Donnerstag\, den 26. Februar 2026\, öffnet die Stadtbücherei Seligenstadt ihre Türen für eine besondere Theatererfahrung für Kinder und Jugendliche ab 10 Jahren: das interaktive Mitmachstück einer schwedischen Theaterkompanie „Ich denke an Dich“. Die Performance ist kein gewöhnliches Theaterstück\, sondern lädt dazu ein\, selbst aktiv zu werden. Mit einem Kopfhörer ausgestattet\, bewegen sie sich durch die Bibliothek und werden dabei von einer sanften Stimme geleitet. Schritt für Schritt entdecken sie eine geheimnisvolle Reise durch Jahrhunderte voller Bücher\, Zensur und kleiner rebellischer Momente. \nDieses interaktive Mitmachstück lädt insbesondere junge Menschen ein\, Bibliotheken auf neue Weise zu entdecken: als Orte voller Geschichten\, Möglichkeiten und eigener Aktionen. \nDie Veranstaltung findet im Rahmen des internationalen Theaterfestivals Starke Stücke statt\, das seit vielen Jahren herausragendes Theater für junges Publikum präsentiert. Mit seiner Mischung aus Schauspiel\, Tanz\, Objekttheater und experimentellen Formaten begeistert das Festival Kinder\, Jugendliche und junge Erwachsene und macht Theater zu einem Erlebnis\, das zum Mitdenken\, Mitfühlen und Mitmachen einlädt. \nIn Seligenstadt gibt es insgesamt drei Vorstellungen von „Ich denke an Dich“: Zwei Vormittagsvorstellungen sind für die weiterführenden Schulen der Stadt reserviert. Die offene Nachmittagsvorstellung um 15 Uhr ist für alle Interessierten zugänglich. Die Platzzahl ist auf 25 Personen begrenzt. Karten können für einen Preis von 5 Euro direkt in der Stadtbücherei während der regulären Öffnungszeiten erworben werden.
URL:https://www.unser-seligenstadt.de/event/ich-denke-an-dich-theaterauffuehrung-im-rahmen-des-starke-stuecke-festivals-2026
LOCATION:Stadtbücherei Seligenstadt\, Klostergarten 5-6\, Seligenstadt\, Hessen\, 63500\, Germany
CATEGORIES:Kinder & Familien,Kunst, Kultur & Ausstellungen,Sonstiges
ATTACH;FMTTYPE=image/jpeg:https://www.unser-seligenstadt.de/wp-content/uploads/2026/01/Einzelflyer-Seligenstadt-Seite-1.jpg
ORGANIZER;CN="Stadt Seligenstadt":MAILTO:info@seligenstadt.de
END:VEVENT
BEGIN:VEVENT
DTSTART;TZID=Europe/Paris:20260226T110000
DTEND;TZID=Europe/Paris:20260226T120000
DTSTAMP:20260422T002405
CREATED:20260206T075328Z
LAST-MODIFIED:20260211T091434Z
UID:10000326-1772103600-1772107200@www.unser-seligenstadt.de
SUMMARY:Ich denke an dich
DESCRIPTION:In „Ich denke an dich“ führt eine sanfte Stimme in einer heimlichen Choreografie über einen Kopfhörer durch eine Bibliothek. Allein und doch gemeinsam mit anderen. Mit einem Hauch von magischem Realismus erhalten wir einen Einblick in die jahrtausendealte Geschichte der Bücher\, streifen die Zeiten der Zensur und dürfen selbst kleine Akte des Widerstands probieren. Die partizipative Performance lädt junge Menschen ein\, Büchereien als Verteidigerinnen demokratischer Werte neu zu entdecken und zu ihrem eigenen Raum zu machen.
URL:https://www.unser-seligenstadt.de/event/ich-denke-an-dich/2026-02-26/2
LOCATION:Stadtbücherei Seligenstadt\, Klostergarten 5-6\, Seligenstadt\, Hessen\, 63500\, Germany
CATEGORIES:Sonstiges
ATTACH;FMTTYPE=image/jpeg:https://www.unser-seligenstadt.de/wp-content/uploads/2026/02/StSt-2026-Im-thinking-of-you-F-Jose-Figueroa-7-scaled.jpg
ORGANIZER;CN="Magistrat der Einhardstadt Seligenstadt":MAILTO:sport-kultur@seligenstadt.de
END:VEVENT
BEGIN:VEVENT
DTSTART;TZID=Europe/Paris:20260226T090000
DTEND;TZID=Europe/Paris:20260226T100000
DTSTAMP:20260422T002405
CREATED:20260206T075328Z
LAST-MODIFIED:20260211T091434Z
UID:10000325-1772096400-1772100000@www.unser-seligenstadt.de
SUMMARY:Ich denke an dich
DESCRIPTION:In „Ich denke an dich“ führt eine sanfte Stimme in einer heimlichen Choreografie über einen Kopfhörer durch eine Bibliothek. Allein und doch gemeinsam mit anderen. Mit einem Hauch von magischem Realismus erhalten wir einen Einblick in die jahrtausendealte Geschichte der Bücher\, streifen die Zeiten der Zensur und dürfen selbst kleine Akte des Widerstands probieren. Die partizipative Performance lädt junge Menschen ein\, Büchereien als Verteidigerinnen demokratischer Werte neu zu entdecken und zu ihrem eigenen Raum zu machen.
URL:https://www.unser-seligenstadt.de/event/ich-denke-an-dich/2026-02-26/1
LOCATION:Stadtbücherei Seligenstadt\, Klostergarten 5-6\, Seligenstadt\, Hessen\, 63500\, Germany
CATEGORIES:Sonstiges
ATTACH;FMTTYPE=image/jpeg:https://www.unser-seligenstadt.de/wp-content/uploads/2026/02/StSt-2026-Im-thinking-of-you-F-Jose-Figueroa-7-scaled.jpg
ORGANIZER;CN="Magistrat der Einhardstadt Seligenstadt":MAILTO:sport-kultur@seligenstadt.de
END:VEVENT
END:VCALENDAR