BEGIN:VCALENDAR
VERSION:2.0
PRODID:-//Unser Seligenstadt - ECPv6.15.20//NONSGML v1.0//EN
CALSCALE:GREGORIAN
METHOD:PUBLISH
X-ORIGINAL-URL:https://www.unser-seligenstadt.de
X-WR-CALDESC:Veranstaltungen für Unser Seligenstadt
REFRESH-INTERVAL;VALUE=DURATION:PT1H
X-Robots-Tag:noindex
X-PUBLISHED-TTL:PT1H
BEGIN:VTIMEZONE
TZID:Europe/Paris
BEGIN:DAYLIGHT
TZOFFSETFROM:+0100
TZOFFSETTO:+0200
TZNAME:CEST
DTSTART:20250330T010000
END:DAYLIGHT
BEGIN:STANDARD
TZOFFSETFROM:+0200
TZOFFSETTO:+0100
TZNAME:CET
DTSTART:20251026T010000
END:STANDARD
BEGIN:DAYLIGHT
TZOFFSETFROM:+0100
TZOFFSETTO:+0200
TZNAME:CEST
DTSTART:20260329T010000
END:DAYLIGHT
BEGIN:STANDARD
TZOFFSETFROM:+0200
TZOFFSETTO:+0100
TZNAME:CET
DTSTART:20261025T010000
END:STANDARD
BEGIN:DAYLIGHT
TZOFFSETFROM:+0100
TZOFFSETTO:+0200
TZNAME:CEST
DTSTART:20270328T010000
END:DAYLIGHT
BEGIN:STANDARD
TZOFFSETFROM:+0200
TZOFFSETTO:+0100
TZNAME:CET
DTSTART:20271031T010000
END:STANDARD
END:VTIMEZONE
BEGIN:VEVENT
DTSTART;TZID=Europe/Paris:20260430T190000
DTEND;TZID=Europe/Paris:20260430T190000
DTSTAMP:20260422T110250
CREATED:20260303T115607Z
LAST-MODIFIED:20260303T115607Z
UID:10000530-1777575600-1777575600@www.unser-seligenstadt.de
SUMMARY:Tanz in den Mai
DESCRIPTION:Kultinarisch Party mit DJ4U\n🎉 TANZ IN DEN MAI – DIE PARTY im „KULTINARISCH! 🎶 \nAm 30. April feiern wir den Frühling in Seligenstadt/Klein-Welzheim! \n⏰ Einlass ab 19:00 Uhr – seid dabei und tanzt mit uns in den Mai! 💃🕺 \n🎵 DJ4U sorgt für den besten Mix: Schlager\, Charts & Party-Rock – ab 20:00 Uhr bringt DJ4U die Tanzfläche zum Beben! \n🍹 Drinks\, Snacks & Party pur:\n✅ Erfrischende Drinks & warme Snacks für die perfekte Partystimmung\n✅ Outdoor-Bereich für alle\, die unter freiem Himmel feiern wollen\n✅ Bei schlechtem Wetter feiern wir indoor! \n📍 LOCATION:\n📌 „Kultinarisch“ – Hauptstraße 94\, 63500 Seligenstadt-Klein Welzheim (genügend Parkplätze bei Rewe nebenan) \n🎟 TICKETS:\n🎫 6 € im Vorverkauf\n🎫 10 € an der Abendkasse \n🎫 VORVERKAUF:\n➡ Megastar Eventagentur\, Dieselstraße 7\, Seligenstadt\n➡ Oder per PayPal \nBitte bei Bezahlung über Paypal 6\,00€ an info@megastar-disco.de schicken. Bitte geben Sie Name(n) und Telefonnummer(n) an. Sie stehen nun auf der Gästeliste und erhalten Ihr Einlassbändchen vor Ort. Bitte halten Sie Ihren Personalausweis bereit. Falls Sie Fragen haben oder Probleme auftreten sollen schreiben Sie uns gerne eine Nachricht an (WhatsApp) 01704033274
URL:https://www.unser-seligenstadt.de/event/tanz-in-den-mai
LOCATION:Kultinarisch\, Hauptstr. 94\, Seligenstadt-Klein-Welzheim\, Hessen\, 63500\, Germany
CATEGORIES:Feste & Tradition,Konzerte & Live-Musik,Sonstiges
ATTACH;FMTTYPE=image/jpeg:https://www.unser-seligenstadt.de/wp-content/uploads/2026/02/tanz-in-den-mai.jpg
ORGANIZER;CN="Megastar GmbH":MAILTO:info@megastar-gmbh.de
END:VEVENT
BEGIN:VEVENT
DTSTART;TZID=Europe/Paris:20260509T183000
DTEND;TZID=Europe/Paris:20260509T183000
DTSTAMP:20260422T110250
CREATED:20260303T115516Z
LAST-MODIFIED:20260303T115516Z
UID:10000529-1778351400-1778351400@www.unser-seligenstadt.de
SUMMARY:Hessischer Abend mit Olga Orange
DESCRIPTION:Hessischer Abend mit Olga Orange – Genuss trifft Unterhaltung\nErleben Sie am 09. Mai einen besonderen Abend voller Humor\, Charme und kul(t)inarischer Highlights. Beim „Hessischen Abend“ erwartet Sie beste Unterhaltung mit Olga Orange – Travestie-Show und Comedy auf höchstem Niveau – kombiniert mit einem reichhaltigen hessischen Buffet. \nIn der stilvollen Atmosphäre der Eventlocation Kultinarisch in Seligenstadt genießen Sie einen Abend\, der Kultur\, Lebensfreude und regionale Spezialitäten harmonisch verbindet. Freuen Sie sich auf eine mitreißende Show voller Witz und Persönlichkeit – perfekt ergänzt durch traditionelle Köstlichkeiten aus der hessischen Küche. \nDatum: 09. MaiEinlass: 18:30 UhrBeginn: 19:00 UhrPreis im Vorverkauf: 55 Euro pro Person inklusive hessischem Buffet \nSichern Sie sich rechtzeitig Ihre Tickets und freuen Sie sich auf einen unterhaltsamen Abend in besonderem Ambiente. \nWir freuen uns darauf\, Sie begrüßen zu dürfen! \n\n\n\n\n\n\n🎫 VORVERKAUF:\n➡ Eventlocation Kultinarisch\, Hauptstraße 94\, Seligenstadt/Klein-Welzheim\, Eingang hinter Apotheke (Telefon 0 61 82 / 77 284 – 0)\n➡ Oder per PayPal \nBitte bei Bezahlung über Paypal\, Betrag x an info@megastar-disco.de schicken. Bitte geben Sie Name(n) und Telefonnummer(n) an. \nSie stehen nun auf der Gästeliste und erhalten Ihr Einlassbändchen vor Ort. Bitte halten Sie Ihren Personalausweis bereit. \nBei Fragen schreiben Sie uns gerne eine Nachricht an (Whatsapp) 0160 94757732. \n\nWo: Kultinarisch\, Seligenstadt/Klein-Welzheim\, Hauptstraße 94\nParkplätze sind ausreichend vorhanden \nWir freuen uns auf Sie! \n  \nErworbene Tickets sind vom Umtausch und von der Rückerstattung ausgeschlossen.
URL:https://www.unser-seligenstadt.de/event/hessischer-abend-mit-olga-orange
LOCATION:Kultinarisch\, Hauptstr. 94\, Seligenstadt-Klein-Welzheim\, Hessen\, 63500\, Germany
CATEGORIES:Konzerte & Live-Musik,Kulinarik & Märkte,Kunst, Kultur & Ausstellungen
ATTACH;FMTTYPE=image/png:https://www.unser-seligenstadt.de/wp-content/uploads/2026/02/Screenshot-2026-02-24-120550.png
ORGANIZER;CN="Megastar GmbH":MAILTO:info@megastar-gmbh.de
END:VEVENT
BEGIN:VEVENT
DTSTART;TZID=Europe/Paris:20260523T200000
DTEND;TZID=Europe/Paris:20260524T010000
DTSTAMP:20260422T110250
CREATED:20260407T085209Z
LAST-MODIFIED:20260407T085209Z
UID:10000713-1779566400-1779584400@www.unser-seligenstadt.de
SUMMARY:Forever Young Party am 23.05.2026
DESCRIPTION:Forever Young Party – Sei dabei! \nAm 23.05.2026 laden wir Dich herzlich zu unserer Kult-Disco-Party im „Kultinarisch“ (ehemals Saal Kuhn) in Seligenstadt ein! \nDiscofox\, Schlager\, Charts\, Rock\, 70er bis heute. \nPizza aus dem Steinofen! \nEintritt:\nVorverkauf: 6 €\nAbendkasse: 10 € \n🎫 VORVERKAUF:\n➡ Eventlocation Kultinarisch\, Hauptstraße 94\, Seligenstadt/Klein-Welzheim\, Eingang hinter Apotheke (Telefon 0 61 82 / 77 284 – 0)\n➡ Oder per PayPal \nBitte bei Bezahlung über Paypal\, 6\,00€ an info@megastar-disco.de schicken. Bitte geben Sie Name(n) und Telefonnummer(n) an. \nSie stehen nun auf der Gästeliste und erhalten Ihr Einlassbändchen vor Ort. Bitte halten Sie Ihren Personalausweis bereit. \nBei Fragen schreiben Sie uns gerne eine Nachricht an (WhatsApp) 0160 94757732. \n\nWo: Kultinarisch\, Seligenstadt/Klein-Welzheim\, Hauptstraße 94\nWann: 23.05.2026 ab 20 Uhr\nParkplätze sind ausreichend vorhanden \nWir freuen uns auf euch!
URL:https://www.unser-seligenstadt.de/event/forever-young-party-am-23-05-2026
LOCATION:Kultinarisch\, Hauptstr. 94\, Seligenstadt-Klein-Welzheim\, Hessen\, 63500\, Germany
CATEGORIES:Konzerte & Live-Musik,Sonstiges
ATTACH;FMTTYPE=image/jpeg:https://www.unser-seligenstadt.de/wp-content/uploads/2026/04/forever-young-23-05-2026.jpg
ORGANIZER;CN="Megastar GmbH":MAILTO:info@megastar-gmbh.de
END:VEVENT
BEGIN:VEVENT
DTSTART;TZID=Europe/Paris:20260603T190000
DTEND;TZID=Europe/Paris:20260604T010000
DTSTAMP:20260422T110250
CREATED:20260415T124040Z
LAST-MODIFIED:20260415T124040Z
UID:10000718-1780513200-1780534800@www.unser-seligenstadt.de
SUMMARY:Crazy Oldie Night
DESCRIPTION:Erlebe eine unvergessliche Nacht voller Nostalgie bei der Crazy Oldie Night!Freu dich auf die besten Hits der 60er und 70er Jahre – von Schlager über Pop bis Rock – und tanze durch die Nacht nach dem Motto: Je oller\, je doller! \nMit DJ 4U an den Turntables ist für beste Stimmung gesorgt. Los geht’s am 03.06. ab 19 Uhr in Seligenstadt. \nSchnapp dir deine Freunde und feiere mit uns eine legendäre Party! \nEinlass: 19:00 Uhr\nEintritt: VVK 6 Euro\, AK 10 Euro \nWo: Kultinarisch\, Seligenstadt/Klein-Welzheim\, Hauptstraße 94\nParkplätze sind ausreichend vorhanden \n🎫 VORVERKAUF:\n➡ Eventlocation Kultinarisch\, Hauptstraße 94\, Seligenstadt/Klein-Welzheim\, Eingang hinter Apotheke\, (Telefon 0 61 82 / 77 284 – 0) \n➡ Oder per PayPal \nBitte bei Bezahlung über Paypal\, 6\,00 € an info@megastar-disco.de schicken. Bitte geben Sie Name(n) und Telefonnummer(n) an. \nSie stehen nun auf der Gästeliste und erhalten Ihr Einlassbändchen vor Ort. Bitte halten Sie Ihren Personalausweis bereit. \nBei Fragen schreiben Sie uns gerne eine Nachricht an (Whatsapp) 0160 94757732. \n  \nWir freuen uns auf Sie! \n  \nErworbene Tickets sind vom Umtausch und von der Rückerstattung ausgeschlossen.
URL:https://www.unser-seligenstadt.de/event/crazy-oldie-night
LOCATION:Kultinarisch\, Hauptstr. 94\, Seligenstadt-Klein-Welzheim\, Hessen\, 63500\, Germany
CATEGORIES:Konzerte & Live-Musik
ATTACH;FMTTYPE=image/jpeg:https://www.unser-seligenstadt.de/wp-content/uploads/2026/04/crazy-oldie-night.jpg
ORGANIZER;CN="Megastar GmbH":MAILTO:info@megastar-gmbh.de
END:VEVENT
END:VCALENDAR