BEGIN:VCALENDAR
VERSION:2.0
PRODID:-//Unser Seligenstadt - ECPv6.15.20//NONSGML v1.0//EN
CALSCALE:GREGORIAN
METHOD:PUBLISH
X-WR-CALNAME:Unser Seligenstadt
X-ORIGINAL-URL:https://www.unser-seligenstadt.de
X-WR-CALDESC:Veranstaltungen für Unser Seligenstadt
REFRESH-INTERVAL;VALUE=DURATION:PT1H
X-Robots-Tag:noindex
X-PUBLISHED-TTL:PT1H
BEGIN:VTIMEZONE
TZID:Europe/Paris
BEGIN:DAYLIGHT
TZOFFSETFROM:+0100
TZOFFSETTO:+0200
TZNAME:CEST
DTSTART:20250330T010000
END:DAYLIGHT
BEGIN:STANDARD
TZOFFSETFROM:+0200
TZOFFSETTO:+0100
TZNAME:CET
DTSTART:20251026T010000
END:STANDARD
BEGIN:DAYLIGHT
TZOFFSETFROM:+0100
TZOFFSETTO:+0200
TZNAME:CEST
DTSTART:20260329T010000
END:DAYLIGHT
BEGIN:STANDARD
TZOFFSETFROM:+0200
TZOFFSETTO:+0100
TZNAME:CET
DTSTART:20261025T010000
END:STANDARD
BEGIN:DAYLIGHT
TZOFFSETFROM:+0100
TZOFFSETTO:+0200
TZNAME:CEST
DTSTART:20270328T010000
END:DAYLIGHT
BEGIN:STANDARD
TZOFFSETFROM:+0200
TZOFFSETTO:+0100
TZNAME:CET
DTSTART:20271031T010000
END:STANDARD
END:VTIMEZONE
BEGIN:VEVENT
DTSTART;TZID=Europe/Paris:20261129T170000
DTEND;TZID=Europe/Paris:20261129T183000
DTSTAMP:20260422T110240
CREATED:20260115T101640Z
LAST-MODIFIED:20260115T101712Z
UID:10000192-1795971600-1795977000@www.unser-seligenstadt.de
SUMMARY:Adventskonzert des Gesangverein Liederfreund Froschhausen
DESCRIPTION:Die Chöre des Gesangverein Liederfreund Froschhausen präsentiert unter Mitwirkung musikalischer Gäste traditionelle Musik zum beginnenden Advent.
URL:https://www.unser-seligenstadt.de/event/adventskonzert-des-gesangverein-liederfreund-froschhausen
LOCATION:Kirche St. Margareta\, Offenbacher Landstraße 26\, Seligenstadt\, Hessen\, 63500\, Germany
CATEGORIES:Konzerte & Live-Musik
ORGANIZER;CN="Gesangverein Liederfreund":MAILTO:vorsitzende@liederfreund.de
END:VEVENT
END:VCALENDAR