BEGIN:VCALENDAR
VERSION:2.0
PRODID:-//Unser Seligenstadt - ECPv6.15.20//NONSGML v1.0//EN
CALSCALE:GREGORIAN
METHOD:PUBLISH
X-WR-CALNAME:Unser Seligenstadt
X-ORIGINAL-URL:https://www.unser-seligenstadt.de
X-WR-CALDESC:Veranstaltungen für Unser Seligenstadt
REFRESH-INTERVAL;VALUE=DURATION:PT1H
X-Robots-Tag:noindex
X-PUBLISHED-TTL:PT1H
BEGIN:VTIMEZONE
TZID:Europe/Paris
BEGIN:DAYLIGHT
TZOFFSETFROM:+0100
TZOFFSETTO:+0200
TZNAME:CEST
DTSTART:20250330T010000
END:DAYLIGHT
BEGIN:STANDARD
TZOFFSETFROM:+0200
TZOFFSETTO:+0100
TZNAME:CET
DTSTART:20251026T010000
END:STANDARD
BEGIN:DAYLIGHT
TZOFFSETFROM:+0100
TZOFFSETTO:+0200
TZNAME:CEST
DTSTART:20260329T010000
END:DAYLIGHT
BEGIN:STANDARD
TZOFFSETFROM:+0200
TZOFFSETTO:+0100
TZNAME:CET
DTSTART:20261025T010000
END:STANDARD
BEGIN:DAYLIGHT
TZOFFSETFROM:+0100
TZOFFSETTO:+0200
TZNAME:CEST
DTSTART:20270328T010000
END:DAYLIGHT
BEGIN:STANDARD
TZOFFSETFROM:+0200
TZOFFSETTO:+0100
TZNAME:CET
DTSTART:20271031T010000
END:STANDARD
END:VTIMEZONE
BEGIN:VEVENT
DTSTART;TZID=Europe/Paris:20260818T150000
DTEND;TZID=Europe/Paris:20260818T180000
DTSTAMP:20260424T173814
CREATED:20260115T103259Z
LAST-MODIFIED:20260211T091226Z
UID:10000110-1787065200-1787076000@www.unser-seligenstadt.de
SUMMARY:Repair-Café im HANS-MEMLING-HAUS
DESCRIPTION:Repair-Café und Begegnung im Hans-Memling-Haus   \nUnserer 12 Reparateure treffen sich jeden dritten Dienstag im Monat um ehrenamtlich Hilfe anzubieten: das Repair-Café öffnet jeweils von 15 bis 18 Uhr (Reparaturannahme bis 17:30 Uhr). Reparieren statt entsorgen – für mehr Nachhaltigkeit! Alles was getragen werden kann\, ob Elektro-Kleingerät\, Fahrrad\, Spielzeug\, u.dgl.\, nehmen die ehrenamtlichen Helfer unter die Lupe. Es wird gemeinsam repariert\, Wissen geteilt und Hilfe zur Selbsthilfe gegeben. Auch nehmen sich versierte Handarbeitsfrauen beim Stricken und Häkeln jeglicher Fragen an und geben gern Auskunft. Über eine anerkennende Spende freuen sich die fleissigen Ehrenamtlichen. Zum Gedankenaustausch bei  Kaffee und Kuchen\, den der HMS-Verein bereitstellt\, sind alle herzlich eingeladen auch ohne Reparaturwunsch einfach vorbei zu schauen.
URL:https://www.unser-seligenstadt.de/event/repair-cafe-im-hans-memling-haus/2026-08-18
LOCATION:HANS-MEMLING-HAUS\, Grosse Maingasse 7 (ehemaliges Schulhaus)\, Seligenstadt\, 63500\, Germany
CATEGORIES:Sonstiges
ATTACH;FMTTYPE=image/gif:https://www.unser-seligenstadt.de/wp-content/uploads/2026/01/RC-Plakat.gif
END:VEVENT
BEGIN:VEVENT
DTSTART;TZID=Europe/Paris:20260819T190000
DTEND;TZID=Europe/Paris:20260819T203000
DTSTAMP:20260424T173814
CREATED:20260130T114326Z
LAST-MODIFIED:20260130T114326Z
UID:10000306-1787166000-1787171400@www.unser-seligenstadt.de
SUMMARY:Reben\, Rosen und Rabatten -  Im Klostergarten der Benediktinerabtei
DESCRIPTION:Themenführung mit Verköstigung für Erwachsene\nAnmeldung erforderlich\nNicht umsonst werden die Benediktiner als „Gärtner Europas“ bezeichnet\, die das Nützliche mit dem Schönen zu verbinden wussten. Bei diesem abendlichen Spaziergang durch die Gärten der Seligenstädter Abtei können Sie erfahren\, wie differenziert die Mönche ihre Klostergärten nutzten und gestalteten. Freuen Sie sich zum Abschluss der Führung auf eine Erfrischung im Weinkeller: Hier steht ein „Kalter Bischof“ und „ebbes zum Mumbele“ zum Kosten bereit.
URL:https://www.unser-seligenstadt.de/event/reben-rosen-und-rabatten-im-klostergarten-der-benediktinerabtei
LOCATION:Kloster Seligenstadt\, Klosterhof\, Seligenstadt\, Hessen\, 63500\, Germany
CATEGORIES:Führungen
ATTACH;FMTTYPE=image/jpeg:https://www.unser-seligenstadt.de/wp-content/uploads/2026/01/2024.14.08_Seligenstadt_Bianca_Limburg_RebenRosenundRabatten-1-scaled.jpg
ORGANIZER;CN="Staatliche Schl%C3%B6sser und G%C3%A4rten Hessen":MAILTO:kloster-seligenstadt@schloesser.hessen.de
END:VEVENT
BEGIN:VEVENT
DTSTART;TZID=Europe/Paris:20260820T080000
DTEND;TZID=Europe/Paris:20260820T170000
DTSTAMP:20260424T173814
CREATED:20260303T115946Z
LAST-MODIFIED:20260303T115946Z
UID:10000514-1787212800-1787245200@www.unser-seligenstadt.de
SUMMARY:Nostalgiemarkt
DESCRIPTION:Nostalgie und Aussergewöhnliches
URL:https://www.unser-seligenstadt.de/event/nostalgiemarkt/2026-08-20
LOCATION:Marktgebiet Seligenstadt\, Marktplatz Seligenstadt\, Seligenstadt\, Hessen\, 63500\, Germany
CATEGORIES:Kunst, Kultur & Ausstellungen
END:VEVENT
BEGIN:VEVENT
DTSTART;TZID=Europe/Paris:20260820T080000
DTEND;TZID=Europe/Paris:20260820T170000
DTSTAMP:20260424T173814
CREATED:20260311T140749Z
LAST-MODIFIED:20260311T140858Z
UID:10000563-1787212800-1787245200@www.unser-seligenstadt.de
SUMMARY:Nostalgiemarkt auf dem Marktplatz
DESCRIPTION:Altertümliche\, Seltenes und Sammelwertes
URL:https://www.unser-seligenstadt.de/event/nostalgiemarkt-auf-dem-marktplatz/2026-08-20
LOCATION:Marktgebiet Seligenstadt\, Marktplatz Seligenstadt\, Seligenstadt\, Hessen\, 63500\, Germany
CATEGORIES:Kulinarik & Märkte,Sonstiges
ATTACH;FMTTYPE=image/jpeg:https://www.unser-seligenstadt.de/wp-content/uploads/2026/03/43448-scaled.jpg
ORGANIZER;CN="Alban  Reh":MAILTO:Reh.seligenstadt@web.de
END:VEVENT
BEGIN:VEVENT
DTSTART;TZID=Europe/Paris:20260821T183000
DTEND;TZID=Europe/Paris:20260821T193000
DTSTAMP:20260424T173814
CREATED:20260303T122329Z
LAST-MODIFIED:20260303T122329Z
UID:10000475-1787337000-1787340600@www.unser-seligenstadt.de
SUMMARY:Ausgleichs-Gymnastik Förderkreis Lichtblick e.V.
DESCRIPTION:Hast du auch das Gefühl\, du solltest mal wieder mehr Sport machen? Wir hätten die Lösung für dich.\nMit Friedrich Klucke\, Bewegungscoach und Personal-Trainer\, machen sogar anstrengende Übungen Spaß.\nBequeme Kleidung\, Sportschuhe (für draußen ist es besser)\, etwas zu trinken\, ein Handtuch und ganz wichtig: gute Laune.\nDenk nicht so lange darüber nach\, sondern komm einfach vorbei und leg los.
URL:https://www.unser-seligenstadt.de/event/ausgleichs-gymnastik-foerderkreis-lichtblick-e-v-2/2026-08-21
LOCATION:HANS-MEMLING-HAUS\, Grosse Maingasse 7 (ehemaliges Schulhaus)\, Seligenstadt\, 63500\, Germany
CATEGORIES:Kinder & Familien,Kurse & Info-Events,Sport & Bewegung
ATTACH;FMTTYPE=image/jpeg:https://www.unser-seligenstadt.de/wp-content/uploads/2026/02/Logo-LB-bunt.jpg
ORGANIZER;CN="F%C3%B6rderkreis Lichtblick e.V.":MAILTO:Kontakt(at)Lichtblick-seligenstadt.de
END:VEVENT
BEGIN:VEVENT
DTSTART;TZID=Europe/Paris:20260822T110000
DTEND;TZID=Europe/Paris:20260822T170000
DTSTAMP:20260424T173814
CREATED:20260212T074843Z
LAST-MODIFIED:20260213T073731Z
UID:10000385-1787396400-1787418000@www.unser-seligenstadt.de
SUMMARY:Jubiläumsausstellung "50 Jahre Verein zur Förderung des RegioMuseums Seligenstadt e.V."
DESCRIPTION:Eine Sonderausstellung mit besonders herausragenden Darbringungen und Exponaten aus der  50-jährigen Vereinsgeschichte. Die Ausstellung ist zu den Öffnungszeiten des RegioMuseums Samstag\, Sonntag und an Feiertagen von 11:00 Uhr bis 17:00 Uhr zu besichtigen.
URL:https://www.unser-seligenstadt.de/event/jubilaeumsausstellung-50-jahre-verein-zur-foerderung-des-regiomuseums-seligenstadt-e-v/2026-08-22
LOCATION:Regio Museum\, Klosterhof 2\, Seligenstadt\, Hessen\, 63500\, Germany
CATEGORIES:Kunst, Kultur & Ausstellungen
ATTACH;FMTTYPE=image/jpeg:https://www.unser-seligenstadt.de/wp-content/uploads/2026/02/4013_240_1_g.jpg
END:VEVENT
BEGIN:VEVENT
DTSTART;TZID=Europe/Paris:20260822T110000
DTEND;TZID=Europe/Paris:20260823T190000
DTSTAMP:20260424T173814
CREATED:20260211T085102Z
LAST-MODIFIED:20260324T130141Z
UID:10000334-1787396400-1787511600@www.unser-seligenstadt.de
SUMMARY:480-jähriges Jubiläumsfest der Fischerzunft Seligenstadt
DESCRIPTION:Die Veranstaltung findet auf den Mainwiesen unterhalb des Palatiums statt und wird in einem großen Zelt mit gemütlichem Biergarten ausgerichtet. Die Besucher erwartet ein abwechslungsreiches Programm: Am Samstag beginnt das Fest mit der offiziellen Eröffnung und dem traditionellen Bieranstich. Zur Mittagszeit folgt ein spannendes Fischerstechen\, bevor am Abend Livemusik für Stimmung sorgt. Der Sonntag startet mit einem Frühschoppen begleitet von den Gesangsvereinen und der Stadtkapelle\, außerdem gibt es eine Spielstraße für Kinder. Für das leibliche Wohl ist bestens gesorgt – mit Fisch\, Pizza und vielen weiteren Köstlichkeiten. Zusätzlich findet im historischen Palatium eine Jubiläumsausstellung statt.
URL:https://www.unser-seligenstadt.de/event/480-jaehriges-jubilaeumsfest-der-fischerzunft-seligenstadt
LOCATION:Palatium Seligenstadt Mainwiesen
CATEGORIES:Feste & Tradition
ATTACH;FMTTYPE=image/jpeg:https://www.unser-seligenstadt.de/wp-content/uploads/2026/02/SCAN21-scaled.jpg
ORGANIZER;CN="Fischerzunft Seligenstadt von 1546 e.V.":MAILTO:Henrik.Beyke@fischerzunft-seligenstadt.de
END:VEVENT
BEGIN:VEVENT
DTSTART;TZID=Europe/Paris:20260822T113000
DTEND;TZID=Europe/Paris:20260822T123000
DTSTAMP:20260424T173814
CREATED:20260105T091327Z
LAST-MODIFIED:20260311T140023Z
UID:10000076-1787398200-1787401800@www.unser-seligenstadt.de
SUMMARY:Öffentliche Stadtführung "Seligenstadt im Überblick"
DESCRIPTION:Sie unternehmen einen Rundgang durch die denkmalgeschützte Altstadt mit ihren zahlreichen Fachwerkhäusern\, der eindrucksvollen Einhardbasilika und den Gärten des ehemaligen Klosters. \nVon März bis Dezember immer samstags um 11:30 Uhr  \nDauer: 60 Minuten \nTreffpunkt: Einhardhaus\, Aschaffenburger Str. 1 \nKosten: 10€ pro Person. Bezahlung vorab in der Tourist-Info. \nVoranmeldung gewünscht unter 06182 961 87 66 oder touristinfo@unser-seligenstadt.de
URL:https://www.unser-seligenstadt.de/event/oeffentliche-stadtfuehrung-seligenstadt-im-ueberblick/2026-08-22
CATEGORIES:Führungen,Stadt & Geschichte erleben
ATTACH;FMTTYPE=image/jpeg:https://www.unser-seligenstadt.de/wp-content/uploads/2026/01/Nina-Herold-Seligenstadt-12.jpg
END:VEVENT
BEGIN:VEVENT
DTSTART;TZID=Europe/Paris:20260822T160000
DTEND;TZID=Europe/Paris:20260822T173000
DTSTAMP:20260424T173814
CREATED:20260119T074845Z
LAST-MODIFIED:20260119T074845Z
UID:10000215-1787414400-1787419800@www.unser-seligenstadt.de
SUMMARY:Woi-Worscht-Witzigkeit
DESCRIPTION:Erleben Sie auf unterhaltsame Weise die Ansichten\, Einsichten\, Umsichten\, Nachsichten und andere Geschichten eines echten Seligenstädters. Im Mittelpunkt stehen keine Jahreszahlen und historische Ereignisse sondern Spaß\, Freude und Heiterkeit. Lachen ist erlaubt und erwünscht. Bei diesem Spaziergang geht es um die Lebensweise der Menschen am Main. Im Vordergrund steht aber die Art wie sie sprechen\, wie sie sich ausdrücken\, wie sie sich verhalten\, was sie essen und trinken. Nach dem StadtSpaziergang können sie in Heimatkunde keinen Blumentopf\, aber hoffentlich einen guten Eindruck von der Lebensweise der Seligenstädter gewinnen. Den Abschluss genießen wir bei einem guten Schoppen und einer guten Worscht im Herzen der Altstadt. \nDie Teilnehmerzahl ist begrenzt. Eine Anmeldung über info@rolandbabbelt.de oder TEL: 06182-27490 ist erforderlich.
URL:https://www.unser-seligenstadt.de/event/woi-worscht-witzigkeit/2026-08-22
LOCATION:Seligenstadt Altstadtgebiet\, Marktplatz 1\, Seligenstadt\, Hessen\, 63500\, Germany
CATEGORIES:Führungen,Kinder & Familien,Stadt & Geschichte erleben
ATTACH;FMTTYPE=image/jpeg:https://www.unser-seligenstadt.de/wp-content/uploads/2026/01/Woi-Worscht-Witzigkeit.jpg
ORGANIZER;CN="Roland Wolf":MAILTO:info@rolandbabbelt.de
END:VEVENT
BEGIN:VEVENT
DTSTART;TZID=Europe/Paris:20260823T110000
DTEND;TZID=Europe/Paris:20260823T170000
DTSTAMP:20260424T173814
CREATED:20260212T074843Z
LAST-MODIFIED:20260213T073731Z
UID:10000386-1787482800-1787504400@www.unser-seligenstadt.de
SUMMARY:Jubiläumsausstellung "50 Jahre Verein zur Förderung des RegioMuseums Seligenstadt e.V."
DESCRIPTION:Eine Sonderausstellung mit besonders herausragenden Darbringungen und Exponaten aus der  50-jährigen Vereinsgeschichte. Die Ausstellung ist zu den Öffnungszeiten des RegioMuseums Samstag\, Sonntag und an Feiertagen von 11:00 Uhr bis 17:00 Uhr zu besichtigen.
URL:https://www.unser-seligenstadt.de/event/jubilaeumsausstellung-50-jahre-verein-zur-foerderung-des-regiomuseums-seligenstadt-e-v/2026-08-23
LOCATION:Regio Museum\, Klosterhof 2\, Seligenstadt\, Hessen\, 63500\, Germany
CATEGORIES:Kunst, Kultur & Ausstellungen
ATTACH;FMTTYPE=image/jpeg:https://www.unser-seligenstadt.de/wp-content/uploads/2026/02/4013_240_1_g.jpg
END:VEVENT
END:VCALENDAR