BEGIN:VCALENDAR
VERSION:2.0
PRODID:-//Unser Seligenstadt - ECPv6.15.20//NONSGML v1.0//EN
CALSCALE:GREGORIAN
METHOD:PUBLISH
X-ORIGINAL-URL:https://www.unser-seligenstadt.de
X-WR-CALDESC:Veranstaltungen für Unser Seligenstadt
REFRESH-INTERVAL;VALUE=DURATION:PT1H
X-Robots-Tag:noindex
X-PUBLISHED-TTL:PT1H
BEGIN:VTIMEZONE
TZID:Europe/Paris
BEGIN:DAYLIGHT
TZOFFSETFROM:+0100
TZOFFSETTO:+0200
TZNAME:CEST
DTSTART:20250330T010000
END:DAYLIGHT
BEGIN:STANDARD
TZOFFSETFROM:+0200
TZOFFSETTO:+0100
TZNAME:CET
DTSTART:20251026T010000
END:STANDARD
BEGIN:DAYLIGHT
TZOFFSETFROM:+0100
TZOFFSETTO:+0200
TZNAME:CEST
DTSTART:20260329T010000
END:DAYLIGHT
BEGIN:STANDARD
TZOFFSETFROM:+0200
TZOFFSETTO:+0100
TZNAME:CET
DTSTART:20261025T010000
END:STANDARD
BEGIN:DAYLIGHT
TZOFFSETFROM:+0100
TZOFFSETTO:+0200
TZNAME:CEST
DTSTART:20270328T010000
END:DAYLIGHT
BEGIN:STANDARD
TZOFFSETFROM:+0200
TZOFFSETTO:+0100
TZNAME:CET
DTSTART:20271031T010000
END:STANDARD
END:VTIMEZONE
BEGIN:VEVENT
DTSTART;TZID=Europe/Paris:20260716T080000
DTEND;TZID=Europe/Paris:20260716T170000
DTSTAMP:20260424T210020
CREATED:20260303T115946Z
LAST-MODIFIED:20260303T115946Z
UID:10000509-1784188800-1784221200@www.unser-seligenstadt.de
SUMMARY:Nostalgiemarkt
DESCRIPTION:Nostalgie und Aussergewöhnliches
URL:https://www.unser-seligenstadt.de/event/nostalgiemarkt/2026-07-16
LOCATION:Marktgebiet Seligenstadt\, Marktplatz Seligenstadt\, Seligenstadt\, Hessen\, 63500\, Germany
CATEGORIES:Kunst, Kultur & Ausstellungen
END:VEVENT
BEGIN:VEVENT
DTSTART;TZID=Europe/Paris:20260716T080000
DTEND;TZID=Europe/Paris:20260716T170000
DTSTAMP:20260424T210020
CREATED:20260311T140749Z
LAST-MODIFIED:20260311T140858Z
UID:10000558-1784188800-1784221200@www.unser-seligenstadt.de
SUMMARY:Nostalgiemarkt auf dem Marktplatz
DESCRIPTION:Altertümliche\, Seltenes und Sammelwertes
URL:https://www.unser-seligenstadt.de/event/nostalgiemarkt-auf-dem-marktplatz/2026-07-16
LOCATION:Marktgebiet Seligenstadt\, Marktplatz Seligenstadt\, Seligenstadt\, Hessen\, 63500\, Germany
CATEGORIES:Kulinarik & Märkte,Sonstiges
ATTACH;FMTTYPE=image/jpeg:https://www.unser-seligenstadt.de/wp-content/uploads/2026/03/43448-scaled.jpg
ORGANIZER;CN="Alban  Reh":MAILTO:Reh.seligenstadt@web.de
END:VEVENT
BEGIN:VEVENT
DTSTART;TZID=Europe/Paris:20260717T080000
DTEND;TZID=Europe/Paris:20260717T170000
DTSTAMP:20260424T210020
CREATED:20260303T122329Z
LAST-MODIFIED:20260303T122329Z
UID:10000471-1784275200-1784307600@www.unser-seligenstadt.de
SUMMARY:Ausgleichs-Gymnastik Förderkreis Lichtblick e.V.
DESCRIPTION:Hast du auch das Gefühl\, du solltest mal wieder mehr Sport machen? Wir hätten die Lösung für dich.\nMit Friedrich Klucke\, Bewegungscoach und Personal-Trainer\, machen sogar anstrengende Übungen Spaß.\nBequeme Kleidung\, Sportschuhe (für draußen ist es besser)\, etwas zu trinken\, ein Handtuch und ganz wichtig: gute Laune.\nDenk nicht so lange darüber nach\, sondern komm einfach vorbei und leg los.
URL:https://www.unser-seligenstadt.de/event/ausgleichs-gymnastik-foerderkreis-lichtblick-e-v-2/2026-07-17
LOCATION:HANS-MEMLING-HAUS\, Grosse Maingasse 7 (ehemaliges Schulhaus)\, Seligenstadt\, 63500\, Germany
CATEGORIES:Kinder & Familien,Kurse & Info-Events,Sport & Bewegung
ATTACH;FMTTYPE=image/jpeg:https://www.unser-seligenstadt.de/wp-content/uploads/2026/02/Logo-LB-bunt.jpg
ORGANIZER;CN="F%C3%B6rderkreis Lichtblick e.V.":MAILTO:Kontakt(at)Lichtblick-seligenstadt.de
END:VEVENT
BEGIN:VEVENT
DTSTART;TZID=Europe/Paris:20260718T110000
DTEND;TZID=Europe/Paris:20260718T170000
DTSTAMP:20260424T210020
CREATED:20260212T074843Z
LAST-MODIFIED:20260213T073731Z
UID:10000375-1784372400-1784394000@www.unser-seligenstadt.de
SUMMARY:Jubiläumsausstellung "50 Jahre Verein zur Förderung des RegioMuseums Seligenstadt e.V."
DESCRIPTION:Eine Sonderausstellung mit besonders herausragenden Darbringungen und Exponaten aus der  50-jährigen Vereinsgeschichte. Die Ausstellung ist zu den Öffnungszeiten des RegioMuseums Samstag\, Sonntag und an Feiertagen von 11:00 Uhr bis 17:00 Uhr zu besichtigen.
URL:https://www.unser-seligenstadt.de/event/jubilaeumsausstellung-50-jahre-verein-zur-foerderung-des-regiomuseums-seligenstadt-e-v/2026-07-18
LOCATION:Regio Museum\, Klosterhof 2\, Seligenstadt\, Hessen\, 63500\, Germany
CATEGORIES:Kunst, Kultur & Ausstellungen
ATTACH;FMTTYPE=image/jpeg:https://www.unser-seligenstadt.de/wp-content/uploads/2026/02/4013_240_1_g.jpg
END:VEVENT
BEGIN:VEVENT
DTSTART;TZID=Europe/Paris:20260718T113000
DTEND;TZID=Europe/Paris:20260718T123000
DTSTAMP:20260424T210020
CREATED:20260105T091327Z
LAST-MODIFIED:20260311T140023Z
UID:10000071-1784374200-1784377800@www.unser-seligenstadt.de
SUMMARY:Öffentliche Stadtführung "Seligenstadt im Überblick"
DESCRIPTION:Sie unternehmen einen Rundgang durch die denkmalgeschützte Altstadt mit ihren zahlreichen Fachwerkhäusern\, der eindrucksvollen Einhardbasilika und den Gärten des ehemaligen Klosters. \nVon März bis Dezember immer samstags um 11:30 Uhr  \nDauer: 60 Minuten \nTreffpunkt: Einhardhaus\, Aschaffenburger Str. 1 \nKosten: 10€ pro Person. Bezahlung vorab in der Tourist-Info. \nVoranmeldung gewünscht unter 06182 961 87 66 oder touristinfo@unser-seligenstadt.de
URL:https://www.unser-seligenstadt.de/event/oeffentliche-stadtfuehrung-seligenstadt-im-ueberblick/2026-07-18
CATEGORIES:Führungen,Stadt & Geschichte erleben
ATTACH;FMTTYPE=image/jpeg:https://www.unser-seligenstadt.de/wp-content/uploads/2026/01/Nina-Herold-Seligenstadt-12.jpg
END:VEVENT
BEGIN:VEVENT
DTSTART;TZID=Europe/Paris:20260719T110000
DTEND;TZID=Europe/Paris:20260719T170000
DTSTAMP:20260424T210020
CREATED:20260212T074843Z
LAST-MODIFIED:20260213T073731Z
UID:10000376-1784458800-1784480400@www.unser-seligenstadt.de
SUMMARY:Jubiläumsausstellung "50 Jahre Verein zur Förderung des RegioMuseums Seligenstadt e.V."
DESCRIPTION:Eine Sonderausstellung mit besonders herausragenden Darbringungen und Exponaten aus der  50-jährigen Vereinsgeschichte. Die Ausstellung ist zu den Öffnungszeiten des RegioMuseums Samstag\, Sonntag und an Feiertagen von 11:00 Uhr bis 17:00 Uhr zu besichtigen.
URL:https://www.unser-seligenstadt.de/event/jubilaeumsausstellung-50-jahre-verein-zur-foerderung-des-regiomuseums-seligenstadt-e-v/2026-07-19
LOCATION:Regio Museum\, Klosterhof 2\, Seligenstadt\, Hessen\, 63500\, Germany
CATEGORIES:Kunst, Kultur & Ausstellungen
ATTACH;FMTTYPE=image/jpeg:https://www.unser-seligenstadt.de/wp-content/uploads/2026/02/4013_240_1_g.jpg
END:VEVENT
END:VCALENDAR