BEGIN:VCALENDAR
VERSION:2.0
PRODID:-//Unser Seligenstadt - ECPv6.15.20//NONSGML v1.0//EN
CALSCALE:GREGORIAN
METHOD:PUBLISH
X-ORIGINAL-URL:https://www.unser-seligenstadt.de
X-WR-CALDESC:Veranstaltungen für Unser Seligenstadt
REFRESH-INTERVAL;VALUE=DURATION:PT1H
X-Robots-Tag:noindex
X-PUBLISHED-TTL:PT1H
BEGIN:VTIMEZONE
TZID:Europe/Paris
BEGIN:DAYLIGHT
TZOFFSETFROM:+0100
TZOFFSETTO:+0200
TZNAME:CEST
DTSTART:20250330T010000
END:DAYLIGHT
BEGIN:STANDARD
TZOFFSETFROM:+0200
TZOFFSETTO:+0100
TZNAME:CET
DTSTART:20251026T010000
END:STANDARD
BEGIN:DAYLIGHT
TZOFFSETFROM:+0100
TZOFFSETTO:+0200
TZNAME:CEST
DTSTART:20260329T010000
END:DAYLIGHT
BEGIN:STANDARD
TZOFFSETFROM:+0200
TZOFFSETTO:+0100
TZNAME:CET
DTSTART:20261025T010000
END:STANDARD
BEGIN:DAYLIGHT
TZOFFSETFROM:+0100
TZOFFSETTO:+0200
TZNAME:CEST
DTSTART:20270328T010000
END:DAYLIGHT
BEGIN:STANDARD
TZOFFSETFROM:+0200
TZOFFSETTO:+0100
TZNAME:CET
DTSTART:20271031T010000
END:STANDARD
END:VTIMEZONE
BEGIN:VEVENT
DTSTART;TZID=Europe/Paris:20260610T193000
DTEND;TZID=Europe/Paris:20260610T213000
DTSTAMP:20260424T163023
CREATED:20260130T103752Z
LAST-MODIFIED:20260130T103752Z
UID:10000320-1781119800-1781127000@www.unser-seligenstadt.de
SUMMARY:Gisa Pauly liest aus "Windjammer"
DESCRIPTION:Wir freuen uns\, Gisa Pauly mit ihrem 20. Jubiläumsband der“Mamma Carlotta“- Reihe bei uns zu begrüßen!\nAls die Lünnemanns nach Jahren behaupten\, ihr entführtes Kind wiedererkannt zu haben\, wird auf Sylt ordentlich Luft aufgewirbelt. Doch noch bevor Kriminalhauptkommissar Erik Wolf die Wahrheit über den Jungen enthüllen kann\, wird ein Toter gefunden. Schon bald stellt sich heraus\, dass der erfolgreiche Bildhauer so einige Geheimnisse hatte … Während Mamma Carlottas Stammkneipe 20. Geburtstag feiert und die Polizei auf Hochtouren in dem Mordfall ermittelt\, stellt die italienische Hobby-Ermittlerin ihre ganz eigenen Nachforschungen an. Ein Kind\, das seinen Eltern entwendet wurde\, Dio mio! Da muss man doch helfen! Wäre ja gelacht\, wenn Mamma Carlotta der Sache nicht auf die Spur käme!
URL:https://www.unser-seligenstadt.de/event/gisa-pauly-liest-aus-windjammer
LOCATION:Jakobsaal im St. Josefshaus\, Jakobstraße 5\, Seligenstadt\, Hessen\, 63500\, Germany
CATEGORIES:Kunst, Kultur & Ausstellungen
ATTACH;FMTTYPE=image/jpeg:https://www.unser-seligenstadt.de/wp-content/uploads/2026/01/pauly.jpg
ORGANIZER;CN="der buchladen":MAILTO:info@der-buchladen-seligenstadt.de
END:VEVENT
BEGIN:VEVENT
DTSTART;TZID=Europe/Paris:20260611T080000
DTEND;TZID=Europe/Paris:20260611T170000
DTSTAMP:20260424T163023
CREATED:20260303T115946Z
LAST-MODIFIED:20260303T115946Z
UID:10000504-1781164800-1781197200@www.unser-seligenstadt.de
SUMMARY:Nostalgiemarkt
DESCRIPTION:Nostalgie und Aussergewöhnliches
URL:https://www.unser-seligenstadt.de/event/nostalgiemarkt/2026-06-11
LOCATION:Marktgebiet Seligenstadt\, Marktplatz Seligenstadt\, Seligenstadt\, Hessen\, 63500\, Germany
CATEGORIES:Kunst, Kultur & Ausstellungen
END:VEVENT
BEGIN:VEVENT
DTSTART;TZID=Europe/Paris:20260611T080000
DTEND;TZID=Europe/Paris:20260611T170000
DTSTAMP:20260424T163023
CREATED:20260311T140749Z
LAST-MODIFIED:20260311T140858Z
UID:10000553-1781164800-1781197200@www.unser-seligenstadt.de
SUMMARY:Nostalgiemarkt auf dem Marktplatz
DESCRIPTION:Altertümliche\, Seltenes und Sammelwertes
URL:https://www.unser-seligenstadt.de/event/nostalgiemarkt-auf-dem-marktplatz/2026-06-11
LOCATION:Marktgebiet Seligenstadt\, Marktplatz Seligenstadt\, Seligenstadt\, Hessen\, 63500\, Germany
CATEGORIES:Kulinarik & Märkte,Sonstiges
ATTACH;FMTTYPE=image/jpeg:https://www.unser-seligenstadt.de/wp-content/uploads/2026/03/43448-scaled.jpg
ORGANIZER;CN="Alban  Reh":MAILTO:Reh.seligenstadt@web.de
END:VEVENT
BEGIN:VEVENT
DTSTART;TZID=Europe/Paris:20260612T183000
DTEND;TZID=Europe/Paris:20260612T193000
DTSTAMP:20260424T163023
CREATED:20260303T122329Z
LAST-MODIFIED:20260303T122329Z
UID:10000467-1781289000-1781292600@www.unser-seligenstadt.de
SUMMARY:Ausgleichs-Gymnastik Förderkreis Lichtblick e.V.
DESCRIPTION:Hast du auch das Gefühl\, du solltest mal wieder mehr Sport machen? Wir hätten die Lösung für dich.\nMit Friedrich Klucke\, Bewegungscoach und Personal-Trainer\, machen sogar anstrengende Übungen Spaß.\nBequeme Kleidung\, Sportschuhe (für draußen ist es besser)\, etwas zu trinken\, ein Handtuch und ganz wichtig: gute Laune.\nDenk nicht so lange darüber nach\, sondern komm einfach vorbei und leg los.
URL:https://www.unser-seligenstadt.de/event/ausgleichs-gymnastik-foerderkreis-lichtblick-e-v-2/2026-06-12
LOCATION:HANS-MEMLING-HAUS\, Grosse Maingasse 7 (ehemaliges Schulhaus)\, Seligenstadt\, 63500\, Germany
CATEGORIES:Kinder & Familien,Kurse & Info-Events,Sport & Bewegung
ATTACH;FMTTYPE=image/jpeg:https://www.unser-seligenstadt.de/wp-content/uploads/2026/02/Logo-LB-bunt.jpg
ORGANIZER;CN="F%C3%B6rderkreis Lichtblick e.V.":MAILTO:Kontakt(at)Lichtblick-seligenstadt.de
END:VEVENT
BEGIN:VEVENT
DTSTART;TZID=Europe/Paris:20260612T190000
DTEND;TZID=Europe/Paris:20260612T210000
DTSTAMP:20260424T163023
CREATED:20260119T074651Z
LAST-MODIFIED:20260119T074651Z
UID:10000219-1781290800-1781298000@www.unser-seligenstadt.de
SUMMARY:"Woi ennoi - Baggaasch Fromage" - Ein geselliger Abend in Klaa-Frankreich
DESCRIPTION:Erleben Sie einen unterhaltsamen und musikalischen Comedy-Abend in Klaa-Frankreich. Bei einem guten Tropfen Rebensaft hören Sie Geschichte und Geschichten\, am\, von\, über und um den liebenswerten Platz mit der Wasserpumpe im Herzen der Altstadt. Lauschen Sie dabei auch dem Gesang der „Fahrenden Scholaren“ und genießen Sie im Anschluss ein „kulinarisches“ Dreierlei aus Klaa-Frankreich. Mit der Buchung ist ein Sitzplatz am Brunnen in Klaa-Frankreich garantiert. \nDie Teilnehmerzahl ist begrenzt. Eine Anmeldung über info@rolandbabbelt.de oder TEL: 06182-27490 ist erforderlich.
URL:https://www.unser-seligenstadt.de/event/woi-ennoi-baggaasch-fromage-ein-geselliger-abend-in-klaa-frankreich
LOCATION:Seligenstadt Altstadtgebiet\, Marktplatz 1\, Seligenstadt\, Hessen\, 63500\, Germany
CATEGORIES:Konzerte & Live-Musik,Stadt & Geschichte erleben
ATTACH;FMTTYPE=image/jpeg:https://www.unser-seligenstadt.de/wp-content/uploads/2026/01/Woi-ennoi.jpg
ORGANIZER;CN="Roland Wolf":MAILTO:info@rolandbabbelt.de
END:VEVENT
BEGIN:VEVENT
DTSTART;TZID=Europe/Paris:20260613T110000
DTEND;TZID=Europe/Paris:20260613T170000
DTSTAMP:20260424T163023
CREATED:20260212T074843Z
LAST-MODIFIED:20260213T073731Z
UID:10000365-1781348400-1781370000@www.unser-seligenstadt.de
SUMMARY:Jubiläumsausstellung "50 Jahre Verein zur Förderung des RegioMuseums Seligenstadt e.V."
DESCRIPTION:Eine Sonderausstellung mit besonders herausragenden Darbringungen und Exponaten aus der  50-jährigen Vereinsgeschichte. Die Ausstellung ist zu den Öffnungszeiten des RegioMuseums Samstag\, Sonntag und an Feiertagen von 11:00 Uhr bis 17:00 Uhr zu besichtigen.
URL:https://www.unser-seligenstadt.de/event/jubilaeumsausstellung-50-jahre-verein-zur-foerderung-des-regiomuseums-seligenstadt-e-v/2026-06-13
LOCATION:Regio Museum\, Klosterhof 2\, Seligenstadt\, Hessen\, 63500\, Germany
CATEGORIES:Kunst, Kultur & Ausstellungen
ATTACH;FMTTYPE=image/jpeg:https://www.unser-seligenstadt.de/wp-content/uploads/2026/02/4013_240_1_g.jpg
END:VEVENT
BEGIN:VEVENT
DTSTART;TZID=Europe/Paris:20260613T113000
DTEND;TZID=Europe/Paris:20260613T123000
DTSTAMP:20260424T163023
CREATED:20260105T091327Z
LAST-MODIFIED:20260311T140023Z
UID:10000066-1781350200-1781353800@www.unser-seligenstadt.de
SUMMARY:Öffentliche Stadtführung "Seligenstadt im Überblick"
DESCRIPTION:Sie unternehmen einen Rundgang durch die denkmalgeschützte Altstadt mit ihren zahlreichen Fachwerkhäusern\, der eindrucksvollen Einhardbasilika und den Gärten des ehemaligen Klosters. \nVon März bis Dezember immer samstags um 11:30 Uhr  \nDauer: 60 Minuten \nTreffpunkt: Einhardhaus\, Aschaffenburger Str. 1 \nKosten: 10€ pro Person. Bezahlung vorab in der Tourist-Info. \nVoranmeldung gewünscht unter 06182 961 87 66 oder touristinfo@unser-seligenstadt.de
URL:https://www.unser-seligenstadt.de/event/oeffentliche-stadtfuehrung-seligenstadt-im-ueberblick/2026-06-13
CATEGORIES:Führungen,Stadt & Geschichte erleben
ATTACH;FMTTYPE=image/jpeg:https://www.unser-seligenstadt.de/wp-content/uploads/2026/01/Nina-Herold-Seligenstadt-12.jpg
END:VEVENT
BEGIN:VEVENT
DTSTART;TZID=Europe/Paris:20260613T150000
DTEND;TZID=Europe/Paris:20260613T220000
DTSTAMP:20260424T163023
CREATED:20260317T063645Z
LAST-MODIFIED:20260317T063645Z
UID:10000592-1781362800-1781388000@www.unser-seligenstadt.de
SUMMARY:Einhardrock
DESCRIPTION:
URL:https://www.unser-seligenstadt.de/event/einhardrock
LOCATION:Bleiche\, Jahnstraße 24\, Seligenstadt\, Hessen\, 63500\, Germany
CATEGORIES:Kinder & Familien,Konzerte & Live-Musik
ATTACH;FMTTYPE=image/png:https://www.unser-seligenstadt.de/wp-content/uploads/2025/12/Seligenstadt-erleben-2.png
END:VEVENT
BEGIN:VEVENT
DTSTART;VALUE=DATE:20260614
DTEND;VALUE=DATE:20260615
DTSTAMP:20260424T163023
CREATED:20260115T074847Z
LAST-MODIFIED:20260323T140309Z
UID:10000194-1781395200-1781481599@www.unser-seligenstadt.de
SUMMARY:60 Jahre St. Marien - Jubiläumstag
DESCRIPTION:Die katholische Pfarrgemeinde St. Marien Seligenstadt feiert das 60. Jubiläum der Pfarreigründung mit einem Festgottesdienst am Sonntag\, 14. Juni um 11 Uhr. Anschließend laden der Pfarrgemeinderat und der Festausschuss zu einem Rahmenprogramm ein\, von dem Sie sich überraschen lassen können. \nIm Rahmen des Jubiläumsjahres kommen auch Menschen der ersten Stunde zu Wort. \nOnline sollen die Geschichten der ersten Stunde in Wort und Ton aufbereitet und gesammelt werden. Interesse? Melden Sie sich gerne unter pgr@stmarien-seligenstadt.de oder 0152 570 587 26.
URL:https://www.unser-seligenstadt.de/event/60-jahre-st-marien-jubilaeumstag
LOCATION:Katholische Kirche St. Marien\, Steinweg 25\, Seligenstadt\, Hessen\, 63500\, Germany
CATEGORIES:Feste & Tradition,Stadt & Geschichte erleben
ATTACH;FMTTYPE=image/jpeg:https://www.unser-seligenstadt.de/wp-content/uploads/2026/01/StMarien-Innenraum.jpg_1587437456.jpg
END:VEVENT
BEGIN:VEVENT
DTSTART;TZID=Europe/Paris:20260614T110000
DTEND;TZID=Europe/Paris:20260614T170000
DTSTAMP:20260424T163023
CREATED:20260212T074843Z
LAST-MODIFIED:20260213T073731Z
UID:10000366-1781434800-1781456400@www.unser-seligenstadt.de
SUMMARY:Jubiläumsausstellung "50 Jahre Verein zur Förderung des RegioMuseums Seligenstadt e.V."
DESCRIPTION:Eine Sonderausstellung mit besonders herausragenden Darbringungen und Exponaten aus der  50-jährigen Vereinsgeschichte. Die Ausstellung ist zu den Öffnungszeiten des RegioMuseums Samstag\, Sonntag und an Feiertagen von 11:00 Uhr bis 17:00 Uhr zu besichtigen.
URL:https://www.unser-seligenstadt.de/event/jubilaeumsausstellung-50-jahre-verein-zur-foerderung-des-regiomuseums-seligenstadt-e-v/2026-06-14
LOCATION:Regio Museum\, Klosterhof 2\, Seligenstadt\, Hessen\, 63500\, Germany
CATEGORIES:Kunst, Kultur & Ausstellungen
ATTACH;FMTTYPE=image/jpeg:https://www.unser-seligenstadt.de/wp-content/uploads/2026/02/4013_240_1_g.jpg
END:VEVENT
END:VCALENDAR