BEGIN:VCALENDAR
VERSION:2.0
PRODID:-//Unser Seligenstadt - ECPv6.15.20//NONSGML v1.0//EN
CALSCALE:GREGORIAN
METHOD:PUBLISH
X-WR-CALNAME:Unser Seligenstadt
X-ORIGINAL-URL:https://www.unser-seligenstadt.de
X-WR-CALDESC:Veranstaltungen für Unser Seligenstadt
REFRESH-INTERVAL;VALUE=DURATION:PT1H
X-Robots-Tag:noindex
X-PUBLISHED-TTL:PT1H
BEGIN:VTIMEZONE
TZID:Europe/Paris
BEGIN:DAYLIGHT
TZOFFSETFROM:+0100
TZOFFSETTO:+0200
TZNAME:CEST
DTSTART:20250330T010000
END:DAYLIGHT
BEGIN:STANDARD
TZOFFSETFROM:+0200
TZOFFSETTO:+0100
TZNAME:CET
DTSTART:20251026T010000
END:STANDARD
BEGIN:DAYLIGHT
TZOFFSETFROM:+0100
TZOFFSETTO:+0200
TZNAME:CEST
DTSTART:20260329T010000
END:DAYLIGHT
BEGIN:STANDARD
TZOFFSETFROM:+0200
TZOFFSETTO:+0100
TZNAME:CET
DTSTART:20261025T010000
END:STANDARD
BEGIN:DAYLIGHT
TZOFFSETFROM:+0100
TZOFFSETTO:+0200
TZNAME:CEST
DTSTART:20270328T010000
END:DAYLIGHT
BEGIN:STANDARD
TZOFFSETFROM:+0200
TZOFFSETTO:+0100
TZNAME:CET
DTSTART:20271031T010000
END:STANDARD
END:VTIMEZONE
BEGIN:VEVENT
DTSTART;TZID=Europe/Paris:20260904T170000
DTEND;TZID=Europe/Paris:20260904T173000
DTSTAMP:20260424T192819
CREATED:20260119T074845Z
LAST-MODIFIED:20260119T074845Z
UID:10000216-1788541200-1788543000@www.unser-seligenstadt.de
SUMMARY:Woi-Worscht-Witzigkeit
DESCRIPTION:Erleben Sie auf unterhaltsame Weise die Ansichten\, Einsichten\, Umsichten\, Nachsichten und andere Geschichten eines echten Seligenstädters. Im Mittelpunkt stehen keine Jahreszahlen und historische Ereignisse sondern Spaß\, Freude und Heiterkeit. Lachen ist erlaubt und erwünscht. Bei diesem Spaziergang geht es um die Lebensweise der Menschen am Main. Im Vordergrund steht aber die Art wie sie sprechen\, wie sie sich ausdrücken\, wie sie sich verhalten\, was sie essen und trinken. Nach dem StadtSpaziergang können sie in Heimatkunde keinen Blumentopf\, aber hoffentlich einen guten Eindruck von der Lebensweise der Seligenstädter gewinnen. Den Abschluss genießen wir bei einem guten Schoppen und einer guten Worscht im Herzen der Altstadt. \nDie Teilnehmerzahl ist begrenzt. Eine Anmeldung über info@rolandbabbelt.de oder TEL: 06182-27490 ist erforderlich.
URL:https://www.unser-seligenstadt.de/event/woi-worscht-witzigkeit/2026-09-04
LOCATION:Seligenstadt Altstadtgebiet\, Marktplatz 1\, Seligenstadt\, Hessen\, 63500\, Germany
CATEGORIES:Führungen,Kinder & Familien,Stadt & Geschichte erleben
ATTACH;FMTTYPE=image/jpeg:https://www.unser-seligenstadt.de/wp-content/uploads/2026/01/Woi-Worscht-Witzigkeit.jpg
ORGANIZER;CN="Roland Wolf":MAILTO:info@rolandbabbelt.de
END:VEVENT
BEGIN:VEVENT
DTSTART;TZID=Europe/Paris:20260904T183000
DTEND;TZID=Europe/Paris:20260904T193000
DTSTAMP:20260424T192819
CREATED:20260303T122329Z
LAST-MODIFIED:20260303T122329Z
UID:10000476-1788546600-1788550200@www.unser-seligenstadt.de
SUMMARY:Ausgleichs-Gymnastik Förderkreis Lichtblick e.V.
DESCRIPTION:Hast du auch das Gefühl\, du solltest mal wieder mehr Sport machen? Wir hätten die Lösung für dich.\nMit Friedrich Klucke\, Bewegungscoach und Personal-Trainer\, machen sogar anstrengende Übungen Spaß.\nBequeme Kleidung\, Sportschuhe (für draußen ist es besser)\, etwas zu trinken\, ein Handtuch und ganz wichtig: gute Laune.\nDenk nicht so lange darüber nach\, sondern komm einfach vorbei und leg los.
URL:https://www.unser-seligenstadt.de/event/ausgleichs-gymnastik-foerderkreis-lichtblick-e-v-2/2026-09-04
LOCATION:HANS-MEMLING-HAUS\, Grosse Maingasse 7 (ehemaliges Schulhaus)\, Seligenstadt\, 63500\, Germany
CATEGORIES:Kinder & Familien,Kurse & Info-Events,Sport & Bewegung
ATTACH;FMTTYPE=image/jpeg:https://www.unser-seligenstadt.de/wp-content/uploads/2026/02/Logo-LB-bunt.jpg
ORGANIZER;CN="F%C3%B6rderkreis Lichtblick e.V.":MAILTO:Kontakt(at)Lichtblick-seligenstadt.de
END:VEVENT
BEGIN:VEVENT
DTSTART;TZID=Europe/Paris:20260904T213000
DTEND;TZID=Europe/Paris:20260904T230000
DTSTAMP:20260424T192819
CREATED:20260123T075015Z
LAST-MODIFIED:20260123T075035Z
UID:10000259-1788557400-1788562800@www.unser-seligenstadt.de
SUMMARY:Zu den dunklen Seiten der Stadt - Kostümführung
DESCRIPTION:„Hört ihr Leut und lasst Euch sagen…“ Mit Laterne und Hellebarde ist die\nTürmerin im nächtlichen Seligenstadt unterwegs. Erzählt wird\nInteressantes über Brauchtum und Alltagsleben vergangener\nZeiten. Es gibt Antwort auf die Fragen „Was passierte früher\,\nwenn es dunkel wurde?“ oder „Wer wachte über die Stadt?“\nDiese Nachtführung gibt faszinierende und spannende Einblicke\nin das nächtliche Leben der Stadt. (Kostümführung) \nJeden ersten Freitag im Monat\nvon Oktober bis April um 20:00 Uhr\nvon Mai bis September um 21:30 Uhr \nDauer: ca. 1\,5 Stunden\nTreff punkt: Einhardhaus\, Aschaffenburger Str. 1 \nKosten: EUR 10 pro Person\,\nVoranmeldung unter 06182 – 961 87 66
URL:https://www.unser-seligenstadt.de/event/zu-den-dunklen-seiten-der-stadt-kostuemfuehrung-2/2026-09-04
LOCATION:Seligenstadt Altstadtgebiet\, Marktplatz 1\, Seligenstadt\, Hessen\, 63500\, Germany
CATEGORIES:Führungen
ATTACH;FMTTYPE=image/jpeg:https://www.unser-seligenstadt.de/wp-content/uploads/2025/08/20240906_Nachwaechterfuehrung-5-scaled.jpg
ORGANIZER;CN="Seligenstadt Marketing & Tourismus GmbH":MAILTO:touristinfo@unser-seligenstadt.de
END:VEVENT
END:VCALENDAR