BEGIN:VCALENDAR
VERSION:2.0
PRODID:-//Unser Seligenstadt - ECPv6.15.20//NONSGML v1.0//EN
CALSCALE:GREGORIAN
METHOD:PUBLISH
X-ORIGINAL-URL:https://www.unser-seligenstadt.de
X-WR-CALDESC:Veranstaltungen für Unser Seligenstadt
REFRESH-INTERVAL;VALUE=DURATION:PT1H
X-Robots-Tag:noindex
X-PUBLISHED-TTL:PT1H
BEGIN:VTIMEZONE
TZID:Europe/Paris
BEGIN:DAYLIGHT
TZOFFSETFROM:+0100
TZOFFSETTO:+0200
TZNAME:CEST
DTSTART:20250330T010000
END:DAYLIGHT
BEGIN:STANDARD
TZOFFSETFROM:+0200
TZOFFSETTO:+0100
TZNAME:CET
DTSTART:20251026T010000
END:STANDARD
BEGIN:DAYLIGHT
TZOFFSETFROM:+0100
TZOFFSETTO:+0200
TZNAME:CEST
DTSTART:20260329T010000
END:DAYLIGHT
BEGIN:STANDARD
TZOFFSETFROM:+0200
TZOFFSETTO:+0100
TZNAME:CET
DTSTART:20261025T010000
END:STANDARD
BEGIN:DAYLIGHT
TZOFFSETFROM:+0100
TZOFFSETTO:+0200
TZNAME:CEST
DTSTART:20270328T010000
END:DAYLIGHT
BEGIN:STANDARD
TZOFFSETFROM:+0200
TZOFFSETTO:+0100
TZNAME:CET
DTSTART:20271031T010000
END:STANDARD
END:VTIMEZONE
BEGIN:VEVENT
DTSTART;VALUE=DATE:20260808
DTEND;VALUE=DATE:20260811
DTSTAMP:20260424T220801
CREATED:20260115T101959Z
LAST-MODIFIED:20260115T101959Z
UID:10000191-1786147200-1786406399@www.unser-seligenstadt.de
SUMMARY:Froschhäuser Kerb
DESCRIPTION:Unsere alljährige Kerb mit Live-Musik samstags\, dem Sängerfrühschoppen sonntags\, der Kerbborsch-Beerdigung am Montagabend und einem Schaustellerangebot garantiert ein buntes Programm für Familien und alle\, die gerne feiern.
URL:https://www.unser-seligenstadt.de/event/froschhaeuser-kerb/2026-08-08
LOCATION:Sängerheim GV Liederfreund\, Am Sandborn 34\, Seligenstadt-Froschhausen\, Hessen\, 63500\, Germany
CATEGORIES:Feste & Tradition
ORGANIZER;CN="Gesangverein Liederfreund":MAILTO:vorsitzende@liederfreund.de
END:VEVENT
END:VCALENDAR