BEGIN:VCALENDAR
VERSION:2.0
PRODID:-//Unser Seligenstadt - ECPv6.15.20//NONSGML v1.0//EN
CALSCALE:GREGORIAN
METHOD:PUBLISH
X-ORIGINAL-URL:https://www.unser-seligenstadt.de
X-WR-CALDESC:Veranstaltungen für Unser Seligenstadt
REFRESH-INTERVAL;VALUE=DURATION:PT1H
X-Robots-Tag:noindex
X-PUBLISHED-TTL:PT1H
BEGIN:VTIMEZONE
TZID:Europe/Paris
BEGIN:DAYLIGHT
TZOFFSETFROM:+0100
TZOFFSETTO:+0200
TZNAME:CEST
DTSTART:20250330T010000
END:DAYLIGHT
BEGIN:STANDARD
TZOFFSETFROM:+0200
TZOFFSETTO:+0100
TZNAME:CET
DTSTART:20251026T010000
END:STANDARD
BEGIN:DAYLIGHT
TZOFFSETFROM:+0100
TZOFFSETTO:+0200
TZNAME:CEST
DTSTART:20260329T010000
END:DAYLIGHT
BEGIN:STANDARD
TZOFFSETFROM:+0200
TZOFFSETTO:+0100
TZNAME:CET
DTSTART:20261025T010000
END:STANDARD
BEGIN:DAYLIGHT
TZOFFSETFROM:+0100
TZOFFSETTO:+0200
TZNAME:CEST
DTSTART:20270328T010000
END:DAYLIGHT
BEGIN:STANDARD
TZOFFSETFROM:+0200
TZOFFSETTO:+0100
TZNAME:CET
DTSTART:20271031T010000
END:STANDARD
END:VTIMEZONE
BEGIN:VEVENT
DTSTART;VALUE=DATE:20260725
DTEND;VALUE=DATE:20260727
DTSTAMP:20260424T220756
CREATED:20260303T115427Z
LAST-MODIFIED:20260303T115427Z
UID:10000524-1784937600-1785110399@www.unser-seligenstadt.de
SUMMARY:Maa-Allee-Fest bei der Turngemeinde Seligenstadt
DESCRIPTION:Traditionelles Maa-Allee-Fest im Juli beim Sängerchor der Turngemeinde Seligenstadt. Wie immer herrlich gelegen unter den Linden in der Maa-Allee in Sichtweite der Schiffsanlegestelle. Ein Anziehungspunkt nicht nur für Seligenstädter. Für Speiß und Trank inclusive Unterhaltung mit Livemusik am Samstagabend und Chorgesang befreundeter Chöre zum Frühschoppen am Sonntagmorgen ist gesorgt.
URL:https://www.unser-seligenstadt.de/event/maa-allee-fest-bei-der-turngemeinde-seligenstadt
LOCATION:Schiffsanlegestelle Maa-Allee\, Rad-und Fußweg am Main Nähe Schiffsanlegestelle\, Seligenstadt\, Hessen\, 63500
CATEGORIES:Feste & Tradition
END:VEVENT
BEGIN:VEVENT
DTSTART;TZID=Europe/Paris:20260725T110000
DTEND;TZID=Europe/Paris:20260725T170000
DTSTAMP:20260424T220756
CREATED:20260212T074843Z
LAST-MODIFIED:20260213T073731Z
UID:10000377-1784977200-1784998800@www.unser-seligenstadt.de
SUMMARY:Jubiläumsausstellung "50 Jahre Verein zur Förderung des RegioMuseums Seligenstadt e.V."
DESCRIPTION:Eine Sonderausstellung mit besonders herausragenden Darbringungen und Exponaten aus der  50-jährigen Vereinsgeschichte. Die Ausstellung ist zu den Öffnungszeiten des RegioMuseums Samstag\, Sonntag und an Feiertagen von 11:00 Uhr bis 17:00 Uhr zu besichtigen.
URL:https://www.unser-seligenstadt.de/event/jubilaeumsausstellung-50-jahre-verein-zur-foerderung-des-regiomuseums-seligenstadt-e-v/2026-07-25
LOCATION:Regio Museum\, Klosterhof 2\, Seligenstadt\, Hessen\, 63500\, Germany
CATEGORIES:Kunst, Kultur & Ausstellungen
ATTACH;FMTTYPE=image/jpeg:https://www.unser-seligenstadt.de/wp-content/uploads/2026/02/4013_240_1_g.jpg
END:VEVENT
BEGIN:VEVENT
DTSTART;TZID=Europe/Paris:20260725T113000
DTEND;TZID=Europe/Paris:20260725T123000
DTSTAMP:20260424T220756
CREATED:20260105T091327Z
LAST-MODIFIED:20260311T140023Z
UID:10000072-1784979000-1784982600@www.unser-seligenstadt.de
SUMMARY:Öffentliche Stadtführung "Seligenstadt im Überblick"
DESCRIPTION:Sie unternehmen einen Rundgang durch die denkmalgeschützte Altstadt mit ihren zahlreichen Fachwerkhäusern\, der eindrucksvollen Einhardbasilika und den Gärten des ehemaligen Klosters. \nVon März bis Dezember immer samstags um 11:30 Uhr  \nDauer: 60 Minuten \nTreffpunkt: Einhardhaus\, Aschaffenburger Str. 1 \nKosten: 10€ pro Person. Bezahlung vorab in der Tourist-Info. \nVoranmeldung gewünscht unter 06182 961 87 66 oder touristinfo@unser-seligenstadt.de
URL:https://www.unser-seligenstadt.de/event/oeffentliche-stadtfuehrung-seligenstadt-im-ueberblick/2026-07-25
CATEGORIES:Führungen,Stadt & Geschichte erleben
ATTACH;FMTTYPE=image/jpeg:https://www.unser-seligenstadt.de/wp-content/uploads/2026/01/Nina-Herold-Seligenstadt-12.jpg
END:VEVENT
END:VCALENDAR