BEGIN:VCALENDAR
VERSION:2.0
PRODID:-//Unser Seligenstadt - ECPv6.15.20//NONSGML v1.0//EN
CALSCALE:GREGORIAN
METHOD:PUBLISH
X-WR-CALNAME:Unser Seligenstadt
X-ORIGINAL-URL:https://www.unser-seligenstadt.de
X-WR-CALDESC:Veranstaltungen für Unser Seligenstadt
REFRESH-INTERVAL;VALUE=DURATION:PT1H
X-Robots-Tag:noindex
X-PUBLISHED-TTL:PT1H
BEGIN:VTIMEZONE
TZID:Europe/Paris
BEGIN:DAYLIGHT
TZOFFSETFROM:+0100
TZOFFSETTO:+0200
TZNAME:CEST
DTSTART:20250330T010000
END:DAYLIGHT
BEGIN:STANDARD
TZOFFSETFROM:+0200
TZOFFSETTO:+0100
TZNAME:CET
DTSTART:20251026T010000
END:STANDARD
BEGIN:DAYLIGHT
TZOFFSETFROM:+0100
TZOFFSETTO:+0200
TZNAME:CEST
DTSTART:20260329T010000
END:DAYLIGHT
BEGIN:STANDARD
TZOFFSETFROM:+0200
TZOFFSETTO:+0100
TZNAME:CET
DTSTART:20261025T010000
END:STANDARD
BEGIN:DAYLIGHT
TZOFFSETFROM:+0100
TZOFFSETTO:+0200
TZNAME:CEST
DTSTART:20270328T010000
END:DAYLIGHT
BEGIN:STANDARD
TZOFFSETFROM:+0200
TZOFFSETTO:+0100
TZNAME:CET
DTSTART:20271031T010000
END:STANDARD
END:VTIMEZONE
BEGIN:VEVENT
DTSTART;TZID=Europe/Paris:20260724T160000
DTEND;TZID=Europe/Paris:20260724T173000
DTSTAMP:20260424T145023
CREATED:20260119T074845Z
LAST-MODIFIED:20260119T074845Z
UID:10000214-1784908800-1784914200@www.unser-seligenstadt.de
SUMMARY:Woi-Worscht-Witzigkeit
DESCRIPTION:Erleben Sie auf unterhaltsame Weise die Ansichten\, Einsichten\, Umsichten\, Nachsichten und andere Geschichten eines echten Seligenstädters. Im Mittelpunkt stehen keine Jahreszahlen und historische Ereignisse sondern Spaß\, Freude und Heiterkeit. Lachen ist erlaubt und erwünscht. Bei diesem Spaziergang geht es um die Lebensweise der Menschen am Main. Im Vordergrund steht aber die Art wie sie sprechen\, wie sie sich ausdrücken\, wie sie sich verhalten\, was sie essen und trinken. Nach dem StadtSpaziergang können sie in Heimatkunde keinen Blumentopf\, aber hoffentlich einen guten Eindruck von der Lebensweise der Seligenstädter gewinnen. Den Abschluss genießen wir bei einem guten Schoppen und einer guten Worscht im Herzen der Altstadt. \nDie Teilnehmerzahl ist begrenzt. Eine Anmeldung über info@rolandbabbelt.de oder TEL: 06182-27490 ist erforderlich.
URL:https://www.unser-seligenstadt.de/event/woi-worscht-witzigkeit/2026-07-24
LOCATION:Seligenstadt Altstadtgebiet\, Marktplatz 1\, Seligenstadt\, Hessen\, 63500\, Germany
CATEGORIES:Führungen,Kinder & Familien,Stadt & Geschichte erleben
ATTACH;FMTTYPE=image/jpeg:https://www.unser-seligenstadt.de/wp-content/uploads/2026/01/Woi-Worscht-Witzigkeit.jpg
ORGANIZER;CN="Roland Wolf":MAILTO:info@rolandbabbelt.de
END:VEVENT
BEGIN:VEVENT
DTSTART;TZID=Europe/Paris:20260724T173000
DTEND;TZID=Europe/Paris:20260724T193000
DTSTAMP:20260424T145023
CREATED:20260218T131720Z
LAST-MODIFIED:20260218T131953Z
UID:10000445-1784914200-1784921400@www.unser-seligenstadt.de
SUMMARY:Seligenstädter Klosterkonzerte: Zu Besuch bei Abt Beringer
DESCRIPTION:Zu Besuch bei Abt Beringer\nDer Vorsteher des Klosters Seligenstadt begründete um das Jahr 1000 dort am\nHang des Spessarts den Weinbau. \nTRIO PATETICO – ROMANTISCHE SERENADEN \nFreitag\, 24. Juli 2026 | 17.30 Uhr | 63755 Hörstein | Hofgut – Mömbriser Str.6a \n16.00 Uhr Führung auf den Abtsberg ab Hofgut – auf Wunsch\, unentgeltlich\n17.30 Uhr Konzert im Hofgut (ggfs. gekühlt)\n19.30 Uhr Häckerbrotzeit ( nicht im Eintritt inbegriffen). Bestellung auf Wunsch in der Pause. \nHeike Nicodemus | Traversflöte\nUrsula Plagge-Zimmermann | Barockviola\nMaximilian Mangold | Historische Gitarre \nTraversflöte nach August Grenser Dresden 1789\nBarockviola von Gabriel David Buchstetter\, Regensburg 1762\nHistorische Gitarre nach Anton Stauffer\, Wien ca. 1840 \nAnton Diabelli (1781-1858): Serenata Concertante op. 105 \nFranz Schubert (1797-1828): Ständchen | Frühlingsglaube\n(Barockviola und historische Gitarre) \nFerdinando Carulli (1770-1841): Duo op. 104\, Nr. 1 \nJohann Kaspar Mertz (1806-1856): Fantaisie Hongroise (hist. Gitarre Solo) \nWenzeslav Matiegka (1772-1830): Notturno op. 21 \nÄnderungen vorbehalten \nKarten: € 20\,- | Schüler\, Studenten Schwerbehinderte (m/w/d) € 15\,- \nEintrittskarten in der Tourist-Info erhältlich
URL:https://www.unser-seligenstadt.de/event/seligenstaedter-klosterkonzerte-zu-besuch-bei-abt-beringer
LOCATION:Hofgut Hörstein\, Mömbriser Str. 6a\, Hörstein\, 63755
CATEGORIES:Konzerte & Live-Musik
ATTACH;FMTTYPE=image/jpeg:https://www.unser-seligenstadt.de/wp-content/uploads/2026/02/Trio-Patetico.jpg
END:VEVENT
BEGIN:VEVENT
DTSTART;TZID=Europe/Paris:20260724T183000
DTEND;TZID=Europe/Paris:20260724T193000
DTSTAMP:20260424T145023
CREATED:20260303T122329Z
LAST-MODIFIED:20260303T122329Z
UID:10000472-1784917800-1784921400@www.unser-seligenstadt.de
SUMMARY:Ausgleichs-Gymnastik Förderkreis Lichtblick e.V.
DESCRIPTION:Hast du auch das Gefühl\, du solltest mal wieder mehr Sport machen? Wir hätten die Lösung für dich.\nMit Friedrich Klucke\, Bewegungscoach und Personal-Trainer\, machen sogar anstrengende Übungen Spaß.\nBequeme Kleidung\, Sportschuhe (für draußen ist es besser)\, etwas zu trinken\, ein Handtuch und ganz wichtig: gute Laune.\nDenk nicht so lange darüber nach\, sondern komm einfach vorbei und leg los.
URL:https://www.unser-seligenstadt.de/event/ausgleichs-gymnastik-foerderkreis-lichtblick-e-v-2/2026-07-24
LOCATION:HANS-MEMLING-HAUS\, Grosse Maingasse 7 (ehemaliges Schulhaus)\, Seligenstadt\, 63500\, Germany
CATEGORIES:Kinder & Familien,Kurse & Info-Events,Sport & Bewegung
ATTACH;FMTTYPE=image/jpeg:https://www.unser-seligenstadt.de/wp-content/uploads/2026/02/Logo-LB-bunt.jpg
ORGANIZER;CN="F%C3%B6rderkreis Lichtblick e.V.":MAILTO:Kontakt(at)Lichtblick-seligenstadt.de
END:VEVENT
END:VCALENDAR