BEGIN:VCALENDAR
VERSION:2.0
PRODID:-//Unser Seligenstadt - ECPv6.15.20//NONSGML v1.0//EN
CALSCALE:GREGORIAN
METHOD:PUBLISH
X-WR-CALNAME:Unser Seligenstadt
X-ORIGINAL-URL:https://www.unser-seligenstadt.de
X-WR-CALDESC:Veranstaltungen für Unser Seligenstadt
REFRESH-INTERVAL;VALUE=DURATION:PT1H
X-Robots-Tag:noindex
X-PUBLISHED-TTL:PT1H
BEGIN:VTIMEZONE
TZID:Europe/Paris
BEGIN:DAYLIGHT
TZOFFSETFROM:+0100
TZOFFSETTO:+0200
TZNAME:CEST
DTSTART:20250330T010000
END:DAYLIGHT
BEGIN:STANDARD
TZOFFSETFROM:+0200
TZOFFSETTO:+0100
TZNAME:CET
DTSTART:20251026T010000
END:STANDARD
BEGIN:DAYLIGHT
TZOFFSETFROM:+0100
TZOFFSETTO:+0200
TZNAME:CEST
DTSTART:20260329T010000
END:DAYLIGHT
BEGIN:STANDARD
TZOFFSETFROM:+0200
TZOFFSETTO:+0100
TZNAME:CET
DTSTART:20261025T010000
END:STANDARD
BEGIN:DAYLIGHT
TZOFFSETFROM:+0100
TZOFFSETTO:+0200
TZNAME:CEST
DTSTART:20270328T010000
END:DAYLIGHT
BEGIN:STANDARD
TZOFFSETFROM:+0200
TZOFFSETTO:+0100
TZNAME:CET
DTSTART:20271031T010000
END:STANDARD
END:VTIMEZONE
BEGIN:VEVENT
DTSTART;TZID=Europe/Paris:20260627T110000
DTEND;TZID=Europe/Paris:20260627T170000
DTSTAMP:20260420T133159
CREATED:20260212T074843Z
LAST-MODIFIED:20260213T073731Z
UID:10000369-1782558000-1782579600@www.unser-seligenstadt.de
SUMMARY:Jubiläumsausstellung "50 Jahre Verein zur Förderung des RegioMuseums Seligenstadt e.V."
DESCRIPTION:Eine Sonderausstellung mit besonders herausragenden Darbringungen und Exponaten aus der  50-jährigen Vereinsgeschichte. Die Ausstellung ist zu den Öffnungszeiten des RegioMuseums Samstag\, Sonntag und an Feiertagen von 11:00 Uhr bis 17:00 Uhr zu besichtigen.
URL:https://www.unser-seligenstadt.de/event/jubilaeumsausstellung-50-jahre-verein-zur-foerderung-des-regiomuseums-seligenstadt-e-v/2026-06-27
LOCATION:Regio Museum\, Klosterhof 2\, Seligenstadt\, Hessen\, 63500\, Germany
CATEGORIES:Kunst, Kultur & Ausstellungen
ATTACH;FMTTYPE=image/jpeg:https://www.unser-seligenstadt.de/wp-content/uploads/2026/02/4013_240_1_g.jpg
END:VEVENT
BEGIN:VEVENT
DTSTART;TZID=Europe/Paris:20260627T113000
DTEND;TZID=Europe/Paris:20260627T123000
DTSTAMP:20260420T133159
CREATED:20260105T091327Z
LAST-MODIFIED:20260311T140023Z
UID:10000068-1782559800-1782563400@www.unser-seligenstadt.de
SUMMARY:Öffentliche Stadtführung "Seligenstadt im Überblick"
DESCRIPTION:Sie unternehmen einen Rundgang durch die denkmalgeschützte Altstadt mit ihren zahlreichen Fachwerkhäusern\, der eindrucksvollen Einhardbasilika und den Gärten des ehemaligen Klosters. \nVon März bis Dezember immer samstags um 11:30 Uhr  \nDauer: 60 Minuten \nTreffpunkt: Einhardhaus\, Aschaffenburger Str. 1 \nKosten: 10€ pro Person. Bezahlung vorab in der Tourist-Info. \nVoranmeldung gewünscht unter 06182 961 87 66 oder touristinfo@unser-seligenstadt.de
URL:https://www.unser-seligenstadt.de/event/oeffentliche-stadtfuehrung-seligenstadt-im-ueberblick/2026-06-27
LOCATION:Hessen
CATEGORIES:Führungen,Stadt & Geschichte erleben
ATTACH;FMTTYPE=image/jpeg:https://www.unser-seligenstadt.de/wp-content/uploads/2026/01/Nina-Herold-Seligenstadt-12.jpg
END:VEVENT
BEGIN:VEVENT
DTSTART;TZID=Europe/Paris:20260627T140000
DTEND;TZID=Europe/Paris:20260628T180000
DTSTAMP:20260420T133159
CREATED:20260114T132206Z
LAST-MODIFIED:20260409T120952Z
UID:10000188-1782568800-1782669600@www.unser-seligenstadt.de
SUMMARY:75-jähriges Jubiläumsfest der Kolping Seligenstadt
DESCRIPTION:Die Kolpingsfamilie Seligenstadt (mit Froschhausen\nund Klein-Welzheim) feiern vom 27.06.-28.06.2026 ihr\n75-jähriges Jubiläumsfest auf dem Kolpinggelände mit\neinem 400 Personen großen Festzelt.\nAls Festpräsidenten konnten wir unser Kolpingmitglied\, den\nLandtagsvizepräsidenten Frank Lortz gewinnen.\nDas Festprogramm ist wie folgt geplant:\n27.06.2026\n14:00 Uhr Familienfest\, mit Kinderschminken\, Hüpfburg\, Springseile\, Eis-Wagen u.v.m.\nKaffee und Kuchen im Kolpinghaus\nGetränkeverkauf und Musik im Festzelt\n18:00 Uhr Ehrungen und Grußworte\n18:30 Uhr Bieranstich mit Festpräsident Frank Lortz\, Pfarrer Stefan Selzer\, Robert Glaab und weiteren Persönlichkeiten.\nEs spielt das „reFRESHed-Orchester“ der Stadtkapelle Seligenstadt.\n28.06.2026\n10:00 Uhr Gottesdienst\, mit Einzug der Banner von Kolpingsfamilien.\nMit dabei; Gesangverein „Gesellschaft der Freunde 1856 Seligenstadt“\nAb ca\, 11:15 Uhr Frühschoppen mit Festpräsident Frank Lortz\nGetränke FREI für alle\nEs spielt die Trachten Kolpingkapelle aus dem Westerngrund bis ca. 15:00 Uhr\nab 12:00 Familienfest\nca. 15:00 Uhr Show-Gymnastik der Kolping-Ausgleichsportler\nca. 16:00 Uhr eine Ukrainische Überraschung\nAb 13:30 Uhr ist die Kaffeetheke im Kolpinghaus geöffnet\n18:00 Uhr ENDE der Veranstaltung\nWir benötigen viele freiwillige Helfer. Bitte ab sofort beim Festausschuss melden.\nHorst Happel 27243 oder horsthappel@web.de\nHeinz Wenzel 0177 6690883 oder heinz.wenzel@web.de
URL:https://www.unser-seligenstadt.de/event/kolping-75-jaehriges-jubilaeumsfest
LOCATION:Kolpinggelände\, Babenhäuser Weg 2\, Seligenstadt\, 63500
CATEGORIES:Feste & Tradition
ATTACH;FMTTYPE=image/jpeg:https://www.unser-seligenstadt.de/wp-content/uploads/2026/01/Bild-Westerngruender-Musikanten2-scaled.jpg
ORGANIZER;CN="Kolpingsfamilie Seligenstadt":MAILTO:info@kolping-seligenstadt.de
END:VEVENT
BEGIN:VEVENT
DTSTART;TZID=Europe/Paris:20260627T160000
DTEND;TZID=Europe/Paris:20260627T173000
DTSTAMP:20260420T133159
CREATED:20260119T074845Z
LAST-MODIFIED:20260119T074845Z
UID:10000212-1782576000-1782581400@www.unser-seligenstadt.de
SUMMARY:Woi-Worscht-Witzigkeit
DESCRIPTION:Erleben Sie auf unterhaltsame Weise die Ansichten\, Einsichten\, Umsichten\, Nachsichten und andere Geschichten eines echten Seligenstädters. Im Mittelpunkt stehen keine Jahreszahlen und historische Ereignisse sondern Spaß\, Freude und Heiterkeit. Lachen ist erlaubt und erwünscht. Bei diesem Spaziergang geht es um die Lebensweise der Menschen am Main. Im Vordergrund steht aber die Art wie sie sprechen\, wie sie sich ausdrücken\, wie sie sich verhalten\, was sie essen und trinken. Nach dem StadtSpaziergang können sie in Heimatkunde keinen Blumentopf\, aber hoffentlich einen guten Eindruck von der Lebensweise der Seligenstädter gewinnen. Den Abschluss genießen wir bei einem guten Schoppen und einer guten Worscht im Herzen der Altstadt. \nDie Teilnehmerzahl ist begrenzt. Eine Anmeldung über info@rolandbabbelt.de oder TEL: 06182-27490 ist erforderlich.
URL:https://www.unser-seligenstadt.de/event/woi-worscht-witzigkeit/2026-06-27
LOCATION:Seligenstadt Altstadtgebiet\, Marktplatz 1\, Seligenstadt\, Hessen\, 63500\, Germany
CATEGORIES:Führungen,Kinder & Familien,Stadt & Geschichte erleben
ATTACH;FMTTYPE=image/jpeg:https://www.unser-seligenstadt.de/wp-content/uploads/2026/01/Woi-Worscht-Witzigkeit.jpg
ORGANIZER;CN="Roland Wolf":MAILTO:info@rolandbabbelt.de
END:VEVENT
BEGIN:VEVENT
DTSTART;TZID=Europe/Paris:20260627T190000
DTEND;TZID=Europe/Paris:20260627T230000
DTSTAMP:20260420T133159
CREATED:20260211T085338Z
LAST-MODIFIED:20260304T075651Z
UID:10000338-1782586800-1782601200@www.unser-seligenstadt.de
SUMMARY:4. Boogie Woogie Dance Night
DESCRIPTION:Der Boogie Woogie Club Seligenstadt veranstaltet an vier Samstagen eine Boogie Woogie Dance Night (4. Termin) Veranstaltungsort ist das Bürgerhaus Klein-Welzheim. Getanzt werden kann von 19-23 Uhr. Der Eintritt ist FREI – um Spenden wird gebeten. Für Snacks und Getränke wird gesorgt.
URL:https://www.unser-seligenstadt.de/event/4-boogie-woogie-dance-night
LOCATION:Bürgerhaus Klein-Welzheim\, Hauptstr. 18\, Seligenstadt\, Hessen\, 63500\, Germany
CATEGORIES:Sonstiges,Sport & Bewegung
ATTACH;FMTTYPE=image/jpeg:https://www.unser-seligenstadt.de/wp-content/uploads/2026/02/Boogie-Woogie-scaled.jpg
ORGANIZER;CN="TSA Seligenstadt - Boogie Woogie Club Seligenstadt":MAILTO:markus.wunderlich@tsa-seligenstadt.de
END:VEVENT
END:VCALENDAR