BEGIN:VCALENDAR
VERSION:2.0
PRODID:-//Unser Seligenstadt - ECPv6.15.20//NONSGML v1.0//EN
CALSCALE:GREGORIAN
METHOD:PUBLISH
X-ORIGINAL-URL:https://www.unser-seligenstadt.de
X-WR-CALDESC:Veranstaltungen für Unser Seligenstadt
REFRESH-INTERVAL;VALUE=DURATION:PT1H
X-Robots-Tag:noindex
X-PUBLISHED-TTL:PT1H
BEGIN:VTIMEZONE
TZID:Europe/Paris
BEGIN:DAYLIGHT
TZOFFSETFROM:+0100
TZOFFSETTO:+0200
TZNAME:CEST
DTSTART:20250330T010000
END:DAYLIGHT
BEGIN:STANDARD
TZOFFSETFROM:+0200
TZOFFSETTO:+0100
TZNAME:CET
DTSTART:20251026T010000
END:STANDARD
BEGIN:DAYLIGHT
TZOFFSETFROM:+0100
TZOFFSETTO:+0200
TZNAME:CEST
DTSTART:20260329T010000
END:DAYLIGHT
BEGIN:STANDARD
TZOFFSETFROM:+0200
TZOFFSETTO:+0100
TZNAME:CET
DTSTART:20261025T010000
END:STANDARD
BEGIN:DAYLIGHT
TZOFFSETFROM:+0100
TZOFFSETTO:+0200
TZNAME:CEST
DTSTART:20270328T010000
END:DAYLIGHT
BEGIN:STANDARD
TZOFFSETFROM:+0200
TZOFFSETTO:+0100
TZNAME:CET
DTSTART:20271031T010000
END:STANDARD
END:VTIMEZONE
BEGIN:VEVENT
DTSTART;TZID=Europe/Paris:20260618T080000
DTEND;TZID=Europe/Paris:20260618T170000
DTSTAMP:20260424T205820
CREATED:20260303T115946Z
LAST-MODIFIED:20260303T115946Z
UID:10000505-1781769600-1781802000@www.unser-seligenstadt.de
SUMMARY:Nostalgiemarkt
DESCRIPTION:Nostalgie und Aussergewöhnliches
URL:https://www.unser-seligenstadt.de/event/nostalgiemarkt/2026-06-18
LOCATION:Marktgebiet Seligenstadt\, Marktplatz Seligenstadt\, Seligenstadt\, Hessen\, 63500\, Germany
CATEGORIES:Kunst, Kultur & Ausstellungen
END:VEVENT
BEGIN:VEVENT
DTSTART;TZID=Europe/Paris:20260618T080000
DTEND;TZID=Europe/Paris:20260618T170000
DTSTAMP:20260424T205820
CREATED:20260311T140749Z
LAST-MODIFIED:20260311T140858Z
UID:10000554-1781769600-1781802000@www.unser-seligenstadt.de
SUMMARY:Nostalgiemarkt auf dem Marktplatz
DESCRIPTION:Altertümliche\, Seltenes und Sammelwertes
URL:https://www.unser-seligenstadt.de/event/nostalgiemarkt-auf-dem-marktplatz/2026-06-18
LOCATION:Marktgebiet Seligenstadt\, Marktplatz Seligenstadt\, Seligenstadt\, Hessen\, 63500\, Germany
CATEGORIES:Kulinarik & Märkte,Sonstiges
ATTACH;FMTTYPE=image/jpeg:https://www.unser-seligenstadt.de/wp-content/uploads/2026/03/43448-scaled.jpg
ORGANIZER;CN="Alban  Reh":MAILTO:Reh.seligenstadt@web.de
END:VEVENT
BEGIN:VEVENT
DTSTART;TZID=Europe/Paris:20260618T160000
DTEND;TZID=Europe/Paris:20260618T173000
DTSTAMP:20260424T205820
CREATED:20260119T074453Z
LAST-MODIFIED:20260119T074453Z
UID:10000223-1781798400-1781803800@www.unser-seligenstadt.de
SUMMARY:"kurz & zaggisch - heiter knaggisch" - Seligenstädter Stadtgeschichte anders gebabbelt
DESCRIPTION:Erfahren und erleben Sie in gut und knapp 60 Minuten\, manchmal dauert es auch 1 Stunde\, von einem echten Seligenstädter\, eine ganz andere Sichtweise zu historischen Sehenswürdigkeiten und Ereignissen der schönen Einhardstadt am Main. Sie hören wie sich die Geschichte rund um den Pfannenkuchen zwischen Kaiser Karl\, Einhard und Emma wirklich zugetragen hat. Genießen Sie zum Abschluss eine kurze & knaggische Kostprobe hessischer Spezialitäten im Herzen\nder Seligenstädter Altstadt. Aber bitte genau lesen. Es heißt „knaggisch“ und nicht „naggisch“. Es sollen hier keine falschen Erwartungen geweckt werden.Die Teilnehmerzahl ist begrenzt. Eine Anmeldung über info@rolandbabbelt.de oder TEL: 06182-27490 ist erforderlich.
URL:https://www.unser-seligenstadt.de/event/kurz-zaggisch-heiter-knaggisch-seligenstaedter-stadtgeschichte-anders-gebabbelt/2026-06-18
LOCATION:Seligenstadt Altstadtgebiet\, Marktplatz 1\, Seligenstadt\, Hessen\, 63500\, Germany
CATEGORIES:Führungen,Stadt & Geschichte erleben
ATTACH;FMTTYPE=image/jpeg:https://www.unser-seligenstadt.de/wp-content/uploads/2026/01/kurz-zaggisch.jpg
ORGANIZER;CN="Roland Wolf":MAILTO:info@rolandbabbelt.de
END:VEVENT
BEGIN:VEVENT
DTSTART;TZID=Europe/Paris:20260618T200000
DTEND;TZID=Europe/Paris:20260618T220000
DTSTAMP:20260424T205820
CREATED:20260317T065220Z
LAST-MODIFIED:20260317T065239Z
UID:10000593-1781812800-1781820000@www.unser-seligenstadt.de
SUMMARY:Monsieur Pompadour
DESCRIPTION:
URL:https://www.unser-seligenstadt.de/event/monsieur-pompadour
LOCATION:Jakobsaal im St. Josefshaus\, Jakobstraße 5\, Seligenstadt\, Hessen\, 63500\, Germany
CATEGORIES:Konzerte & Live-Musik
ATTACH;FMTTYPE=image/png:https://www.unser-seligenstadt.de/wp-content/uploads/2025/12/Seligenstadt-erleben-2.png
END:VEVENT
END:VCALENDAR