BEGIN:VCALENDAR
VERSION:2.0
PRODID:-//Unser Seligenstadt - ECPv6.15.20//NONSGML v1.0//EN
CALSCALE:GREGORIAN
METHOD:PUBLISH
X-WR-CALNAME:Unser Seligenstadt
X-ORIGINAL-URL:https://www.unser-seligenstadt.de
X-WR-CALDESC:Veranstaltungen für Unser Seligenstadt
REFRESH-INTERVAL;VALUE=DURATION:PT1H
X-Robots-Tag:noindex
X-PUBLISHED-TTL:PT1H
BEGIN:VTIMEZONE
TZID:Europe/Paris
BEGIN:DAYLIGHT
TZOFFSETFROM:+0100
TZOFFSETTO:+0200
TZNAME:CEST
DTSTART:20250330T010000
END:DAYLIGHT
BEGIN:STANDARD
TZOFFSETFROM:+0200
TZOFFSETTO:+0100
TZNAME:CET
DTSTART:20251026T010000
END:STANDARD
BEGIN:DAYLIGHT
TZOFFSETFROM:+0100
TZOFFSETTO:+0200
TZNAME:CEST
DTSTART:20260329T010000
END:DAYLIGHT
BEGIN:STANDARD
TZOFFSETFROM:+0200
TZOFFSETTO:+0100
TZNAME:CET
DTSTART:20261025T010000
END:STANDARD
BEGIN:DAYLIGHT
TZOFFSETFROM:+0100
TZOFFSETTO:+0200
TZNAME:CEST
DTSTART:20270328T010000
END:DAYLIGHT
BEGIN:STANDARD
TZOFFSETFROM:+0200
TZOFFSETTO:+0100
TZNAME:CET
DTSTART:20271031T010000
END:STANDARD
END:VTIMEZONE
BEGIN:VEVENT
DTSTART;TZID=Europe/Paris:20260606T100000
DTEND;TZID=Europe/Paris:20260607T160000
DTSTAMP:20260422T135418
CREATED:20260116T120711Z
LAST-MODIFIED:20260116T120852Z
UID:10000206-1780740000-1780848000@www.unser-seligenstadt.de
SUMMARY:Airport 75
DESCRIPTION:Der Luftsportverein Seligenstadt-Zellhausen e.V. wird dieses Jahr 75 Jahre alt.\nDieses 75. Jubiläum möchten wir in Form eines großen Festes feiern\, welches dieses Jahr „Airport 75“ heißen wird und über zwei Tage andauern soll.\nDer Airport 75 soll von Samstag\, 06.06. bis Sonntag\, 07.06.2026 stattfinden. \nBesucher können auf dem Flugplatz Zellhausen historische und moderne Flugzeuge aus nächster Nähe erleben. Neben spannenden Flugshows und Kunstflugvorführungen gibt es die Möglichkeit\, selbst bei Rundflügen abzuheben. Am Samstagabend wird es außerdem Live-Musik sowie ein Ballonglühen für eine entspannte Atmosphäre sorgen. \nFür Speis und Trank wird ebenfalls mit Essens- und Getränkeständen sowie Foodtrucks gesorgt.
URL:https://www.unser-seligenstadt.de/event/airport-75
LOCATION:Flugplatz Zellhausen\, Käthchen-Paulus-Straße 8\, Mainhausen\, Hessen\, 63533\, Germany
CATEGORIES:Feste & Tradition,Sport & Bewegung
ATTACH;FMTTYPE=image/jpeg:https://www.unser-seligenstadt.de/wp-content/uploads/2026/01/LSV-75-Jubi-Instragram-Post-SafeTheDate-scaled.jpg
ORGANIZER;CN="Luftsportverein Seligenstadt-Zellhausen e.V.":MAILTO:info@lsv-zellhausen.de
END:VEVENT
BEGIN:VEVENT
DTSTART;TZID=Europe/Paris:20260607T150000
DTEND;TZID=Europe/Paris:20260607T154500
DTSTAMP:20260422T135418
CREATED:20260305T075848Z
LAST-MODIFIED:20260309T084404Z
UID:10000537-1780844400-1780847100@www.unser-seligenstadt.de
SUMMARY:Geführte Tour durch das RegioMuseum
DESCRIPTION:Die Führung „Seligenstadt im Wandel der Zeit“ spannt den Bogen von den frühen Spuren menschlicher Besiedlung bis hin zu lokalen Traditionen. Dabei geht es um das Wollhaar- Mammut\, die Gräber von Klein-Welzheim\, das Römerkastell\, die Einhardsage und den Löffeltrunk. Der Rundgang verbindet so Archäologie\, Stadtgeschichte und kulturelles Gedächtnis.
URL:https://www.unser-seligenstadt.de/event/gefuehrte-tour-durch-das-regiomuseum-seligenstadt-im-wandel-der-zeit-eine-faszinierende-reise-durch-geschichte-und-gegenwart
LOCATION:Regio Museum\, Klosterhof 2\, Seligenstadt\, Hessen\, 63500\, Germany
CATEGORIES:Feste & Tradition,Führungen,Kinder & Familien
ATTACH;FMTTYPE=image/jpeg:https://www.unser-seligenstadt.de/wp-content/uploads/2026/03/DSC07213-scaled.jpg
END:VEVENT
END:VCALENDAR