BEGIN:VCALENDAR
VERSION:2.0
PRODID:-//Unser Seligenstadt - ECPv6.15.20//NONSGML v1.0//EN
CALSCALE:GREGORIAN
METHOD:PUBLISH
X-WR-CALNAME:Unser Seligenstadt
X-ORIGINAL-URL:https://www.unser-seligenstadt.de
X-WR-CALDESC:Veranstaltungen für Unser Seligenstadt
REFRESH-INTERVAL;VALUE=DURATION:PT1H
X-Robots-Tag:noindex
X-PUBLISHED-TTL:PT1H
BEGIN:VTIMEZONE
TZID:Europe/Paris
BEGIN:DAYLIGHT
TZOFFSETFROM:+0100
TZOFFSETTO:+0200
TZNAME:CEST
DTSTART:20250330T010000
END:DAYLIGHT
BEGIN:STANDARD
TZOFFSETFROM:+0200
TZOFFSETTO:+0100
TZNAME:CET
DTSTART:20251026T010000
END:STANDARD
BEGIN:DAYLIGHT
TZOFFSETFROM:+0100
TZOFFSETTO:+0200
TZNAME:CEST
DTSTART:20260329T010000
END:DAYLIGHT
BEGIN:STANDARD
TZOFFSETFROM:+0200
TZOFFSETTO:+0100
TZNAME:CET
DTSTART:20261025T010000
END:STANDARD
BEGIN:DAYLIGHT
TZOFFSETFROM:+0100
TZOFFSETTO:+0200
TZNAME:CEST
DTSTART:20270328T010000
END:DAYLIGHT
BEGIN:STANDARD
TZOFFSETFROM:+0200
TZOFFSETTO:+0100
TZNAME:CET
DTSTART:20271031T010000
END:STANDARD
END:VTIMEZONE
BEGIN:VEVENT
DTSTART;TZID=Europe/Paris:20260530T110000
DTEND;TZID=Europe/Paris:20260531T180000
DTSTAMP:20260424T161259
CREATED:20260327T103437Z
LAST-MODIFIED:20260327T103437Z
UID:10000608-1780138800-1780250400@www.unser-seligenstadt.de
SUMMARY:Zunft- und Handwerkermarkt
DESCRIPTION:Alle 2 Jahre veranstaltet der Verein Klatschmohn e.V. einen Zunft- und Handwerkermarkt auf dem Gelände der ehemaligen Benediktinerabtei in Seligenstadt/Hessen. \nTauchen Sie ein in vergangene Zeiten\, wo Tradition und Brauchtum wieder zum Leben erweckt werden! Erleben Sie eine faszinierende Zeitreise zurückin die Ära der Kaufmannszüge\, fahrenden Händler und Scholaren. Über 100 Handwerker und Künstler präsentieren in authentischer Kleidung ihre Kunstfertigkeiten\, begleitet von Musik\, Artistik und Kurzweyl. \nFür Kinder gibt es ein historisches Kinderkarussell und allerlei Beschäftigung im Mühlgarten und ein Puppentheater erzählt spielerisch die Geschichte von Seligenstadt. \nFür das leibliche Wohl ist vielfältig gesorgt. \nGaukler und Künstler tragen zur Unterhaltung bei.  Der Samstagabend endet mit einer Feuershow.
URL:https://www.unser-seligenstadt.de/event/zunft-und-handwerkermarkt
LOCATION:Klosterhof Seligenstadt\, Klosterhof 2\, Seligenstadt\, Hessen\, 63500\, Germany
CATEGORIES:Kulinarik & Märkte,Sonstiges,Stadt & Geschichte erleben
ATTACH;FMTTYPE=image/jpeg:https://www.unser-seligenstadt.de/wp-content/uploads/2026/03/IMG-20260306-WA0003.jpg
END:VEVENT
BEGIN:VEVENT
DTSTART;TZID=Europe/Paris:20260530T160000
DTEND;TZID=Europe/Paris:20260601T160000
DTSTAMP:20260424T161259
CREATED:20260116T121119Z
LAST-MODIFIED:20260116T121119Z
UID:10000205-1780156800-1780329600@www.unser-seligenstadt.de
SUMMARY:Kölsche Sommernacht der Feuerwehr Seligenstadt
DESCRIPTION:Traditionelles Sommerfest der Feuerwehr Seligenstadt mit Live Musik am Samstagabend und Kölsch vom Fass. \nDer Sonntag ist Familientag mit Kinderbelustigung.
URL:https://www.unser-seligenstadt.de/event/koelsche-sommernacht-der-feuerwehr-seligenstadt/2026-05-30/3
LOCATION:Feuerwehrhaus Seligenstadt\, Frankfurter Straße 31\, Seligenstadt\, Hessen\, 63500\, Germany
CATEGORIES:Feste & Tradition,Kinder & Familien,Konzerte & Live-Musik
ORGANIZER;CN="Freiwillige Feuerwehr 1889 Seligenstadt e.V.":MAILTO:G.schmidt@feuerwehr-seligenstadt.de
END:VEVENT
BEGIN:VEVENT
DTSTART;TZID=Europe/Paris:20260531T083000
DTEND;TZID=Europe/Paris:20260531T170000
DTSTAMP:20260424T161259
CREATED:20260225T093248Z
LAST-MODIFIED:20260225T093248Z
UID:10000495-1780216200-1780246800@www.unser-seligenstadt.de
SUMMARY:Ausflug und Draisinen-Tour im Odenwald mit dem Förderkreis Lichtblick e.V.
DESCRIPTION:Wir machen gemeinsam einen Ausflug mit der Draisine!\nMit der Draisine fahren wir auf einem alten Gleis und haben viel Spaß zusammen.\nEin paar von uns strampeln ein wenig und die anderen lassen sich fahren.:-) \nKommt mit und erlebt ein Abenteuer in der Natur.\nAuf dem Weg machen wir ein kleines Picknick und am Ende kehren wir in eine Wirtschaft ein. \nFür den Ausflug braucht ihr:\nGute Laune\, wettergerechte Kleidung und Geld für den Ausflug\, Essen und Getränke in der Wirtschaft. \nFür Rollstuhlfahrer*innen: Bitte schreibt in eurer Anmeldung dazu\, dass ihr eine rollstuhlgerechte Draisine benötigt. \nAnmeldung bis 30.04.26 an: kontak(at)lichtblick-seligenstadt.de\nDie Teilnehmerzahl ist begrenzt!
URL:https://www.unser-seligenstadt.de/event/ausflug-und-draisinen-tour-im-odenwald-mit-dem-foerderkreis-lichtblick-e-v
CATEGORIES:Kinder & Familien,Sport & Bewegung
ATTACH;FMTTYPE=image/jpeg:https://www.unser-seligenstadt.de/wp-content/uploads/2026/02/Logo-LB-bunt-klein-2.jpg
ORGANIZER;CN="F%C3%B6rderkreis Lichtblick e.V.":MAILTO:Kontakt(at)Lichtblick-seligenstadt.de
END:VEVENT
BEGIN:VEVENT
DTSTART;TZID=Europe/Paris:20260531T103000
DTEND;TZID=Europe/Paris:20260531T170000
DTSTAMP:20260424T161259
CREATED:20260119T075327Z
LAST-MODIFIED:20260119T075327Z
UID:10000210-1780223400-1780246800@www.unser-seligenstadt.de
SUMMARY:Jubiläum: 20 Jahre Kirche des Nazareners in Froschhausen
DESCRIPTION:Mit einem Festgottesdienst mit anschließendem Grillfest und Spielmobil für Kinder feiert die Kirche des Nazareners den Umzug nach Forschhausen und die Einweihung ihres Gemeindenzentrums vor 20 Jahren im Frühjahr 2006.
URL:https://www.unser-seligenstadt.de/event/jubilaeum-20-jahre-kirche-des-nazareners-in-froschhausen
LOCATION:Gemeindezentrum Kirche des Nazareners Seligenstadt\, Am Klinggraben 1C\, Seligenstadt-Froschhausen\, Hessen\, 63500\, Germany
CATEGORIES:Feste & Tradition
ATTACH;FMTTYPE=image/png:https://www.unser-seligenstadt.de/wp-content/uploads/2026/01/Nazarener-Luftballons-Fest.png
ORGANIZER;CN="Kirche des Nazareners Seligenstadt":MAILTO:info@nazarener-seligenstadt.de
END:VEVENT
BEGIN:VEVENT
DTSTART;TZID=Europe/Paris:20260531T130000
DTEND;TZID=Europe/Paris:20260531T134500
DTSTAMP:20260424T161259
CREATED:20260407T090018Z
LAST-MODIFIED:20260407T090018Z
UID:10000629-1780232400-1780235100@www.unser-seligenstadt.de
SUMMARY:Kinder-Lesung anlässlich des Zunft- und Handwerkermarktes
DESCRIPTION:„Spuren im Schnee – Die Sage von Emma und Einhard“
URL:https://www.unser-seligenstadt.de/event/kinder-lesung-anlaesslich-des-zunft-und-handwerkermarktes/2026-05-31
LOCATION:Regio Museum\, Klosterhof 2\, Seligenstadt\, Hessen\, 63500\, Germany
CATEGORIES:Kinder & Familien,Stadt & Geschichte erleben
END:VEVENT
BEGIN:VEVENT
DTSTART;TZID=Europe/Paris:20260531T140000
DTEND;TZID=Europe/Paris:20260531T144500
DTSTAMP:20260424T161259
CREATED:20260407T085847Z
LAST-MODIFIED:20260407T085919Z
UID:10000631-1780236000-1780238700@www.unser-seligenstadt.de
SUMMARY:Führung für Familien und Erwachsene im RegioMuseum
DESCRIPTION:„Wenn Geschichte gefeiert wird – Zünfte und Bräuche Seligenstadts“
URL:https://www.unser-seligenstadt.de/event/fuehrung-fuer-familien-und-erwachsene/2026-05-31
LOCATION:Regio Museum\, Klosterhof 2\, Seligenstadt\, Hessen\, 63500\, Germany
CATEGORIES:Führungen,Kinder & Familien,Stadt & Geschichte erleben
ATTACH;FMTTYPE=image/jpeg:https://www.unser-seligenstadt.de/wp-content/uploads/2026/04/Logo-Museum-scaled.jpg
END:VEVENT
END:VCALENDAR