BEGIN:VCALENDAR
VERSION:2.0
PRODID:-//Unser Seligenstadt - ECPv6.15.20//NONSGML v1.0//EN
CALSCALE:GREGORIAN
METHOD:PUBLISH
X-WR-CALNAME:Unser Seligenstadt
X-ORIGINAL-URL:https://www.unser-seligenstadt.de
X-WR-CALDESC:Veranstaltungen für Unser Seligenstadt
REFRESH-INTERVAL;VALUE=DURATION:PT1H
X-Robots-Tag:noindex
X-PUBLISHED-TTL:PT1H
BEGIN:VTIMEZONE
TZID:Europe/Paris
BEGIN:DAYLIGHT
TZOFFSETFROM:+0100
TZOFFSETTO:+0200
TZNAME:CEST
DTSTART:20250330T010000
END:DAYLIGHT
BEGIN:STANDARD
TZOFFSETFROM:+0200
TZOFFSETTO:+0100
TZNAME:CET
DTSTART:20251026T010000
END:STANDARD
BEGIN:DAYLIGHT
TZOFFSETFROM:+0100
TZOFFSETTO:+0200
TZNAME:CEST
DTSTART:20260329T010000
END:DAYLIGHT
BEGIN:STANDARD
TZOFFSETFROM:+0200
TZOFFSETTO:+0100
TZNAME:CET
DTSTART:20261025T010000
END:STANDARD
BEGIN:DAYLIGHT
TZOFFSETFROM:+0100
TZOFFSETTO:+0200
TZNAME:CEST
DTSTART:20270328T010000
END:DAYLIGHT
BEGIN:STANDARD
TZOFFSETFROM:+0200
TZOFFSETTO:+0100
TZNAME:CET
DTSTART:20271031T010000
END:STANDARD
END:VTIMEZONE
BEGIN:VEVENT
DTSTART;TZID=Europe/Paris:20260525T110000
DTEND;TZID=Europe/Paris:20260525T170000
DTSTAMP:20260420T115929
CREATED:20260407T090350Z
LAST-MODIFIED:20260407T090350Z
UID:10000627-1779706800-1779728400@www.unser-seligenstadt.de
SUMMARY:"The Path of Water and Stone" von Roland Pangrati
DESCRIPTION:Der rumänische Künstler Roland Pangrati zählt zu den wenigen international tätigen Künstlern\, die die traditionelle Technik der japanischen Nihonga-Malerei nutzen. So schafft er überraschende zeitgenössische Werke. \nDie Serie „Weg aus Wasser und Stein“\, inspiriert von der Begegnung zwischen dem Atlantischen Ozean und der portugiesischen Küste\, entfaltet sich als Parabel auf die Erhabenheit der Natur. Es entsteht ein spannungsreiches Zusammenspiel der Elemente mit der außergewöhnlichen Vielfalt der europäischen Landschaft. Seit 2024 wird die Serie in zahlreichen Museen und öffentlichen Galerien präsentiert. Kuratorin ist Dr. Cristina Simion.
URL:https://www.unser-seligenstadt.de/event/the-path-of-water-and-stone-von-roland-pangrati/2026-05-25
LOCATION:Regio Museum\, Klosterhof 2\, Seligenstadt\, Hessen\, 63500\, Germany
CATEGORIES:Kunst, Kultur & Ausstellungen
END:VEVENT
BEGIN:VEVENT
DTSTART;TZID=Europe/Paris:20260525T190000
DTEND;TZID=Europe/Paris:20260525T210000
DTSTAMP:20260420T115929
CREATED:20260219T081123Z
LAST-MODIFIED:20260219T081913Z
UID:10000452-1779735600-1779742800@www.unser-seligenstadt.de
SUMMARY:Seligenstädter Klosterkonzerte: MUSIQUE TRIOMPHALE Brass & Orgel zum Pfingstfest
DESCRIPTION:Jacobi Brass Quartett Hamburg\nValentin Annerbo | Trompete\nAnton Keller | Trompete\nJoão Bastos | Posaune\nLukas Hellman | Posaune\nGerhard Löffler | Orgel   Kantor an der Hauptkirche St. Jacobi Hamburg \n  \nFlor Peeters (1903–1986): Entrata festiva op. 93 \nJohann Sebastian Bach (1685–1750): Komm\, Heiliger Geist\, Herre Gott BWV 651\naus: Leipziger Choräle \nConcerto D-Dur BWV 972 nach Antonio Vivaldi\nAllegro – Larghetto – Allegro \nOskar Frederik Lindberg (1887–1955): Gammal fäbodpsalm von Dalarn \nEugène Gigout (1844–1925): Grand Chœr dialogué \nRichard Strauss  (1864–1949): Feierlicher Einzug TrV 224 \nMaurice Duruflé (1902–1986): Choral-Variationen über Veni creator op. 4 \nAlexandre Guilmant (1837–1911): Musique Triomphale \n  \nKarten: € 20\,- | Schüler\, Studenten Schwerbehinderte (m/w/d) € 15\,- \nEintrittskarten erhältlich in der Tourist-Info Seligenstadt
URL:https://www.unser-seligenstadt.de/event/seligenstaedter-klosterkonzerte-musique-triomphale-brass-orgel-zum-pfingstfest
LOCATION:Einhardbasilika\, Große Maingasse\, Seligenstadt\, 63500\, Germany
CATEGORIES:Konzerte & Live-Musik
ATTACH;FMTTYPE=image/jpeg:https://www.unser-seligenstadt.de/wp-content/uploads/2026/02/loeffler.jpg
END:VEVENT
END:VCALENDAR