BEGIN:VCALENDAR
VERSION:2.0
PRODID:-//Unser Seligenstadt - ECPv6.15.20//NONSGML v1.0//EN
CALSCALE:GREGORIAN
METHOD:PUBLISH
X-WR-CALNAME:Unser Seligenstadt
X-ORIGINAL-URL:https://www.unser-seligenstadt.de
X-WR-CALDESC:Veranstaltungen für Unser Seligenstadt
REFRESH-INTERVAL;VALUE=DURATION:PT1H
X-Robots-Tag:noindex
X-PUBLISHED-TTL:PT1H
BEGIN:VTIMEZONE
TZID:Europe/Paris
BEGIN:DAYLIGHT
TZOFFSETFROM:+0100
TZOFFSETTO:+0200
TZNAME:CEST
DTSTART:20250330T010000
END:DAYLIGHT
BEGIN:STANDARD
TZOFFSETFROM:+0200
TZOFFSETTO:+0100
TZNAME:CET
DTSTART:20251026T010000
END:STANDARD
BEGIN:DAYLIGHT
TZOFFSETFROM:+0100
TZOFFSETTO:+0200
TZNAME:CEST
DTSTART:20260329T010000
END:DAYLIGHT
BEGIN:STANDARD
TZOFFSETFROM:+0200
TZOFFSETTO:+0100
TZNAME:CET
DTSTART:20261025T010000
END:STANDARD
BEGIN:DAYLIGHT
TZOFFSETFROM:+0100
TZOFFSETTO:+0200
TZNAME:CEST
DTSTART:20270328T010000
END:DAYLIGHT
BEGIN:STANDARD
TZOFFSETFROM:+0200
TZOFFSETTO:+0100
TZNAME:CET
DTSTART:20271031T010000
END:STANDARD
END:VTIMEZONE
BEGIN:VEVENT
DTSTART;VALUE=DATE:20260515
DTEND;VALUE=DATE:20260518
DTSTAMP:20260420T115934
CREATED:20260211T090121Z
LAST-MODIFIED:20260331T093057Z
UID:10000333-1778803200-1779062399@www.unser-seligenstadt.de
SUMMARY:unterwegs THEATER FESTIVAL
DESCRIPTION:Der Kulturverein protagon e.V. lädt mit dem Unterwegs Theaterfestival vom 15 bis 17. Mai 2026 (Seligenstadt) zu einer besonderen Festival-Tour durch Hessen ein. In Kooperation mit lokalen Akteur:innen bringt das Festival Theater\, Tanz\, Performance\, Musik und partizipative Workshops in öffentliche Räume von Mühlheim am Main\, Offenthal/Dreieich und Seligenstadt. \nUnter dem Leitmotiv „Ozean & Atmosphäre“ möchte das Festival das Publikum einladen\, in die Tiefe unserer Welt zu blicken- dorthin\, wo Wasser leben schenkt\, bedroht und unsere Zukunft spiegelt.  An drei verschiedenen Orten entsteht ein Raum für große und kleine Theater- und Musikformate\, für Stücke\, die mit allen Sinnen erfahrbar sind und denen eine herkömmliche Bühne zu klein und zu rechteckig ist – ein Kulturfreiraum für poetisches\, politisches und performatives Theater unter freiem Himmel. An jedem Festivaltag wird ein diverses Programm aus Theater\, Konzerten und Workshops angeboten. Ein besonderes Angebot gibt es für Familien und Kinder mit Stücken\, die sich gezielt an Jüngere richten. \nDamit das Festival für ALLE zugänglich ist\, finanziert sich das Konzept solidarisch: Wie viel du für deinen Besuch geben willst und kannst\, entscheidest du selbst. Gibst du mehr\, kann jemand anders weniger geben. Was ist uns freie Kultur wert? Als Veranstalter*innen vertrauen wir in eure Unterstützung.
URL:https://www.unser-seligenstadt.de/event/unterwegs-theater-festival
LOCATION:Hans-Memling-Platz\, Grosse Maingasse 7\, Seligenstadt\, 63500\, Germany
CATEGORIES:Kinder & Familien,Konzerte & Live-Musik,Kunst, Kultur & Ausstellungen
ATTACH;FMTTYPE=image/jpeg:https://www.unser-seligenstadt.de/wp-content/uploads/2026/02/IMG_7455-rotated.jpeg
ORGANIZER;CN="Protagon":MAILTO:​ office@protagon.net
END:VEVENT
BEGIN:VEVENT
DTSTART;TZID=Europe/Paris:20260516T110000
DTEND;TZID=Europe/Paris:20260516T170000
DTSTAMP:20260420T115934
CREATED:20260407T090350Z
LAST-MODIFIED:20260407T090350Z
UID:10000623-1778929200-1778950800@www.unser-seligenstadt.de
SUMMARY:"The Path of Water and Stone" von Roland Pangrati
DESCRIPTION:Der rumänische Künstler Roland Pangrati zählt zu den wenigen international tätigen Künstlern\, die die traditionelle Technik der japanischen Nihonga-Malerei nutzen. So schafft er überraschende zeitgenössische Werke. \nDie Serie „Weg aus Wasser und Stein“\, inspiriert von der Begegnung zwischen dem Atlantischen Ozean und der portugiesischen Küste\, entfaltet sich als Parabel auf die Erhabenheit der Natur. Es entsteht ein spannungsreiches Zusammenspiel der Elemente mit der außergewöhnlichen Vielfalt der europäischen Landschaft. Seit 2024 wird die Serie in zahlreichen Museen und öffentlichen Galerien präsentiert. Kuratorin ist Dr. Cristina Simion.
URL:https://www.unser-seligenstadt.de/event/the-path-of-water-and-stone-von-roland-pangrati/2026-05-16
LOCATION:Regio Museum\, Klosterhof 2\, Seligenstadt\, Hessen\, 63500\, Germany
CATEGORIES:Kunst, Kultur & Ausstellungen
END:VEVENT
BEGIN:VEVENT
DTSTART;TZID=Europe/Paris:20260516T113000
DTEND;TZID=Europe/Paris:20260516T123000
DTSTAMP:20260420T115934
CREATED:20260105T091327Z
LAST-MODIFIED:20260311T140023Z
UID:10000062-1778931000-1778934600@www.unser-seligenstadt.de
SUMMARY:Öffentliche Stadtführung "Seligenstadt im Überblick"
DESCRIPTION:Sie unternehmen einen Rundgang durch die denkmalgeschützte Altstadt mit ihren zahlreichen Fachwerkhäusern\, der eindrucksvollen Einhardbasilika und den Gärten des ehemaligen Klosters. \nVon März bis Dezember immer samstags um 11:30 Uhr  \nDauer: 60 Minuten \nTreffpunkt: Einhardhaus\, Aschaffenburger Str. 1 \nKosten: 10€ pro Person. Bezahlung vorab in der Tourist-Info. \nVoranmeldung gewünscht unter 06182 961 87 66 oder touristinfo@unser-seligenstadt.de
URL:https://www.unser-seligenstadt.de/event/oeffentliche-stadtfuehrung-seligenstadt-im-ueberblick/2026-05-16
LOCATION:Hessen
CATEGORIES:Führungen,Stadt & Geschichte erleben
ATTACH;FMTTYPE=image/jpeg:https://www.unser-seligenstadt.de/wp-content/uploads/2026/01/Nina-Herold-Seligenstadt-12.jpg
END:VEVENT
END:VCALENDAR