BEGIN:VCALENDAR
VERSION:2.0
PRODID:-//Unser Seligenstadt - ECPv6.15.20//NONSGML v1.0//EN
CALSCALE:GREGORIAN
METHOD:PUBLISH
X-WR-CALNAME:Unser Seligenstadt
X-ORIGINAL-URL:https://www.unser-seligenstadt.de
X-WR-CALDESC:Veranstaltungen für Unser Seligenstadt
REFRESH-INTERVAL;VALUE=DURATION:PT1H
X-Robots-Tag:noindex
X-PUBLISHED-TTL:PT1H
BEGIN:VTIMEZONE
TZID:Europe/Paris
BEGIN:DAYLIGHT
TZOFFSETFROM:+0100
TZOFFSETTO:+0200
TZNAME:CEST
DTSTART:20250330T010000
END:DAYLIGHT
BEGIN:STANDARD
TZOFFSETFROM:+0200
TZOFFSETTO:+0100
TZNAME:CET
DTSTART:20251026T010000
END:STANDARD
BEGIN:DAYLIGHT
TZOFFSETFROM:+0100
TZOFFSETTO:+0200
TZNAME:CEST
DTSTART:20260329T010000
END:DAYLIGHT
BEGIN:STANDARD
TZOFFSETFROM:+0200
TZOFFSETTO:+0100
TZNAME:CET
DTSTART:20261025T010000
END:STANDARD
BEGIN:DAYLIGHT
TZOFFSETFROM:+0100
TZOFFSETTO:+0200
TZNAME:CEST
DTSTART:20270328T010000
END:DAYLIGHT
BEGIN:STANDARD
TZOFFSETFROM:+0200
TZOFFSETTO:+0100
TZNAME:CET
DTSTART:20271031T010000
END:STANDARD
END:VTIMEZONE
BEGIN:VEVENT
DTSTART;TZID=Europe/Paris:20260510T110000
DTEND;TZID=Europe/Paris:20260510T170000
DTSTAMP:20260424T161243
CREATED:20260407T090350Z
LAST-MODIFIED:20260407T090350Z
UID:10000622-1778410800-1778432400@www.unser-seligenstadt.de
SUMMARY:"The Path of Water and Stone" von Roland Pangrati
DESCRIPTION:Der rumänische Künstler Roland Pangrati zählt zu den wenigen international tätigen Künstlern\, die die traditionelle Technik der japanischen Nihonga-Malerei nutzen. So schafft er überraschende zeitgenössische Werke. \nDie Serie „Weg aus Wasser und Stein“\, inspiriert von der Begegnung zwischen dem Atlantischen Ozean und der portugiesischen Küste\, entfaltet sich als Parabel auf die Erhabenheit der Natur. Es entsteht ein spannungsreiches Zusammenspiel der Elemente mit der außergewöhnlichen Vielfalt der europäischen Landschaft. Seit 2024 wird die Serie in zahlreichen Museen und öffentlichen Galerien präsentiert. Kuratorin ist Dr. Cristina Simion.
URL:https://www.unser-seligenstadt.de/event/the-path-of-water-and-stone-von-roland-pangrati/2026-05-10
LOCATION:Regio Museum\, Klosterhof 2\, Seligenstadt\, Hessen\, 63500\, Germany
CATEGORIES:Kunst, Kultur & Ausstellungen
END:VEVENT
BEGIN:VEVENT
DTSTART;TZID=Europe/Paris:20260510T130000
DTEND;TZID=Europe/Paris:20260510T170000
DTSTAMP:20260424T161243
CREATED:20260209T150404Z
LAST-MODIFIED:20260209T150404Z
UID:10000331-1778418000-1778432400@www.unser-seligenstadt.de
SUMMARY:Muttertagscafé im HANS-MEMLING-HAUS
DESCRIPTION:Buntes Programm im HANS-MEMLING-HAUS zum Muttertagscafé \nDas traditionelles Muttertagscafé veranstalten die Freunde der Hans-Memling-Schule e.V. am Sonntag\, den 10. Mai: \nDas Spielmobil des Kinderclubs Seligenstadt und das Fairmobil des Weltladens sind zu Gast; selbstgebackenen Kuchen und Kaffee in gemütlicher Runde; Ausstellung `Van Gogh in Seligenstadt´:  Der Seligenstädter Roland Böndgen hat sich darüber Gedanken gemacht und diese malerisch umgesetzt. Die Veranstaltung begleitet Peter Stritesky mit Gitarre und Gesang\, überwiegend mit  Amerikanischen Klassikern im Geist der 70er Jahre
URL:https://www.unser-seligenstadt.de/event/muttertagscafe-im-hans-memling-haus
LOCATION:HANS-MEMLING-HAUS\, Grosse Maingasse 7 (ehemaliges Schulhaus)\, Seligenstadt\, 63500\, Germany
CATEGORIES:Feste & Tradition,Kinder & Familien,Kunst, Kultur & Ausstellungen
ATTACH;FMTTYPE=image/jpeg:https://www.unser-seligenstadt.de/wp-content/uploads/2026/02/20250411-HMH-Muttertag-.jpg
ORGANIZER;CN="Freunde der Hans-Memling-Schule e. V.":MAILTO:kt@freunde-hms.de
END:VEVENT
BEGIN:VEVENT
DTSTART;TZID=Europe/Paris:20260510T140000
DTEND;TZID=Europe/Paris:20260510T170000
DTSTAMP:20260424T161244
CREATED:20260303T113422Z
LAST-MODIFIED:20260304T090323Z
UID:10000528-1778421600-1778432400@www.unser-seligenstadt.de
SUMMARY:van Gogh in Seligenstadt - Ausstellung im HANS-MEMLING-HAUS
DESCRIPTION:Um es gleich zu sagen: leider war Vincent van Gogh nie in Seligenstadt. Aber welche Bilder wären entstanden\, wenn er es gewesen wäre? Und wie hätten andere berühmte Künstler unser Städtchen gesehen? Der Seligenstädter Roland Böndgen hat sich darüber Gedanken gemacht und Bilder im Stil von Pablo Picasso\, Claude Monet\, Andy Warhol und vielen anderen gemalt\, die ab 15. März in einer Ausstellung auf Einladung der Freunde der Hans-Memling-Schule e.V. im Hans-Memling-Haus an der Basilika zu sehen sind. \nDie Besucherinnen und Besucher erleben den Marktplatz\, die Kirchen und bedeutende historische Seligenstädter Persönlichkeiten aus der Perspektive von Lyonel Feininger\, Keith Haring\, A. R. Penck und Henri Matisse. Das Hans-Memling-Haus zeigt erstmals Bilder\, die nie gemalt wurden\, weil ihre potentiellen Schöpfer unerklärlicherweise nie unser Kleinod am Main besuchten. \nDie Ausstellung ist ein großer Spaß für Kunstkenner\, für Interessierte eine Begegnung mit der Klassischen Moderne und für alle ein anregendes Ratespiel zu Künstlern und Seligenstädter Wahrzeichen. \nDie Ausstellung ist am 15.03.\, 19.04.\, 01.05. und 10.05.2026 jeweils von 14 bis 17 Uhr geöffnet. Der Eintritt ist frei. 
URL:https://www.unser-seligenstadt.de/event/van-gogh-in-seligenstadt-ausstellung-im-hans-memling-haus/2026-05-10
LOCATION:HANS-MEMLING-HAUS\, Grosse Maingasse 7 (ehemaliges Schulhaus)\, Seligenstadt\, 63500\, Germany
CATEGORIES:Kunst, Kultur & Ausstellungen
ATTACH;FMTTYPE=image/jpeg:https://www.unser-seligenstadt.de/wp-content/uploads/2026/02/Plakat.jpg
ORGANIZER;CN="Freunde der Hans-Memling-Schule e. V.":MAILTO:kt@freunde-hms.de
END:VEVENT
BEGIN:VEVENT
DTSTART;TZID=Europe/Paris:20260510T150000
DTEND;TZID=Europe/Paris:20260510T154500
DTSTAMP:20260424T161244
CREATED:20260305T081336Z
LAST-MODIFIED:20260309T084202Z
UID:10000536-1778425200-1778427900@www.unser-seligenstadt.de
SUMMARY:Geführte Tour durch das RegioMuseum „Perlenhäkelei und Frauenrecht im 19. Jahrhundert"
DESCRIPTION:Die Arbeitswelt weiblicher Handarbeiterinnen wird während der Führung „Perlenhäkelei und Frauenrecht im 19. Jahrhundert“ beleuchtet. Im Fokus stehen Fragen des Frauen- und Arbeitsrechts\, aber auch die Thematik Glasperlen sowie beliebte Kleidungsstoffe von Adel und Bürgertum.
URL:https://www.unser-seligenstadt.de/event/gefuehrte-tour-durch-das-regiomuseum-perlenhaekelei-und-frauenrecht-im-19-jahrhundert
LOCATION:Regio Museum\, Klosterhof 2\, Seligenstadt\, Hessen\, 63500\, Germany
CATEGORIES:Feste & Tradition,Führungen,Kinder & Familien
ATTACH;FMTTYPE=image/jpeg:https://www.unser-seligenstadt.de/wp-content/uploads/2026/03/DSC07144-scaled.jpg
END:VEVENT
END:VCALENDAR