BEGIN:VCALENDAR
VERSION:2.0
PRODID:-//Unser Seligenstadt - ECPv6.15.20//NONSGML v1.0//EN
CALSCALE:GREGORIAN
METHOD:PUBLISH
X-WR-CALNAME:Unser Seligenstadt
X-ORIGINAL-URL:https://www.unser-seligenstadt.de
X-WR-CALDESC:Veranstaltungen für Unser Seligenstadt
REFRESH-INTERVAL;VALUE=DURATION:PT1H
X-Robots-Tag:noindex
X-PUBLISHED-TTL:PT1H
BEGIN:VTIMEZONE
TZID:Europe/Paris
BEGIN:DAYLIGHT
TZOFFSETFROM:+0100
TZOFFSETTO:+0200
TZNAME:CEST
DTSTART:20250330T010000
END:DAYLIGHT
BEGIN:STANDARD
TZOFFSETFROM:+0200
TZOFFSETTO:+0100
TZNAME:CET
DTSTART:20251026T010000
END:STANDARD
BEGIN:DAYLIGHT
TZOFFSETFROM:+0100
TZOFFSETTO:+0200
TZNAME:CEST
DTSTART:20260329T010000
END:DAYLIGHT
BEGIN:STANDARD
TZOFFSETFROM:+0200
TZOFFSETTO:+0100
TZNAME:CET
DTSTART:20261025T010000
END:STANDARD
BEGIN:DAYLIGHT
TZOFFSETFROM:+0100
TZOFFSETTO:+0200
TZNAME:CEST
DTSTART:20270328T010000
END:DAYLIGHT
BEGIN:STANDARD
TZOFFSETFROM:+0200
TZOFFSETTO:+0100
TZNAME:CET
DTSTART:20271031T010000
END:STANDARD
END:VTIMEZONE
BEGIN:VEVENT
DTSTART;TZID=Europe/Paris:20260404T100000
DTEND;TZID=Europe/Paris:20260404T153000
DTSTAMP:20260424T204726
CREATED:20260330T092658Z
LAST-MODIFIED:20260330T092658Z
UID:10000609-1775296800-1775316600@www.unser-seligenstadt.de
SUMMARY:Fahrrad-Codierung & Infostand
DESCRIPTION:Zum 10-jährigen Jubiläum von Fahr Rad Seligenstadt bietet der ADFC Seligenstadt/Hainburg/Mainhausen e.V eine Fahrradcodierung an. \nAls Unterlagen ist ein ausgefüllter Codierauftrag\, der Personalausweis\nund der Kaufbeleg (Rechnung) mitzubringen.\nDen Codierauftrag und die Eigentumserklärung finden Sie unter:\nhttps://adfcrtp.blob.core.windows.net/public-production/aeee52ff-0dcf-422e-b3a0-bfb94ed294ee/codierauftrag-pdf.pdf\nhttps://adfcrtp.blob.core.windows.net/public-production/f15adebd-67b9-4a90-95eb-9982ac27dfb3/eigentumserklarung-pdf.pdf \nÜber den Codegenerator https://www.fa-technik-adfc.de/ein können Sie\nsich den Fahrradcode selbst generieren. \nWer keinen Zugang zum Internet hat\, kann seinen Antrag vor Ort\nausfüllen. Ein Fahrrad darf nur codiert werden\, wenn der Eigentümer\nseinen Personalausweis und den Kaufbeleg des Fahrrades vorlegt.\nIst dieser nicht vorhanden\, bitten wir Sie eine Eigentumserklärung\nabzugeben. Die erhobenen Daten werden dann mit der Polizei abgeglichen. \nDie Gebühr beträgt 13\,00 Euro\, ADFC-Mitglieder zahlen die Hälfte. Für\nNeumitglieder ist die Codierung kostenlos. \nWir codieren fast immer am Sattelrohr\, dort wo die Sattelstütze\neingesteckt ist. Hindernisse (Accu\, Schloss) müssen eventuell dazu\nentfernt werden\, Schlüssel dazu nicht vergessen.
URL:https://www.unser-seligenstadt.de/event/fahrrad-codierung-infostand
LOCATION:Babenhäuser Straße 32-34 63500 Seligenstadt\, Babenhäuser Straße 32-34\, Seligenstadt\, Hessen\, 63500\, Germany
CATEGORIES:Sonstiges
ATTACH;FMTTYPE=image/jpeg:https://www.unser-seligenstadt.de/wp-content/uploads/2026/03/Code-Bild-2023-scaled.jpg
ORGANIZER;CN="ADFC Seligenstadt/Hainburg/Mainhausen e.V.":MAILTO:Vorstand@adfc-seligenstadt.de
END:VEVENT
BEGIN:VEVENT
DTSTART;TZID=Europe/Paris:20260404T113000
DTEND;TZID=Europe/Paris:20260404T133000
DTSTAMP:20260424T204726
CREATED:20260122T111130Z
LAST-MODIFIED:20260311T140226Z
UID:10000240-1775302200-1775309400@www.unser-seligenstadt.de
SUMMARY:Öffentliche Stadtführung „Stadt- und BrauErlebnis Seligenstadt“
DESCRIPTION:Geschichte entdecken\, Genuss erleben! Tauchen Sie ein in die charmante Altstadt Seligenstadts und genießen Sie einen unterhaltsamen Rundgang vorbei an Fachwerkhäusern\, Brunnen\, dem lebendigen Marktplatz sowie der Einhard-Basilika und den Gärten des Klosters  – begleitet von spannenden Geschichten aus alten Zeiten \nAnschließend erwartet Sie ein Besuch in der Glaabsbräu\, eine der innovativsten Brauereien Deutschlands. Erleben Sie bei einer Führung durch die Familienausstellung und die neue Brauerei moderne\, handwerkliche Braukunst hautnah. Ein Bierglas als Sammlerstück sowie die Verkostung von Bier aus dem Glaabsbräu Sortiment machen das Stadt- und BrauErlebnis perfekt. \nInhalt: 2 Stunden Führung durch die Altstadt sowie die Glaabsbräu\, ein Bierglas als Sammlerstück\, kleine Bierverkostung in der Brauerei. \nTermine: Am ersten Samstag im Monat um 11:30 Uhr\, Treffpunkt an der TouristInfo: 07.03.2026 | 04.04.2026 | 02.05.2026 | 06.06.2026 | 04.07.2026 | 01.08.2026 | 05.09.2026 | 03.10.2026 | 07.11.2026 | 05.12.2026 \nKosten: 25\,00 € \nBezahlung in der Tourist-Info. Anmeldung unter 06182-9618766 oder touristinfo@unser-seligenstadt.de erwünscht.
URL:https://www.unser-seligenstadt.de/event/stadt-und-brauerlebnis-seligenstadt/2026-04-04
LOCATION:Seligenstadt Altstadtgebiet\, Marktplatz 1\, Seligenstadt\, Hessen\, 63500\, Germany
CATEGORIES:Führungen,Stadt & Geschichte erleben
ATTACH;FMTTYPE=image/jpeg:https://www.unser-seligenstadt.de/wp-content/uploads/2025/10/Brauereifuehrung_03.jpg
ORGANIZER;CN="Seligenstadt Marketing & Tourismus GmbH":MAILTO:touristinfo@unser-seligenstadt.de
END:VEVENT
BEGIN:VEVENT
DTSTART;TZID=Europe/Paris:20260404T113000
DTEND;TZID=Europe/Paris:20260404T133000
DTSTAMP:20260424T204726
CREATED:20260310T112751Z
LAST-MODIFIED:20260310T112751Z
UID:10000575-1775302200-1775309400@www.unser-seligenstadt.de
SUMMARY:Öffentliche Stadtführung „Stadt- und BrauErlebnis Seligenstadt“ - TEST
DESCRIPTION:Der Inhalt ist geschützt.
URL:https://www.unser-seligenstadt.de/event/oeffentliche-stadtfuehrung-stadt-und-brauerlebnis-seligenstadt-test/2026-04-04
LOCATION:Seligenstadt Altstadtgebiet\, Marktplatz 1\, Seligenstadt\, Hessen\, 63500\, Germany
CATEGORIES:Führungen
ORGANIZER;CN="Seligenstadt Marketing & Tourismus GmbH":MAILTO:touristinfo@unser-seligenstadt.de
END:VEVENT
END:VCALENDAR