BEGIN:VCALENDAR
VERSION:2.0
PRODID:-//Unser Seligenstadt - ECPv6.15.20//NONSGML v1.0//EN
CALSCALE:GREGORIAN
METHOD:PUBLISH
X-WR-CALNAME:Unser Seligenstadt
X-ORIGINAL-URL:https://www.unser-seligenstadt.de
X-WR-CALDESC:Veranstaltungen für Unser Seligenstadt
REFRESH-INTERVAL;VALUE=DURATION:PT1H
X-Robots-Tag:noindex
X-PUBLISHED-TTL:PT1H
BEGIN:VTIMEZONE
TZID:Europe/Paris
BEGIN:DAYLIGHT
TZOFFSETFROM:+0100
TZOFFSETTO:+0200
TZNAME:CEST
DTSTART:20250330T010000
END:DAYLIGHT
BEGIN:STANDARD
TZOFFSETFROM:+0200
TZOFFSETTO:+0100
TZNAME:CET
DTSTART:20251026T010000
END:STANDARD
BEGIN:DAYLIGHT
TZOFFSETFROM:+0100
TZOFFSETTO:+0200
TZNAME:CEST
DTSTART:20260329T010000
END:DAYLIGHT
BEGIN:STANDARD
TZOFFSETFROM:+0200
TZOFFSETTO:+0100
TZNAME:CET
DTSTART:20261025T010000
END:STANDARD
BEGIN:DAYLIGHT
TZOFFSETFROM:+0100
TZOFFSETTO:+0200
TZNAME:CEST
DTSTART:20270328T010000
END:DAYLIGHT
BEGIN:STANDARD
TZOFFSETFROM:+0200
TZOFFSETTO:+0100
TZNAME:CET
DTSTART:20271031T010000
END:STANDARD
END:VTIMEZONE
BEGIN:VEVENT
DTSTART;TZID=Europe/Paris:20260320T100000
DTEND;TZID=Europe/Paris:20260320T120000
DTSTAMP:20260424T220101
CREATED:20260313T094917Z
LAST-MODIFIED:20260313T094917Z
UID:10000584-1774000800-1774008000@www.unser-seligenstadt.de
SUMMARY:Gesundheitsvortrag "ohne Medikamente zum Erfolg"
DESCRIPTION:Osteopathie – Andullationstherapie – Orthomolekulare Medizin  \n  \nIhnen wird erklärt und gezeigt\, wie die Behandlungen auch ohne Medikamente erfolgreich sind\, wie Sie Medikamente reduzieren können und Ihre Lebensqualität sich verbessert. \nOhne Medikamente zum Erfolg – Die Ursache behandeln ! Therapie mit Erfolg \nRücken- und Gelenkschmerzen – Herz-Kreislauf – Durchblutungsstörungen – Bluthochdruck – Schwindel – Thrombose – Muskelverspannungen – Muskelkrämpfe – Faszien – Schlafstörungen  – Stoffwechsel – Verdauung – Diabetes – Rheuma – Arthrose – Fibromyalgie – Polyneuropathie – Parkinson – und vieles mehr \nAnmeldung unter Tel. 0 89 – 90 42 98 550  oder  email:  info@dr-med-sl.de \nSie erhalten Info- und Adressmaterial beim Vortrag \n  \n„Tue Deinem Körper etwas Gutes\, damit Deine Seele Lust hat darin zu wohnen“  \nTheresa von Avila \n  \n  \n  \nTeilnahme:  KOSTENFREI \n Tag:             Freitag\, 20. März 2026        \n Zeiten:         10:00 – 12:00 Uhr  oder \n                        15:00 – 17:00 Uhr \n  \nOrt:              BÜRGERHAUS RIESEN \n                      Sackgasse 14 \n                      63500 Seligenstadt
URL:https://www.unser-seligenstadt.de/event/gesundheitsvortrag-ohne-medikamente-zum-erfolg/2026-03-20/1
LOCATION:Bürgerhaus Riesen\, Sackgasse 14\, Seligenstadt\, Hessen\, 63500\, Germany
CATEGORIES:Kurse & Info-Events,Sport & Bewegung,Vorträge
ATTACH;FMTTYPE=image/jpeg:https://www.unser-seligenstadt.de/wp-content/uploads/2026/03/Mensch-BW-WEB-1-MB-scaled.jpg
ORGANIZER;CN="MED-SL Therapiezentrum GmbH":MAILTO:info@dr-med-sl.de
END:VEVENT
BEGIN:VEVENT
DTSTART;TZID=Europe/Paris:20260320T150000
DTEND;TZID=Europe/Paris:20260320T170000
DTSTAMP:20260424T220101
CREATED:20260313T094917Z
LAST-MODIFIED:20260313T094917Z
UID:10000585-1774018800-1774026000@www.unser-seligenstadt.de
SUMMARY:Gesundheitsvortrag "ohne Medikamente zum Erfolg"
DESCRIPTION:Osteopathie – Andullationstherapie – Orthomolekulare Medizin  \n  \nIhnen wird erklärt und gezeigt\, wie die Behandlungen auch ohne Medikamente erfolgreich sind\, wie Sie Medikamente reduzieren können und Ihre Lebensqualität sich verbessert. \nOhne Medikamente zum Erfolg – Die Ursache behandeln ! Therapie mit Erfolg \nRücken- und Gelenkschmerzen – Herz-Kreislauf – Durchblutungsstörungen – Bluthochdruck – Schwindel – Thrombose – Muskelverspannungen – Muskelkrämpfe – Faszien – Schlafstörungen  – Stoffwechsel – Verdauung – Diabetes – Rheuma – Arthrose – Fibromyalgie – Polyneuropathie – Parkinson – und vieles mehr \nAnmeldung unter Tel. 0 89 – 90 42 98 550  oder  email:  info@dr-med-sl.de \nSie erhalten Info- und Adressmaterial beim Vortrag \n  \n„Tue Deinem Körper etwas Gutes\, damit Deine Seele Lust hat darin zu wohnen“  \nTheresa von Avila \n  \n  \n  \nTeilnahme:  KOSTENFREI \n Tag:             Freitag\, 20. März 2026        \n Zeiten:         10:00 – 12:00 Uhr  oder \n                        15:00 – 17:00 Uhr \n  \nOrt:              BÜRGERHAUS RIESEN \n                      Sackgasse 14 \n                      63500 Seligenstadt
URL:https://www.unser-seligenstadt.de/event/gesundheitsvortrag-ohne-medikamente-zum-erfolg/2026-03-20/2
LOCATION:Bürgerhaus Riesen\, Sackgasse 14\, Seligenstadt\, Hessen\, 63500\, Germany
CATEGORIES:Kurse & Info-Events,Sport & Bewegung,Vorträge
ATTACH;FMTTYPE=image/jpeg:https://www.unser-seligenstadt.de/wp-content/uploads/2026/03/Mensch-BW-WEB-1-MB-scaled.jpg
ORGANIZER;CN="MED-SL Therapiezentrum GmbH":MAILTO:info@dr-med-sl.de
END:VEVENT
BEGIN:VEVENT
DTSTART;TZID=Europe/Paris:20260320T180000
DTEND;TZID=Europe/Paris:20260320T193000
DTSTAMP:20260424T220101
CREATED:20260224T141218Z
LAST-MODIFIED:20260224T141231Z
UID:10000461-1774029600-1774035000@www.unser-seligenstadt.de
SUMMARY:Frauenkreis & Klang
DESCRIPTION:🌿 Frauenkreis & Klang \nEin geschützter Raum für Schwesternschaft\, Erdung und gelebte Weiblichkeit. \nIm Alltag tragen viele von uns Verantwortung –\nfür Familie\, Beruf\, Partnerschaft\, Organisation. \nWir funktionieren.\nWir halten alles zusammen. \nUnd verlieren dabei manchmal den Kontakt zu uns selbst. \nDieser Frauenkreis entsteht aus dem Wunsch nach einem sicheren Raum\,\nin dem Frauen sich wieder spüren dürfen. \nEin Raum ohne Vergleich.\nOhne Bewertung.\nOhne Rollen. \nFür dich\, wenn du… \n• dich nach ehrlicher Verbindung unter Frauen sehnst\n• deine Weiblichkeit bewusster leben möchtest\n• wieder mehr in deinem Körper ankommen willst\n• zwischen Verantwortung und eigenen Bedürfnissen pendelst\n• dir einen geschützten Ort wünschst\, an dem du einfach sein darfst \n⸻ \nWas dich hier erwartet \n🌙 Ein achtsam gehaltener Kreis\, in dem du gehört und gesehen wirst\n🌙 Raum für persönliches Teilen – ohne Ratschläge\, ohne Bewertung\n🌙 Sanfte Atem- oder Körperübungen zur Erdung\n🌙 Rituale oder Impulse zu einem gemeinsamen Thema\n🌙 Tiefenentspannung durch Meditation mit tibetischen Klangschalen \nDie Schwingungen wirken regulierend auf dein Nervensystem\nund unterstützen dich dabei\, in eine weichere\, empfangendere Präsenz zu kommen. \n⸻ \n🌸 Schwesternschaft & Weiblichkeit \nWeiblichkeit bedeutet hier nicht ein bestimmtes Bild.\nSondern die Erlaubnis\, ganz da zu sein – mit allem\, was gerade da ist. \nSchwesternschaft entsteht\, wenn Frauen einander ohne Urteil begegnen\nund sich gegenseitig den Raum halten. \n⸻ \n👉 Sichere dir deinen Platz im Kreis.
URL:https://www.unser-seligenstadt.de/event/frauenkreis-klang
LOCATION:Herzraum Seligenstadt\, Aschaffenburger Str. 5\, Seligenstadt\, 63500\, Germany
CATEGORIES:Sonstiges
ATTACH;FMTTYPE=image/jpeg:https://www.unser-seligenstadt.de/wp-content/uploads/2026/02/4082c1e8-ac22-46f0-8702-04ffad683827.jpeg
END:VEVENT
BEGIN:VEVENT
DTSTART;TZID=Europe/Paris:20260320T183000
DTEND;TZID=Europe/Paris:20260320T193000
DTSTAMP:20260424T220101
CREATED:20260224T095112Z
LAST-MODIFIED:20260224T095112Z
UID:10000457-1774031400-1774035000@www.unser-seligenstadt.de
SUMMARY:Ausgleichs-Gymnastik Förderkreis Lichtblick e.V.
DESCRIPTION:Hast du auch das Gefühl\, du solltest mal wieder mehr Sport machen? Wir hätten die\nLösung für dich. Mit Friedrich Klucke\, Bewegungscoach und Personal-Trainer\, machen sogar\nanstrengende Übungen Spaß. \nBequeme Kleidung\, Sportschuhe (für draußen ist es besser)\, etwas zu trinken\, ein Handtuch und ganz wichtig: gute Laune. Denk nicht so lange darüber nach\, sondern komm einfach vorbei und leg los.
URL:https://www.unser-seligenstadt.de/event/ausgleichs-gymnastik-foerderkreis-lichtblick-e-v/2026-03-20
LOCATION:HANS-MEMLING-HAUS\, Grosse Maingasse 7 (ehemaliges Schulhaus)\, Seligenstadt\, 63500\, Germany
CATEGORIES:Kinder & Familien,Kurse & Info-Events,Sport & Bewegung
ORGANIZER;CN="F%C3%B6rderkreis Lichtblick e.V.":MAILTO:Kontak(at)lichtblick-Seligenstadt.de
END:VEVENT
END:VCALENDAR