BEGIN:VCALENDAR
VERSION:2.0
PRODID:-//Unser Seligenstadt - ECPv6.15.20//NONSGML v1.0//EN
CALSCALE:GREGORIAN
METHOD:PUBLISH
X-WR-CALNAME:Unser Seligenstadt
X-ORIGINAL-URL:https://www.unser-seligenstadt.de
X-WR-CALDESC:Veranstaltungen für Unser Seligenstadt
REFRESH-INTERVAL;VALUE=DURATION:PT1H
X-Robots-Tag:noindex
X-PUBLISHED-TTL:PT1H
BEGIN:VTIMEZONE
TZID:Europe/Paris
BEGIN:DAYLIGHT
TZOFFSETFROM:+0100
TZOFFSETTO:+0200
TZNAME:CEST
DTSTART:20250330T010000
END:DAYLIGHT
BEGIN:STANDARD
TZOFFSETFROM:+0200
TZOFFSETTO:+0100
TZNAME:CET
DTSTART:20251026T010000
END:STANDARD
BEGIN:DAYLIGHT
TZOFFSETFROM:+0100
TZOFFSETTO:+0200
TZNAME:CEST
DTSTART:20260329T010000
END:DAYLIGHT
BEGIN:STANDARD
TZOFFSETFROM:+0200
TZOFFSETTO:+0100
TZNAME:CET
DTSTART:20261025T010000
END:STANDARD
BEGIN:DAYLIGHT
TZOFFSETFROM:+0100
TZOFFSETTO:+0200
TZNAME:CEST
DTSTART:20270328T010000
END:DAYLIGHT
BEGIN:STANDARD
TZOFFSETFROM:+0200
TZOFFSETTO:+0100
TZNAME:CET
DTSTART:20271031T010000
END:STANDARD
END:VTIMEZONE
BEGIN:VEVENT
DTSTART;TZID=Europe/Paris:20260315T110000
DTEND;TZID=Europe/Paris:20260315T170000
DTSTAMP:20260424T191325
CREATED:20260212T075935Z
LAST-MODIFIED:20260213T073352Z
UID:10000357-1773572400-1773594000@www.unser-seligenstadt.de
SUMMARY:Sonderausstellung "Fastnacht"
DESCRIPTION:In Zusammenarbeit mit der Interessensgemeinschaft Seligenstädter Fastnachtsmuseum e.V. werden Schätze und Prachtstücke aus der Geschichte der Seligenstädter Fastnacht gezeigt. Die Ausstellung ist paralell zu den Öffnungszeiten des Museums Samstag\, Sonntag und an den Feiertagen von 11:00 bis 17:00 Uhr zu besichtigen.
URL:https://www.unser-seligenstadt.de/event/sonderausstellung-fastnacht/2026-03-15
LOCATION:Regio Museum\, Klosterhof 2\, Seligenstadt\, Hessen\, 63500\, Germany
CATEGORIES:Kunst, Kultur & Ausstellungen
ATTACH;FMTTYPE=image/jpeg:https://www.unser-seligenstadt.de/wp-content/uploads/2026/02/4013_525_1_g.jpg
END:VEVENT
BEGIN:VEVENT
DTSTART;TZID=Europe/Paris:20260315T140000
DTEND;TZID=Europe/Paris:20260315T170000
DTSTAMP:20260424T191325
CREATED:20260303T113422Z
LAST-MODIFIED:20260304T090323Z
UID:10000525-1773583200-1773594000@www.unser-seligenstadt.de
SUMMARY:van Gogh in Seligenstadt - Ausstellung im HANS-MEMLING-HAUS
DESCRIPTION:Um es gleich zu sagen: leider war Vincent van Gogh nie in Seligenstadt. Aber welche Bilder wären entstanden\, wenn er es gewesen wäre? Und wie hätten andere berühmte Künstler unser Städtchen gesehen? Der Seligenstädter Roland Böndgen hat sich darüber Gedanken gemacht und Bilder im Stil von Pablo Picasso\, Claude Monet\, Andy Warhol und vielen anderen gemalt\, die ab 15. März in einer Ausstellung auf Einladung der Freunde der Hans-Memling-Schule e.V. im Hans-Memling-Haus an der Basilika zu sehen sind. \nDie Besucherinnen und Besucher erleben den Marktplatz\, die Kirchen und bedeutende historische Seligenstädter Persönlichkeiten aus der Perspektive von Lyonel Feininger\, Keith Haring\, A. R. Penck und Henri Matisse. Das Hans-Memling-Haus zeigt erstmals Bilder\, die nie gemalt wurden\, weil ihre potentiellen Schöpfer unerklärlicherweise nie unser Kleinod am Main besuchten. \nDie Ausstellung ist ein großer Spaß für Kunstkenner\, für Interessierte eine Begegnung mit der Klassischen Moderne und für alle ein anregendes Ratespiel zu Künstlern und Seligenstädter Wahrzeichen. \nDie Ausstellung ist am 15.03.\, 19.04.\, 01.05. und 10.05.2026 jeweils von 14 bis 17 Uhr geöffnet. Der Eintritt ist frei. 
URL:https://www.unser-seligenstadt.de/event/van-gogh-in-seligenstadt-ausstellung-im-hans-memling-haus/2026-03-15
LOCATION:HANS-MEMLING-HAUS\, Grosse Maingasse 7 (ehemaliges Schulhaus)\, Seligenstadt\, 63500\, Germany
CATEGORIES:Kunst, Kultur & Ausstellungen
ATTACH;FMTTYPE=image/jpeg:https://www.unser-seligenstadt.de/wp-content/uploads/2026/02/Plakat.jpg
ORGANIZER;CN="Freunde der Hans-Memling-Schule e. V.":MAILTO:kt@freunde-hms.de
END:VEVENT
BEGIN:VEVENT
DTSTART;TZID=Europe/Paris:20260315T150000
DTEND;TZID=Europe/Paris:20260315T154500
DTSTAMP:20260424T191325
CREATED:20260305T081608Z
LAST-MODIFIED:20260309T084005Z
UID:10000533-1773586800-1773589500@www.unser-seligenstadt.de
SUMMARY:Geführte Tour durch das RegioMuseum "Einhard: Gelehrter und Visionär"
DESCRIPTION:Der geführte Rundgang widmet sich einer Schlüsselfigur der Stadtgeschichte\, dem Gelehrten und Visionär Einhard. Im Mittelpunkt stehen sein Wirken als Gelehrter am Hof Karls des Großen\, seine Rolle als Stadtvater Seligenstadts\, die „Sagengestalt Einhard“ und der Reliquienraub.
URL:https://www.unser-seligenstadt.de/event/gefuehrte-tour-durch-das-regiomuseum-einhard-gelehrter-und-visionaer
LOCATION:Regio Museum\, Klosterhof 2\, Seligenstadt\, Hessen\, 63500\, Germany
CATEGORIES:Führungen,Kinder & Familien
ATTACH;FMTTYPE=image/jpeg:https://www.unser-seligenstadt.de/wp-content/uploads/2026/03/DSC07144-scaled.jpg
END:VEVENT
BEGIN:VEVENT
DTSTART;TZID=Europe/Paris:20260315T150000
DTEND;TZID=Europe/Paris:20260315T180000
DTSTAMP:20260424T191325
CREATED:20260123T093833Z
LAST-MODIFIED:20260211T084629Z
UID:10000287-1773586800-1773597600@www.unser-seligenstadt.de
SUMMARY:Ausstellung: Perspektiven der Fotografie
DESCRIPTION:Ausstellung in der Galerie Kunstforum im Alten Haus\, Frankfurter Straße 13 \n\n\nSo.\, 11. Januar bis So.\, 15. März 2026  \nÖffnungszeiten: Fr.\, Sa.\, So. und feiertags von \n15:00 bis 18:00 Uhr und nach Vereinbarung \nEintritt frei  \n„Perspektiven der Fotografie“ wirft den Blick auf drei sehr unterschiedliche Auseinandersetzungen mit dem Medium Fotografie\, inhaltlich wie technisch. Gezeigt werden Werke von Simon L. Leo\, Sandra Mann (Foto oben) und Marc Peschke: Analogfotografie sowie Digitalfotografie\, in Varianten\, die auch das klassische 2D-Format der Fotografie überführen ins Skulpturale. Inhaltlich wird dabei ein großer Bogen gespannt\, die Auseinandersetzungen reichen von Urbanität und Architektur bis hin zu Landschafts- und Porträtfotografie und Nachhaltigkeitsthemen im Kontext von Mensch-Umwelt oder Mensch-Tier-Relation. Stilistisch wird dabei ebenfalls an unterschiedliche Genres angeknüpft. Alle Künstler/innen haben einen Bezug zum Rhein-Main-Gebiet\, insbesondere zu Frankfurt und stellen damit eine Auswahl regional wirksamer zeitgenössischer Fotokunst vor. Die Ausstellung wird unterstützt vom Kulturfonds Frankfurt RheinMain. \n\n\n 
URL:https://www.unser-seligenstadt.de/event/ausstellung-perspektiven-der-fotografie/2026-03-15
LOCATION:Galerie Kunstforum\, Frankfurter Str. 13\, Seligenstadt\, Hessen\, 63500
CATEGORIES:Kunst, Kultur & Ausstellungen
ATTACH;FMTTYPE=image/jpeg:https://www.unser-seligenstadt.de/wp-content/uploads/2026/01/39ab3bf46ced9d4856c25205fb92582a_XL.jpg
ORGANIZER;CN="Kunstforum":MAILTO:info@ku-fo.de
END:VEVENT
END:VCALENDAR