BEGIN:VCALENDAR
VERSION:2.0
PRODID:-//Unser Seligenstadt - ECPv6.15.20//NONSGML v1.0//EN
CALSCALE:GREGORIAN
METHOD:PUBLISH
X-ORIGINAL-URL:https://www.unser-seligenstadt.de
X-WR-CALDESC:Veranstaltungen für Unser Seligenstadt
REFRESH-INTERVAL;VALUE=DURATION:PT1H
X-Robots-Tag:noindex
X-PUBLISHED-TTL:PT1H
BEGIN:VTIMEZONE
TZID:Europe/Paris
BEGIN:DAYLIGHT
TZOFFSETFROM:+0100
TZOFFSETTO:+0200
TZNAME:CEST
DTSTART:20250330T010000
END:DAYLIGHT
BEGIN:STANDARD
TZOFFSETFROM:+0200
TZOFFSETTO:+0100
TZNAME:CET
DTSTART:20251026T010000
END:STANDARD
BEGIN:DAYLIGHT
TZOFFSETFROM:+0100
TZOFFSETTO:+0200
TZNAME:CEST
DTSTART:20260329T010000
END:DAYLIGHT
BEGIN:STANDARD
TZOFFSETFROM:+0200
TZOFFSETTO:+0100
TZNAME:CET
DTSTART:20261025T010000
END:STANDARD
BEGIN:DAYLIGHT
TZOFFSETFROM:+0100
TZOFFSETTO:+0200
TZNAME:CEST
DTSTART:20270328T010000
END:DAYLIGHT
BEGIN:STANDARD
TZOFFSETFROM:+0200
TZOFFSETTO:+0100
TZNAME:CET
DTSTART:20271031T010000
END:STANDARD
END:VTIMEZONE
BEGIN:VEVENT
DTSTART;TZID=Europe/Paris:20260201T150000
DTEND;TZID=Europe/Paris:20260201T180000
DTSTAMP:20260421T123846
CREATED:20260123T093833Z
LAST-MODIFIED:20260211T084629Z
UID:10000269-1769958000-1769968800@www.unser-seligenstadt.de
SUMMARY:Ausstellung: Perspektiven der Fotografie
DESCRIPTION:Ausstellung in der Galerie Kunstforum im Alten Haus\, Frankfurter Straße 13 \n\n\nSo.\, 11. Januar bis So.\, 15. März 2026  \nÖffnungszeiten: Fr.\, Sa.\, So. und feiertags von \n15:00 bis 18:00 Uhr und nach Vereinbarung \nEintritt frei  \n„Perspektiven der Fotografie“ wirft den Blick auf drei sehr unterschiedliche Auseinandersetzungen mit dem Medium Fotografie\, inhaltlich wie technisch. Gezeigt werden Werke von Simon L. Leo\, Sandra Mann (Foto oben) und Marc Peschke: Analogfotografie sowie Digitalfotografie\, in Varianten\, die auch das klassische 2D-Format der Fotografie überführen ins Skulpturale. Inhaltlich wird dabei ein großer Bogen gespannt\, die Auseinandersetzungen reichen von Urbanität und Architektur bis hin zu Landschafts- und Porträtfotografie und Nachhaltigkeitsthemen im Kontext von Mensch-Umwelt oder Mensch-Tier-Relation. Stilistisch wird dabei ebenfalls an unterschiedliche Genres angeknüpft. Alle Künstler/innen haben einen Bezug zum Rhein-Main-Gebiet\, insbesondere zu Frankfurt und stellen damit eine Auswahl regional wirksamer zeitgenössischer Fotokunst vor. Die Ausstellung wird unterstützt vom Kulturfonds Frankfurt RheinMain. \n\n\n 
URL:https://www.unser-seligenstadt.de/event/ausstellung-perspektiven-der-fotografie/2026-02-01
LOCATION:Galerie Kunstforum\, Frankfurter Str. 13\, Seligenstadt\, Hessen\, 63500
CATEGORIES:Kunst, Kultur & Ausstellungen
ATTACH;FMTTYPE=image/jpeg:https://www.unser-seligenstadt.de/wp-content/uploads/2026/01/39ab3bf46ced9d4856c25205fb92582a_XL.jpg
ORGANIZER;CN="Kunstforum":MAILTO:info@ku-fo.de
END:VEVENT
BEGIN:VEVENT
DTSTART;TZID=Europe/Paris:20260201T160000
DTEND;TZID=Europe/Paris:20260201T180000
DTSTAMP:20260421T123847
CREATED:20260115T102428Z
LAST-MODIFIED:20260115T102428Z
UID:10000193-1769961600-1769968800@www.unser-seligenstadt.de
SUMMARY:Erstes Allgemeines Babenhäuser Pfarrer(!)- Kabarett
DESCRIPTION:Die SPD Seligenstadt freut sich sehr\, eine außergewöhnliche kulturelle Veranstaltung in Seligenstadt ankündigen zu können. Am Sonntag\, den 01. Februar 2026\, ist das „Erste Allgemeine Babenhäuser Pfarrer(!)-Kabarett“ zu Gast und bringt Humor\, Satire und nachdenkliche Pointen in die Einhardstadt. \nDie SPD Seligenstadt freut sich sehr\, eine außergewöhnliche kulturelle Veranstaltung in Seligenstadt ankündigen zu können. Am Sonntag\, den 01. Februar 2026\, ist das „Erste Allgemeine Babenhäuser Pfarrer(!)-Kabarett“ zu Gast und bringt Humor\, Satire und nachdenkliche Pointen in die Einhardstadt. \n  \nBeginn der Veranstaltung ist um 16:00 Uhr\, Veranstaltungsort ist das St. Josefshaus. Das Publikum erwartet ein Kabarettprogramm der besonderen Art: Mit Witz\, Selbstironie und einem feinen Gespür für gesellschaftliche Themen nimmt der Akteur den Alltag\, Kirche\, Politik und menschliche Eigenheiten aufs Korn – respektvoll\, kritisch und stets unterhaltsam. Das Ausrufezeichen im Namen ist dabei Programm. \n  \nMit der Einladung dieses Kabaretts setzt die SPD Seligenstadt bewusst auf ein kulturelles Angebot\, das Menschen zusammenbringt und zum gemeinsamen Lachen ebenso einlädt wie zum Nachdenken. Gerade in bewegten Zeiten ist Humor ein wichtiges Mittel\, um miteinander ins Gespräch zu kommen und unterschiedliche Perspektiven zuzulassen. \n  \nDer Eintritt zur Veranstaltung ist frei\, dennoch sind Spenden für den Verein Lichtblick e.V. Seligenstadt sind herzlich willkommen\, um solche kulturellen Angebote auch künftig ermöglichen zu können. \n  \nDie SPD Seligenstadt lädt alle Bürgerinnen und Bürger – unabhängig von Alter\, Konfession oder politischer Einstellung – herzlich ein\, diesen besonderen Nachmittag im St. Josefshaus zu verbringen und sich von einem ebenso ungewöhnlichen wie unterhaltsamen Kabarettprogramm begeistern zu lassen.
URL:https://www.unser-seligenstadt.de/event/erstes-allgemeines-babenhaeuser-pfarrer-kabarett
LOCATION:Jakobsaal im St. Josefshaus\, Jakobstraße 5\, Seligenstadt\, Hessen\, 63500\, Germany
CATEGORIES:Kunst, Kultur & Ausstellungen
ATTACH;FMTTYPE=image/jpeg:https://www.unser-seligenstadt.de/wp-content/uploads/2026/01/Eine-Veranstaltung-der-SPD-Seligenstadt-Erstes-Allgemeines-DAS-ERSTE-BABENH_20260113_010748_0000.jpg
END:VEVENT
BEGIN:VEVENT
DTSTART;TZID=Europe/Paris:20260201T173000
DTEND;TZID=Europe/Paris:20260201T183000
DTSTAMP:20260421T123847
CREATED:20260116T120544Z
LAST-MODIFIED:20260116T120544Z
UID:10000209-1769967000-1769970600@www.unser-seligenstadt.de
SUMMARY:Musik bei Kerzenschein\, "Tanz durch die Zeit"
DESCRIPTION:„Blech pur“ lädt zu einer Reise durch die Musikgeschichte der letzten 500 Jahre ein mit Werken von Heinrich Schütz\, Humperdinck\, Gershwin und anderen. Dazu gibt es besinnliche und heitere Geschichten aus der Welt des glänzenden Blechs
URL:https://www.unser-seligenstadt.de/event/musik-bei-kerzenschein-tanz-durch-die-zeit
LOCATION:Evangelische Kirche\, Aschaffenburger Str. 105\, Seligenstadt\, Hessen\, 63500\, Germany
CATEGORIES:Konzerte & Live-Musik
ATTACH;FMTTYPE=image/png:https://www.unser-seligenstadt.de/wp-content/uploads/2026/01/plakat_mbk_2026_02-1-scaled.png
END:VEVENT
BEGIN:VEVENT
DTSTART;TZID=Europe/Paris:20260201T181100
DTEND;TZID=Europe/Paris:20260201T235900
DTSTAMP:20260421T123847
CREATED:20260106T124321Z
LAST-MODIFIED:20260109T073025Z
UID:10000180-1769969460-1769990340@www.unser-seligenstadt.de
SUMMARY:kfd-Frauensitzung
DESCRIPTION:Am Sonntag\, den 01.02.2026 ist es soweit\, um 18.11 Uhr öffnet sich der Vorhang für die traditionelle kfd-Frauensitzung und die Vorbereitungen laufen bereits auf Hochtouren.\nIm Seligenstädter Riesensaal wartet ein abwechslungsreiches und kurzweiliges Programm mit Vorträgen\, Tänzen und Gesang auf die Besucher und wie in jedem Jahr\, wird der Erlös der Sitzung wieder einem karitativen Zweck gespendet. \nDie Karten können ab sofort bei Rosi Kühn telefonisch unter 0176 43276161 bestellt werden.\nDie Kartenausgabe ist am 26.01.2026 zwischen 18.00 Uhr und 19.00 Uhr im Foyer des St. Josefshaus.
URL:https://www.unser-seligenstadt.de/event/kfd-frauensitzung
LOCATION:Bürgerhaus Riesen\, Sackgasse 14\, Seligenstadt\, Hessen\, 63500\, Germany
CATEGORIES:Konzerte & Live-Musik
ATTACH;FMTTYPE=image/png:https://www.unser-seligenstadt.de/wp-content/uploads/2026/01/Screenshot-2026-01-09-082453.png
END:VEVENT
END:VCALENDAR