BEGIN:VCALENDAR
VERSION:2.0
PRODID:-//Unser Seligenstadt - ECPv6.15.20//NONSGML v1.0//EN
CALSCALE:GREGORIAN
METHOD:PUBLISH
X-ORIGINAL-URL:https://www.unser-seligenstadt.de
X-WR-CALDESC:Veranstaltungen für Unser Seligenstadt
REFRESH-INTERVAL;VALUE=DURATION:PT1H
X-Robots-Tag:noindex
X-PUBLISHED-TTL:PT1H
BEGIN:VTIMEZONE
TZID:Europe/Paris
BEGIN:DAYLIGHT
TZOFFSETFROM:+0100
TZOFFSETTO:+0200
TZNAME:CEST
DTSTART:20240331T010000
END:DAYLIGHT
BEGIN:STANDARD
TZOFFSETFROM:+0200
TZOFFSETTO:+0100
TZNAME:CET
DTSTART:20241027T010000
END:STANDARD
BEGIN:DAYLIGHT
TZOFFSETFROM:+0100
TZOFFSETTO:+0200
TZNAME:CEST
DTSTART:20250330T010000
END:DAYLIGHT
BEGIN:STANDARD
TZOFFSETFROM:+0200
TZOFFSETTO:+0100
TZNAME:CET
DTSTART:20251026T010000
END:STANDARD
BEGIN:DAYLIGHT
TZOFFSETFROM:+0100
TZOFFSETTO:+0200
TZNAME:CEST
DTSTART:20260329T010000
END:DAYLIGHT
BEGIN:STANDARD
TZOFFSETFROM:+0200
TZOFFSETTO:+0100
TZNAME:CET
DTSTART:20261025T010000
END:STANDARD
END:VTIMEZONE
BEGIN:VEVENT
DTSTART;VALUE=DATE:20251127
DTEND;VALUE=DATE:20251231
DTSTAMP:20260422T122835
CREATED:20251209T072038Z
LAST-MODIFIED:20260105T081341Z
UID:10000006-1764201600-1767139199@www.unser-seligenstadt.de
SUMMARY:Seligenstädter Adventsmarkt
DESCRIPTION:Wenn festlicher Lichterglanz die historische Altstadt von Seligenstadt erfüllt\, ist es wieder so weit: Der beliebte Adventsmarkt öffnet seine Tore! Vom 27.11. bis 14.12. verwandeln sich die Gassen rund um den Marktplatz in eine adventliches „Winterwonderland“.  \nDer kleine Budenzauber\, mit seinem besonderem Ambiente auf dem Freihofplatz\, bleibt bis 30.12. geöffnet. Vom 24.12. bis 26.12.2025 feiern auch die Aussteller Weihnachten – daher bleibt der Markt zu diesem Zeitpunkt geschlossen. \nZahlreiche liebevoll geschmückte Stände bieten handgefertigte Geschenkideen\, kunstvolles Handwerk und kulinarische Köstlichkeiten – von duftenden Waffeln über heißen Glühwein bis hin zu deftigen Spezialitäten. \nMit seinem besonderen Flair zwischen Fachwerkhäusern und festlicher Beleuchtung zählt der Adventsmarkt in Seligenstadt zu den schönsten der Region – ein Muss für alle\, die die Adventszeit in stimmungsvoller Atmosphäre genießen möchten. \nÖffnungszeiten:\nMontag – Donnerstag: 15.00 – 20.00 Uhr\nFreitag: 15.00 – 21.00 Uhr\nSamstag: 10.00 – 21.00 Uhr\nSonntag: 12.00 – 20.00 Uhr
URL:https://www.unser-seligenstadt.de/event/seligenstaedter-adventsmarkt
LOCATION:Seligenstadt\, Frankfurter Straße 18\, Seligenstadt\, Hessen\, 63500\, Germany
CATEGORIES:Feste & Tradition,Kulinarik & Märkte
ATTACH;FMTTYPE=image/jpeg:https://www.unser-seligenstadt.de/wp-content/uploads/2024/12/ADVENT_2025_A6.jpg
END:VEVENT
BEGIN:VEVENT
DTSTART;TZID=Europe/Paris:20251223T170000
DTEND;TZID=Europe/Paris:20251223T180000
DTSTAMP:20260422T122835
CREATED:20251215T102052Z
LAST-MODIFIED:20251215T112203Z
UID:10000044-1766509200-1766512800@www.unser-seligenstadt.de
SUMMARY:Lebendiger Adventskalender St. Margareta
DESCRIPTION:Wir wollen in diesem Jahr mit dem Lebendigen Adventskalender wieder dazu beitragen\, die Adventszeit besinnlicher zu erleben\, mit anderen zusammen Gemeinschaft und Zeit zu teilen. Treffpunkt ist am Hauptportal der Kirche St. Margareta.\nVon dort laufen wir …. wohin? Das bleibt eine Überraschung! Das Angebot gilt für Alt und Jung\, Klein und Groß\, Familien oder Singles\, alle die als Christen die Adventszeit besonders erleben möchten.
URL:https://www.unser-seligenstadt.de/event/lebendiger-adventskalender-st-margareta/2025-12-23
LOCATION:Kirche St. Margareta\, Offenbacher Landstraße 26\, Seligenstadt\, Hessen\, 63500\, Germany
CATEGORIES:Kinder & Familien
ATTACH;FMTTYPE=image/png:https://www.unser-seligenstadt.de/wp-content/uploads/2025/12/Seligenstadt-erleben-2.png
END:VEVENT
END:VCALENDAR