BEGIN:VCALENDAR
VERSION:2.0
PRODID:-//Unser Seligenstadt - ECPv6.15.17.1//NONSGML v1.0//EN
CALSCALE:GREGORIAN
METHOD:PUBLISH
X-WR-CALNAME:Unser Seligenstadt
X-ORIGINAL-URL:https://www.unser-seligenstadt.de
X-WR-CALDESC:Veranstaltungen für Unser Seligenstadt
REFRESH-INTERVAL;VALUE=DURATION:PT1H
X-Robots-Tag:noindex
X-PUBLISHED-TTL:PT1H
BEGIN:VTIMEZONE
TZID:Europe/Paris
BEGIN:DAYLIGHT
TZOFFSETFROM:+0100
TZOFFSETTO:+0200
TZNAME:CEST
DTSTART:20250330T010000
END:DAYLIGHT
BEGIN:STANDARD
TZOFFSETFROM:+0200
TZOFFSETTO:+0100
TZNAME:CET
DTSTART:20251026T010000
END:STANDARD
BEGIN:DAYLIGHT
TZOFFSETFROM:+0100
TZOFFSETTO:+0200
TZNAME:CEST
DTSTART:20260329T010000
END:DAYLIGHT
BEGIN:STANDARD
TZOFFSETFROM:+0200
TZOFFSETTO:+0100
TZNAME:CET
DTSTART:20261025T010000
END:STANDARD
BEGIN:DAYLIGHT
TZOFFSETFROM:+0100
TZOFFSETTO:+0200
TZNAME:CEST
DTSTART:20270328T010000
END:DAYLIGHT
BEGIN:STANDARD
TZOFFSETFROM:+0200
TZOFFSETTO:+0100
TZNAME:CET
DTSTART:20271031T010000
END:STANDARD
END:VTIMEZONE
BEGIN:VEVENT
DTSTART;TZID=Europe/Paris:20260317T190000
DTEND;TZID=Europe/Paris:20260317T203000
DTSTAMP:20260419T164338
CREATED:20260305T075559Z
LAST-MODIFIED:20260305T075559Z
UID:11102-1773774000-1773779400@www.unser-seligenstadt.de
SUMMARY:Rheuma-Liga Hessen e.V.: Info & Austauschabend
DESCRIPTION:Die SHG Seligenstadt der Rheuma-Liga Hessen e.V. veranstaltet wieder Treffen unter dem Motto Info & Austausch. \nEingeladen sind Betroffene\, Anhörige oder am Thema Rheuma Interessierte. Das Treffen findet am Dienstag\, 17. März 2026 um 19.00 Uhr \nin ev. Gemeindehaus\, Jahnstr. 24 in Seligenstadt statt
URL:https://www.unser-seligenstadt.de/event/rheuma-liga-hessen-e-v-info-austauschabend
LOCATION:Evangelisches Gemeindezentrum\, Jahnstraße 24\, Seligenstadt\, Hessen\, 63500\, Germany
CATEGORIES:Sonstiges
ORGANIZER;CN="Rheuma-Liga Hessen e.V. SHG Seligenstadt":MAILTO:baerbel.otto64@t-online.de
END:VEVENT
END:VCALENDAR