BEGIN:VCALENDAR
VERSION:2.0
PRODID:-//Unser Seligenstadt - ECPv6.15.17.1//NONSGML v1.0//EN
CALSCALE:GREGORIAN
METHOD:PUBLISH
X-WR-CALNAME:Unser Seligenstadt
X-ORIGINAL-URL:https://www.unser-seligenstadt.de
X-WR-CALDESC:Veranstaltungen für Unser Seligenstadt
REFRESH-INTERVAL;VALUE=DURATION:PT1H
X-Robots-Tag:noindex
X-PUBLISHED-TTL:PT1H
BEGIN:VTIMEZONE
TZID:Europe/Paris
BEGIN:DAYLIGHT
TZOFFSETFROM:+0100
TZOFFSETTO:+0200
TZNAME:CEST
DTSTART:20250330T010000
END:DAYLIGHT
BEGIN:STANDARD
TZOFFSETFROM:+0200
TZOFFSETTO:+0100
TZNAME:CET
DTSTART:20251026T010000
END:STANDARD
BEGIN:DAYLIGHT
TZOFFSETFROM:+0100
TZOFFSETTO:+0200
TZNAME:CEST
DTSTART:20260329T010000
END:DAYLIGHT
BEGIN:STANDARD
TZOFFSETFROM:+0200
TZOFFSETTO:+0100
TZNAME:CET
DTSTART:20261025T010000
END:STANDARD
BEGIN:DAYLIGHT
TZOFFSETFROM:+0100
TZOFFSETTO:+0200
TZNAME:CEST
DTSTART:20270328T010000
END:DAYLIGHT
BEGIN:STANDARD
TZOFFSETFROM:+0200
TZOFFSETTO:+0100
TZNAME:CET
DTSTART:20271031T010000
END:STANDARD
END:VTIMEZONE
BEGIN:VEVENT
DTSTART;TZID=Europe/Paris:20260207T111100
DTEND;TZID=Europe/Paris:20260207T124500
DTSTAMP:20260419T191837
CREATED:20260105T123951Z
LAST-MODIFIED:20260211T090657Z
UID:10000094-1770462660-1770468300@www.unser-seligenstadt.de
SUMMARY:Humbatäte Tschingderassassa! - Die Fastnachtsführung durch´s Schlumberland
DESCRIPTION:Fastnachtsitzung-To-Go\nBegleiten Sie einen originalen Seligenstädter Fastnachter\, der schon viele Jahre auf den närrischen Bühnen der Stadt unterwegs ist\, auf seinem fastnachtlichen Gang durch die Stadt. Sie erfahren auf einem Stück des Zugweges des Rosenmontagszuges Wissenswertes zur Seligenstädter Fastnacht und hören Auszüge aus aktuellen Fastnachtsvorträgen.\nSozusagen eine Fastnachtsitzung–To–Go.\nGerne dürfen die Teilnehmer auch verkleidet zur Fastnachtsitzung–To–Go  kommen. \nLeistung: Führung\, inkl. verschiedener Verköstigungen\nTreffpunkt: 15 Minuten vor Beginn an der Evangelische Kirche\, Aschaffenburger Straße 105\, 63500 Seligenstadt\nEndpunkt: Klaa–Frankreich (nähe Steinheimer Tor) Seligenstadt\nRollstuhl– und/oder Kinderwagengerecht: Ja\nMindestalter: keine Altersbegrenzung\nParken: Parkdeck „Kloster“ – gegenüber der evangelischen Kirche \nAnmeldung erforderlich über die Tourist-Info 06182-9618766
URL:https://www.unser-seligenstadt.de/event/humbataete-tschingderassassa-die-fastnachtsfuehrung-durchs-schlumberland/2026-02-07
LOCATION:Seligenstadt Altstadtgebiet\, Marktplatz 1\, Seligenstadt\, Hessen\, 63500\, Germany
CATEGORIES:Stadt & Geschichte erleben
ATTACH;FMTTYPE=image/jpeg:https://www.unser-seligenstadt.de/wp-content/uploads/2024/09/Fastnacht-rolandbabbelt-2024-2-e1735816070610.jpeg
ORGANIZER;CN="Roland Wolf":MAILTO:info@rolandbabbelt.de
END:VEVENT
END:VCALENDAR