BEGIN:VCALENDAR
VERSION:2.0
PRODID:-//Unser Seligenstadt - ECPv6.15.20//NONSGML v1.0//EN
CALSCALE:GREGORIAN
METHOD:PUBLISH
X-WR-CALNAME:Unser Seligenstadt
X-ORIGINAL-URL:https://www.unser-seligenstadt.de
X-WR-CALDESC:Veranstaltungen für Unser Seligenstadt
REFRESH-INTERVAL;VALUE=DURATION:PT1H
X-Robots-Tag:noindex
X-PUBLISHED-TTL:PT1H
BEGIN:VTIMEZONE
TZID:Europe/Paris
BEGIN:DAYLIGHT
TZOFFSETFROM:+0100
TZOFFSETTO:+0200
TZNAME:CEST
DTSTART:20250330T010000
END:DAYLIGHT
BEGIN:STANDARD
TZOFFSETFROM:+0200
TZOFFSETTO:+0100
TZNAME:CET
DTSTART:20251026T010000
END:STANDARD
BEGIN:DAYLIGHT
TZOFFSETFROM:+0100
TZOFFSETTO:+0200
TZNAME:CEST
DTSTART:20260329T010000
END:DAYLIGHT
BEGIN:STANDARD
TZOFFSETFROM:+0200
TZOFFSETTO:+0100
TZNAME:CET
DTSTART:20261025T010000
END:STANDARD
BEGIN:DAYLIGHT
TZOFFSETFROM:+0100
TZOFFSETTO:+0200
TZNAME:CEST
DTSTART:20270328T010000
END:DAYLIGHT
BEGIN:STANDARD
TZOFFSETFROM:+0200
TZOFFSETTO:+0100
TZNAME:CET
DTSTART:20271031T010000
END:STANDARD
END:VTIMEZONE
BEGIN:VEVENT
DTSTART;TZID=Europe/Paris:20260603T190000
DTEND;TZID=Europe/Paris:20260603T190000
DTSTAMP:20260420T115135
CREATED:20260415T124040Z
LAST-MODIFIED:20260415T124040Z
UID:12841-1780513200-1780513200@www.unser-seligenstadt.de
SUMMARY:Crazy Oldie Night
DESCRIPTION:Erlebe eine unvergessliche Nacht voller Nostalgie bei der Crazy Oldie Night!Freu dich auf die besten Hits der 60er und 70er Jahre – von Schlager über Pop bis Rock – und tanze durch die Nacht nach dem Motto: Je oller\, je doller! \nMit DJ 4U an den Turntables ist für beste Stimmung gesorgt. Los geht’s am 03.06. ab 19 Uhr in Seligenstadt. \nSchnapp dir deine Freunde und feiere mit uns eine legendäre Party! \nEinlass: 19:00 Uhr\nEintritt: VVK 6 Euro\, AK 10 Euro \nWo: Kultinarisch\, Seligenstadt/Klein-Welzheim\, Hauptstraße 94\nParkplätze sind ausreichend vorhanden \n🎫 VORVERKAUF:\n➡ Eventlocation Kultinarisch\, Hauptstraße 94\, Seligenstadt/Klein-Welzheim\, Eingang hinter Apotheke\, (Telefon 0 61 82 / 77 284 – 0) \n➡ Oder per PayPal \nBitte bei Bezahlung über Paypal\, 6\,00 € an info@megastar-disco.de schicken. Bitte geben Sie Name(n) und Telefonnummer(n) an. \nSie stehen nun auf der Gästeliste und erhalten Ihr Einlassbändchen vor Ort. Bitte halten Sie Ihren Personalausweis bereit. \nBei Fragen schreiben Sie uns gerne eine Nachricht an (Whatsapp) 0160 94757732. \n  \nWir freuen uns auf Sie! \n  \nErworbene Tickets sind vom Umtausch und von der Rückerstattung ausgeschlossen.
URL:https://www.unser-seligenstadt.de/event/crazy-oldie-night
LOCATION:Kultinarisch\, Hauptstr. 94\, Seligenstadt-Klein-Welzheim\, Hessen\, 63500\, Germany
CATEGORIES:Konzerte & Live-Musik
ATTACH;FMTTYPE=image/jpeg:https://www.unser-seligenstadt.de/wp-content/uploads/2026/04/crazy-oldie-night.jpg
ORGANIZER;CN="Megastar GmbH":MAILTO:info@megastar-gmbh.de
END:VEVENT
END:VCALENDAR